From mboxrd@z Thu Jan 1 00:00:00 1970 Return-Path: Received: from mails.dpdk.org (mails.dpdk.org [217.70.189.124]) by inbox.dpdk.org (Postfix) with ESMTP id 517BD48AFC for ; Thu, 13 Nov 2025 19:14:38 +0100 (CET) Received: from mails.dpdk.org (localhost [127.0.0.1]) by mails.dpdk.org (Postfix) with ESMTP id 4AB2D40151; Thu, 13 Nov 2025 19:14:38 +0100 (CET) Received: from mail-pl1-f228.google.com (mail-pl1-f228.google.com [209.85.214.228]) by mails.dpdk.org (Postfix) with ESMTP id 0400940151 for ; Thu, 13 Nov 2025 19:14:37 +0100 (CET) Received: by mail-pl1-f228.google.com with SMTP id d9443c01a7336-298250d7769so6999965ad.0 for ; Thu, 13 Nov 2025 10:14:36 -0800 (PST) DKIM-Signature: v=1; a=rsa-sha256; c=relaxed/relaxed; d=iol.unh.edu; s=unh-iol; t=1763057676; x=1763662476; darn=dpdk.org; h=references:in-reply-to:cc:to:from:subject:message-id:date:from:to :cc:subject:date:message-id:reply-to; bh=HoaMEzdtUdkJ62bc96h+JsQCvQhmMFfYLDbAq0Hxf70=; b=gH/VgadGcmqK79vYtjbyX/E8++N7fKpRyO+/nxDfn+W2aXMoEiufOVAbgT7LE2mgFV tzdNgZKA7OrvsDJuD6o8Vbmx545ZhWDsiSWiXxSZqb0nVcV/VGrkl3/U5AUw2Jc+4xyK PLdCB+D4Qmu93gFnkfmkMvUlJdFc5c9Nf7CuA= X-Google-DKIM-Signature: v=1; a=rsa-sha256; c=relaxed/relaxed; d=1e100.net; s=20230601; t=1763057676; x=1763662476; h=references:in-reply-to:cc:to:from:subject:message-id:date:x-gm-gg :x-gm-message-state:from:to:cc:subject:date:message-id:reply-to; bh=HoaMEzdtUdkJ62bc96h+JsQCvQhmMFfYLDbAq0Hxf70=; b=oevG8ICG4JdDchZWs8w7KLgxF67ya2NeOfvio8MJumcLUWcBuETOY9CMvjXRF1m9xs JhKztMOfIQXP62Ll3tVyuF1356R7OmezmCr1pPydcxDM3z1gwPGRKRrzUJO606yeMJRj Yd/kv66MqITdGMp23ZY7CcJcc/KqkQcQpd98ej3wBZj6r7X1ajklEgl6rfVZOAWW9sMm 2ly0NfFQjIQ8hO8lUpUtgHwGJlPWYs6GGFa2Q5XgHfYP2SEeKuF5ULxAo10F9AmLd2rJ UPJHQmuikeSSU5QGTerdORv1yVtG92sDUC92+CjDUpfskMeIB1sYIY2at/bBHku7n8/d zFXg== X-Gm-Message-State: AOJu0YxI7zEDAZbL/0zNZUNJvrFHyOfP6ffEuU6SeD3cBOHKRiWeknQM 0wbckVFqkQNcsDf9gvqP2t3ymWClUByN+Fre/2Wl6A21BMlw/IKC+ht8DTGyM5FKzUQZBdXI27e hL9kcn/4KfPq0wUJwSm9fQhflS6zhft0Am6vlcRfdwncJ X-Gm-Gg: ASbGnctSPMUZlnlRbCwIvoGOptIK2hKA7Sd8hkysSDEFx4IjhtxgiHcRZRMeC2hfndo 8K4VuLkICXwdNq7zsGT+StrghH7Ke8hB8BME1CPkg4ZQozXr/IiS8J3ZOjm2IjMLju9Sejkgd0M 2VbU1j75kMAaoM7OAM0AhFNwJ56bE3uniHOrg6kACiKwpdhvTymNfOiAMoMe8rduLRyfurBlecX oyZKL/NZYxqoQYLrM2EncaOIjRA8kWzRaqDWh+SrVqw1t/boW+z2hzLKExf1vj2NtFu38eOoLhF V11MZTXFKcNlZdiJmydfkR+r5Z9vHvZ7KUdGSbGYgFJCTLwX8cPFi/QseBjO7/1x08AVBAcV88P AacJKBAe/AfcHt1dCTmN4Q9FudnPLxBk= X-Google-Smtp-Source: AGHT+IHgoGyePuDPpR6RkferXqhwxAWNvyR9EYMfOYR2FVkRYdUuojAa784II10d8GVqMsNeRFH5r2DaZ4I8 X-Received: by 2002:a05:693c:2a04:b0:2a4:7270:1788 with SMTP id 5a478bee46e88-2a4abb104d4mr125125eec.19.1763057676030; Thu, 13 Nov 2025 10:14:36 -0800 (PST) Received: from postal.iol.unh.edu (postal.iol.unh.edu. [132.177.123.84]) by smtp-relay.gmail.com with ESMTPS id 5a478bee46e88-2a49da02784sm40804eec.1.2025.11.13.10.14.35 (version=TLS1_2 cipher=ECDHE-ECDSA-AES128-GCM-SHA256 bits=128/128); Thu, 13 Nov 2025 10:14:36 -0800 (PST) X-Relaying-Domain: iol.unh.edu Date: Thu, 13 Nov 2025 10:14:36 -0800 (PST) Message-ID: <6916200c.050a0220.3d5c8.199eSMTPIN_ADDED_MISSING@mx.google.com> Received: from [172.21.0.3] (unknown [172.18.0.240]) by postal.iol.unh.edu (Postfix) with ESMTP id 1D677604D420; Thu, 13 Nov 2025 13:14:35 -0500 (EST) Subject: |SUCCESS| pw158771 [PATCH] net/mlx5: fix uninitialized warning From: dpdklab@iol.unh.edu To: Test Report Cc: dpdk-test-reports@iol.unh.edu In-Reply-To: <20251113163301.285550-1-stephen@networkplumber.org> References: <20251113163301.285550-1-stephen@networkplumber.org> Content-Type: text/plain X-BeenThere: test-report@dpdk.org X-Mailman-Version: 2.1.29 Precedence: list List-Id: automatic DPDK test reports List-Unsubscribe: , List-Archive: List-Post: List-Help: List-Subscribe: , Errors-To: test-report-bounces@dpdk.org Test-Label: iol-unit-amd64-testing Test-Status: SUCCESS http://dpdk.org/patch/158771 _Testing PASS_ Submitter: Stephen Hemminger Date: Thursday, November 13 2025 16:33:01 DPDK git baseline: Repo:dpdk-next-net-mlx Branch: master CommitID:ae657d56b1f0ea979b3f611edf28d773efc2ddcf 158771 --> testing pass Upstream job id: Generic-Unit-Test-DPDK#392359 Test environment and result as below: +-------------------------------+----------------+ | Environment | dpdk_unit_test | +===============================+================+ | CentOS Stream 9 | PASS | +-------------------------------+----------------+ | CentOS Stream 10 | PASS | +-------------------------------+----------------+ | Fedora Linux 40 | PASS | +-------------------------------+----------------+ | Debian GNU/Linux 12 | PASS | +-------------------------------+----------------+ | Fedora Linux 41 | PASS | +-------------------------------+----------------+ | Fedora Linux 42 | PASS | +-------------------------------+----------------+ | Red Hat Enterprise Linux 8.10 | PASS | +-------------------------------+----------------+ | Ubuntu 20.04 | PASS | +-------------------------------+----------------+ | Red Hat Enterprise Linux 9.5 | PASS | +-------------------------------+----------------+ | Ubuntu 24.04 | PASS | +-------------------------------+----------------+ | Ubuntu 22.04 | PASS | +-------------------------------+----------------+ CentOS Stream 9 Kernel: 5.15 Compiler: gcc gcc (GCC) 11.5.0 20240719 (Red Hat 11.5.0-11) CentOS Stream 10 Kernel: 5.15 Compiler: gcc gcc (GCC) 14.2.1 20250110 (Red Hat 14.2.1-8) Fedora Linux 40 Kernel: 5.15 Compiler: gcc gcc (GCC) 14.2.1 20240912 (Red Hat 14.2.1-3) Debian GNU/Linux 12 Kernel: 5.15 Compiler: gcc gcc (Debian 12.2.0-14+deb12u1) 12.2.0 Fedora Linux 41 Kernel: 5.15 Compiler: gcc gcc (GCC) 14.3.1 20250523 (Red Hat 14.3.1-1) Fedora Linux 42 Kernel: 5.15 Compiler: gcc gcc (GCC) 15.2.1 20250808 (Red Hat 15.2.1-1) Red Hat Enterprise Linux 8.10 Kernel: 5.15 Compiler: gcc gcc (GCC) 8.5.0 20210514 (Red Hat 8.5.0-22) Ubuntu 20.04 Kernel: 5.15 Compiler: gcc gcc (Ubuntu 9.4.0-1ubuntu1~20.04.2) 9.4.0 Red Hat Enterprise Linux 9.5 Kernel: 5.15 Compiler: gcc gcc (GCC) 11.5.0 20240719 (Red Hat 11.5.0-2) Ubuntu 24.04 Kernel: 5.15 Compiler: gcc gcc (Ubuntu 13.3.0-6ubuntu2~24.04) 13.3.0 Ubuntu 22.04 Kernel: 5.15 Compiler: gcc gcc (Ubuntu 11.4.0-1ubuntu1~22.04) 11.4.0 To view detailed results, visit: https://lab.dpdk.org/results/dashboard/patchsets/34579/ UNH-IOL DPDK Community Lab To manage your email subscriptions, visit: https://lab.dpdk.org/results/dashboard/preferences/subscriptions/