From mboxrd@z Thu Jan 1 00:00:00 1970 Return-Path: Received: from mails.dpdk.org (mails.dpdk.org [217.70.189.124]) by inbox.dpdk.org (Postfix) with ESMTP id AF8A548AFC for ; Thu, 13 Nov 2025 19:17:07 +0100 (CET) Received: from mails.dpdk.org (localhost [127.0.0.1]) by mails.dpdk.org (Postfix) with ESMTP id 8313340151; Thu, 13 Nov 2025 19:17:07 +0100 (CET) Received: from mail-qv1-f100.google.com (mail-qv1-f100.google.com [209.85.219.100]) by mails.dpdk.org (Postfix) with ESMTP id A284340151 for ; Thu, 13 Nov 2025 19:17:05 +0100 (CET) Received: by mail-qv1-f100.google.com with SMTP id 6a1803df08f44-8823e39c581so13595546d6.3 for ; Thu, 13 Nov 2025 10:17:05 -0800 (PST) DKIM-Signature: v=1; a=rsa-sha256; c=relaxed/relaxed; d=iol.unh.edu; s=unh-iol; t=1763057825; x=1763662625; darn=dpdk.org; h=references:in-reply-to:cc:to:from:subject:message-id:date:from:to :cc:subject:date:message-id:reply-to; bh=pf1hgwpu2M1gLCrPz/uPK4Kgsm0p8eFr0XokBcTaBnM=; b=jb4w3s0XfwJoCF3SrBx9iaLt8W1Z912a8ud6wxcm76HJ1LGf16bQUELkyXKFpUjI73 TgS4MLspK+NIr26gJWbeDCfNB8YaVDcn+fjXR3mu6+ModWED/OZ3AFcnLh+8Yb+P+K8Z yr4c2jAWujPo5DD6fP2z+I13cGbMONFNdlMdM= X-Google-DKIM-Signature: v=1; a=rsa-sha256; c=relaxed/relaxed; d=1e100.net; s=20230601; t=1763057825; x=1763662625; h=references:in-reply-to:cc:to:from:subject:message-id:date:x-gm-gg :x-gm-message-state:from:to:cc:subject:date:message-id:reply-to; bh=pf1hgwpu2M1gLCrPz/uPK4Kgsm0p8eFr0XokBcTaBnM=; b=m/vBb+S0ZwcQY9gwEjLxrtGcXTeMyMOIW/YjFNX297byCZhf9ztJPsHWs5cdC/XNGa lCtsdQVK3f85rcCVSxHaiu38g5M46ujccSphxpBm1vUmgsjdhTfwpJqfmCr7LhhXz/gE JU+GY7CxclfMiz8BTefwYieDho5Rpi7WB3dEfraYReD+M9ZAndannnPpg+9RuXRN9Y4i TAVKWoofdJ1OXNdW3pre5GLjqgEqibjCXDe7Qyag8lHBNE6FtOddQ9KvO3pbniMKCB44 4veVPxpwavGK80S2BPs9gxI2DQSya5mGThlV48fHc1dggQhm4vK/dyZOX8Sw+2Qp0EP2 sFUA== X-Gm-Message-State: AOJu0Yxl1P+IflhUiZCmXORBl7Vm+vgSGrgWv3FMBaD/ULIMGTMc0M1Z RwN36iTGuEvUOD5VV/axZd2OE3XVOlhrXBU30RtSdGekP358TAR+K2r1PicSNCkt/w3eOXiKOQJ 9xqOl7lJsVTWu9JQS/8i2VjLvot0ME/rgNlVa2b+iV2R2FwF29FRDCgz8yuqr X-Gm-Gg: ASbGncuB85qdNONXSMuAuwHOwL40VIXnR9yWRdg1LNcAlRFcs7vpWXAYROCZiHjNqPj NTBD7RwaF8p/SjQGQooN/GFqqCBhD5Mru4d5Zuq0Dpv0dEU/+GyUZs8unyVbSxccwVt84FL6PTm tjnzsyfEq+avyXwAo8Z0RcKA2Nib9mp2IWUPjOaZfatusttGs640z8YVlcQnkqAVTPRa8WBZwfO 2SRGoCX8LjKx/+xEsIV1szyGW7A2fqPs3O+NgQv1J3/JEqeNSilOE7ntIYUFlTF8O0hRloNyk83 kklaWMz7zBfNyzel0RwuP6EPD/ZXxpp3oiQ3A8QxYsCR3fl3XjXp4E+iVvbyUvD5dwYJURjmVsl rtuRhd4pZ X-Google-Smtp-Source: AGHT+IHDYWJE8SYL1oR8/djzaiJ+rc7UGpvusr7x30Ls5iAjgx/7jw3rBRnHRsSkN6Bgb921AKlfFoUBByJs X-Received: by 2002:a05:6214:1d2e:b0:880:49f2:38b2 with SMTP id 6a1803df08f44-882925bd9e0mr1416806d6.14.1763057824914; Thu, 13 Nov 2025 10:17:04 -0800 (PST) Received: from postal.iol.unh.edu (postal.iol.unh.edu. [2606:4100:3880:1234::84]) by smtp-relay.gmail.com with ESMTPS id 6a1803df08f44-882862b3ddasm2910506d6.1.2025.11.13.10.17.04 (version=TLS1_2 cipher=ECDHE-ECDSA-AES128-GCM-SHA256 bits=128/128); Thu, 13 Nov 2025 10:17:04 -0800 (PST) X-Relaying-Domain: iol.unh.edu Date: Thu, 13 Nov 2025 10:17:04 -0800 (PST) Message-ID: <691620a0.d40a0220.29ea87.d70fSMTPIN_ADDED_MISSING@mx.google.com> Received: from [172.21.0.2] (unknown [172.18.0.240]) by postal.iol.unh.edu (Postfix) with ESMTP id 9EEA3604D420; Thu, 13 Nov 2025 13:17:04 -0500 (EST) Subject: |SUCCESS| pw158668 [PATCH] common/mlx5: add BlueField-4 DPU From: dpdklab@iol.unh.edu To: Test Report Cc: dpdk-test-reports@iol.unh.edu In-Reply-To: <20251111121628.75282-1-rasland@nvidia.com> References: <20251111121628.75282-1-rasland@nvidia.com> Content-Type: text/plain X-BeenThere: test-report@dpdk.org X-Mailman-Version: 2.1.29 Precedence: list List-Id: automatic DPDK test reports List-Unsubscribe: , List-Archive: List-Post: List-Help: List-Subscribe: , Errors-To: test-report-bounces@dpdk.org Test-Label: iol-compile-amd64-testing Test-Status: SUCCESS http://dpdk.org/patch/158668 _Testing PASS_ Submitter: Raslan Darawsheh Date: Tuesday, November 11 2025 12:16:28 DPDK git baseline: Repo:dpdk Branch: master CommitID:b63e7dbfb076d6a8247dcab014421d7b59e20255 158668 --> testing pass Upstream job id: Windows-Compile-DPDK-Native#32296 Test environment and result as below: +-------------------------------+--------------------+------------------+-------------------+-------------------------+ | Environment | dpdk_meson_compile | dpdk_compile_ovs | dpdk_msvc_compile | dpdk_llvm_clang_compile | +===============================+====================+==================+===================+=========================+ | CentOS Stream 9 | PASS | SKIPPED | SKIPPED | SKIPPED | +-------------------------------+--------------------+------------------+-------------------+-------------------------+ | CentOS Stream 10 | PASS | SKIPPED | SKIPPED | SKIPPED | +-------------------------------+--------------------+------------------+-------------------+-------------------------+ | Debian GNU/Linux 12 | PASS | SKIPPED | SKIPPED | SKIPPED | +-------------------------------+--------------------+------------------+-------------------+-------------------------+ | Fedora Linux 42 | PASS | PASS | SKIPPED | SKIPPED | +-------------------------------+--------------------+------------------+-------------------+-------------------------+ | Red Hat Enterprise Linux 8.10 | PASS | SKIPPED | SKIPPED | SKIPPED | +-------------------------------+--------------------+------------------+-------------------+-------------------------+ | Ubuntu 20.04 | PASS | SKIPPED | SKIPPED | SKIPPED | +-------------------------------+--------------------+------------------+-------------------+-------------------------+ | openSUSE Leap 15.6 | PASS | SKIPPED | SKIPPED | SKIPPED | +-------------------------------+--------------------+------------------+-------------------+-------------------------+ | Ubuntu 22.04 | PASS | SKIPPED | SKIPPED | SKIPPED | +-------------------------------+--------------------+------------------+-------------------+-------------------------+ | Ubuntu 24.04 | PASS | PASS | SKIPPED | SKIPPED | +-------------------------------+--------------------+------------------+-------------------+-------------------------+ | Red Hat Enterprise Linux 9.5 | PASS | SKIPPED | SKIPPED | SKIPPED | +-------------------------------+--------------------+------------------+-------------------+-------------------------+ | Alpine Linux 3.22.0 | PASS | SKIPPED | SKIPPED | SKIPPED | +-------------------------------+--------------------+------------------+-------------------+-------------------------+ | FreeBSD 14.2 | PASS | SKIPPED | SKIPPED | SKIPPED | +-------------------------------+--------------------+------------------+-------------------+-------------------------+ | Windows Server 2022 | SKIPPED | SKIPPED | PASS | PASS | +-------------------------------+--------------------+------------------+-------------------+-------------------------+ CentOS Stream 9 Kernel: 5.15 Compiler: gcc gcc (GCC) 11.5.0 20240719 (Red Hat 11.5.0-11) CentOS Stream 10 Kernel: 5.15 Compiler: gcc gcc (GCC) 14.2.1 20250110 (Red Hat 14.2.1-8) Debian GNU/Linux 12 Kernel: 5.15 Compiler: gcc gcc (Debian 12.2.0-14+deb12u1) 12.2.0 Fedora Linux 42 Kernel: 5.15 Compiler: gcc gcc (GCC) 15.2.1 20250808 (Red Hat 15.2.1-1) Red Hat Enterprise Linux 8.10 Kernel: 5.15 Compiler: gcc gcc (GCC) 8.5.0 20210514 (Red Hat 8.5.0-22) Ubuntu 20.04 Kernel: 5.15 Compiler: gcc gcc (Ubuntu 9.4.0-1ubuntu1~20.04.2) 9.4.0 openSUSE Leap 15.6 Kernel: 5.15 Compiler: gcc gcc (SUSE Linux) 7.5.0 Ubuntu 22.04 Kernel: 5.15 Compiler: gcc gcc (Ubuntu 11.4.0-1ubuntu1~22.04) 11.4.0 Ubuntu 24.04 Kernel: 5.15 Compiler: gcc gcc (Ubuntu 13.3.0-6ubuntu2~24.04) 13.3.0 Red Hat Enterprise Linux 9.5 Kernel: 5.15 Compiler: gcc gcc (GCC) 11.5.0 20240719 (Red Hat 11.5.0-2) Alpine Linux 3.22.0 Kernel: 5.15 Compiler: gcc gcc (Alpine 14.2.0) 14.2.0 FreeBSD 14.2 Kernel: 14.2-RELEASE Compiler: clang 18.1.6 Windows Server 2022 Kernel: 10.0.20348.2031 Compiler: clang 15.0.7, gcc 14.1.0 (MinGW), and MSVC VS 19.39.33521 To view detailed results, visit: https://lab.dpdk.org/results/dashboard/patchsets/34536/ UNH-IOL DPDK Community Lab To manage your email subscriptions, visit: https://lab.dpdk.org/results/dashboard/preferences/subscriptions/