From mboxrd@z Thu Jan 1 00:00:00 1970 Return-Path: Received: from mails.dpdk.org (mails.dpdk.org [217.70.189.124]) by inbox.dpdk.org (Postfix) with ESMTP id 87D0948AFC for ; Thu, 13 Nov 2025 19:25:22 +0100 (CET) Received: from mails.dpdk.org (localhost [127.0.0.1]) by mails.dpdk.org (Postfix) with ESMTP id 664AB40151; Thu, 13 Nov 2025 19:25:22 +0100 (CET) Received: from mail-qv1-f97.google.com (mail-qv1-f97.google.com [209.85.219.97]) by mails.dpdk.org (Postfix) with ESMTP id 79B5140151 for ; Thu, 13 Nov 2025 19:25:20 +0100 (CET) Received: by mail-qv1-f97.google.com with SMTP id 6a1803df08f44-88267973e5cso7249706d6.3 for ; Thu, 13 Nov 2025 10:25:20 -0800 (PST) DKIM-Signature: v=1; a=rsa-sha256; c=relaxed/relaxed; d=iol.unh.edu; s=unh-iol; t=1763058320; x=1763663120; darn=dpdk.org; h=references:in-reply-to:cc:to:from:subject:message-id:date:from:to :cc:subject:date:message-id:reply-to; bh=12rZRZ4j+yBif5I/Bu2MWaqDAI2WLmYDe1IThengTa4=; b=B0JveAk++1PfbuxcEXQlZWz6L0KoiPduYiQ7Mt3dp6YKy/CKsznLOp3GhKpKW/0yTI ZtQJduaiya6uhGkbWC3ct1X2NoDJpKqMFvx/nZJfNgX6L90N2T0I3BmKsyO7dgQclvTk 4SJWqow9EWToaDuR3epCU7lIeTK16JlBL8ZA0= X-Google-DKIM-Signature: v=1; a=rsa-sha256; c=relaxed/relaxed; d=1e100.net; s=20230601; t=1763058320; x=1763663120; h=references:in-reply-to:cc:to:from:subject:message-id:date:x-gm-gg :x-gm-message-state:from:to:cc:subject:date:message-id:reply-to; bh=12rZRZ4j+yBif5I/Bu2MWaqDAI2WLmYDe1IThengTa4=; b=jwEmbcF+3wZ1zo54hAmVigat8wva/b7wRq5O6rSHGoNy49S4p+ajigzX3+TYIjwGGZ 1h+F0AcIQxdg42ZEzRLuSiKk9wfE2KmWctPhugyAIgwfYYgntnmW2TuWdvbWim1FWkwG /99GAt4VUIwE/5hyXkH/ChO4rlnVbAH12Z6QnuZUPNgxb8rkhXojJHtr8Ix0T+E/Ae6X gQsB/E8NdEF5YAz6BnD3GVhzQXcddkYwxC67HITYKMTWiTBVUlW8sYrmjGfSPjZRFZ13 LZPAxf9njoW7YtuFS1QdZS4bPlT1W6EEFQHcK3YfHjk02s6zAdBR4bQlcvJeMVeJY/K8 PwWQ== X-Gm-Message-State: AOJu0Yx7WGVVBVO3aVUsDkPNPpMiNpiJsnX6NkKwqx0kSAlwSScrlo3/ PvCny9E/cNnN2Qp4GHQ5soLACWSL8kYjY4ZgmvBmoe5Gon/M+FAzbL39VyLlSHTvW5PdV5mz+pf TT04emavKBj8hqYGkaNUeG5KNp8rb1iFvfrMdg4VlRYq3 X-Gm-Gg: ASbGncs//mX8VPz2up85jbwB3uTbgnjdvRRUhnvoklMJ4v+rWL1V2WoxdjGDaPplkU/ qZvP2dCiqe60tAjo1rK7XbMJ4emOYWnIhQrze2ExqLWCHrI2FYq3ZbdBBfuRP5Ixo2LGoMihRqt 7rnE+w7OXmNDzDfC8Cf/gEi/M58mfIN1t20+89h7oaf+miTdslxcqvUGSDVoK9Mklt5TFLvOEJ5 KidU2i1HebVxcru5t/WgAdnrd+v+adLzRgUkxOTCLEbOCTSvejkdf5KE1CCmT95b2SuMyXlexoZ tLourUaHG6HL4IiC1fVhA5e4yKoi1Q1gSOpYOEal4Wmyk8l8hSbEE75hcjPj4GdU++Xfovj2uXU /kjbt7d5WFTkj7QLuU5GHfdrXjBg+feQ= X-Google-Smtp-Source: AGHT+IFumjJ3hEB0wqpQqXRap4RCKgwbHl/CuFz0t7WQt6/z2wzMqwIbtaXByDgWg+0l5F/zBZxDpnQ0Vz1t X-Received: by 2002:ad4:5ba6:0:b0:880:5851:3c61 with SMTP id 6a1803df08f44-88292456d61mr2203036d6.0.1763058319660; Thu, 13 Nov 2025 10:25:19 -0800 (PST) Received: from postal.iol.unh.edu (postal.iol.unh.edu. [132.177.123.84]) by smtp-relay.gmail.com with ESMTPS id 6a1803df08f44-882862b39f1sm2829176d6.6.2025.11.13.10.25.19 (version=TLS1_2 cipher=ECDHE-ECDSA-AES128-GCM-SHA256 bits=128/128); Thu, 13 Nov 2025 10:25:19 -0800 (PST) X-Relaying-Domain: iol.unh.edu Date: Thu, 13 Nov 2025 10:25:19 -0800 (PST) Message-ID: <6916228f.d40a0220.4efac.cd3cSMTPIN_ADDED_MISSING@mx.google.com> Received: from [172.21.0.2] (unknown [172.18.0.240]) by postal.iol.unh.edu (Postfix) with ESMTP id 692E160003E8; Thu, 13 Nov 2025 13:25:19 -0500 (EST) Subject: |SUCCESS| pw158699 [PATCH] net/ice: fix path selection for QinQ Tx o From: dpdklab@iol.unh.edu To: Test Report Cc: dpdk-test-reports@iol.unh.edu, Bruce Richardson In-Reply-To: <20251112115726.1286735-1-bruce.richardson@intel.com> References: <20251112115726.1286735-1-bruce.richardson@intel.com> Content-Type: text/plain X-BeenThere: test-report@dpdk.org X-Mailman-Version: 2.1.29 Precedence: list List-Id: automatic DPDK test reports List-Unsubscribe: , List-Archive: List-Post: List-Help: List-Subscribe: , Errors-To: test-report-bounces@dpdk.org Test-Label: iol-unit-amd64-testing Test-Status: SUCCESS http://dpdk.org/patch/158699 _Testing PASS_ Submitter: Bruce Richardson Date: Wednesday, November 12 2025 11:57:26 DPDK git baseline: Repo:dpdk-next-net-intel Branch: master CommitID:1655dc989bc95fa85fc76d32912d2e46c0851148 158699 --> testing pass Upstream job id: Generic-VM-Unit-Test-DPDK#32491 Test environment and result as below: +-------------------------------+----------------+ | Environment | dpdk_unit_test | +===============================+================+ | Debian GNU/Linux 12 | PASS | +-------------------------------+----------------+ | Fedora Linux 40 | PASS | +-------------------------------+----------------+ | CentOS Stream 9 | PASS | +-------------------------------+----------------+ | Fedora Linux 41 | PASS | +-------------------------------+----------------+ | CentOS Stream 10 | PASS | +-------------------------------+----------------+ | Fedora Linux 42 | PASS | +-------------------------------+----------------+ | Red Hat Enterprise Linux 8.10 | PASS | +-------------------------------+----------------+ | Ubuntu 22.04 | PASS | +-------------------------------+----------------+ | Ubuntu 20.04 | PASS | +-------------------------------+----------------+ | Red Hat Enterprise Linux 9.5 | PASS | +-------------------------------+----------------+ | Ubuntu 24.04 | PASS | +-------------------------------+----------------+ | Windows Server 2022 | PASS | +-------------------------------+----------------+ Debian GNU/Linux 12 Kernel: 5.15 Compiler: gcc gcc (Debian 12.2.0-14+deb12u1) 12.2.0 Fedora Linux 40 Kernel: 5.15 Compiler: gcc gcc (GCC) 14.2.1 20240912 (Red Hat 14.2.1-3) CentOS Stream 9 Kernel: 5.15 Compiler: gcc gcc (GCC) 11.5.0 20240719 (Red Hat 11.5.0-11) Fedora Linux 41 Kernel: 5.15 Compiler: gcc gcc (GCC) 14.3.1 20250523 (Red Hat 14.3.1-1) CentOS Stream 10 Kernel: 5.15 Compiler: gcc gcc (GCC) 14.2.1 20250110 (Red Hat 14.2.1-8) Fedora Linux 42 Kernel: 5.15 Compiler: gcc gcc (GCC) 15.2.1 20250808 (Red Hat 15.2.1-1) Red Hat Enterprise Linux 8.10 Kernel: 5.15 Compiler: gcc gcc (GCC) 8.5.0 20210514 (Red Hat 8.5.0-22) Ubuntu 22.04 Kernel: 5.15 Compiler: gcc gcc (Ubuntu 11.4.0-1ubuntu1~22.04) 11.4.0 Ubuntu 20.04 Kernel: 5.15 Compiler: gcc gcc (Ubuntu 9.4.0-1ubuntu1~20.04.2) 9.4.0 Red Hat Enterprise Linux 9.5 Kernel: 5.15 Compiler: gcc gcc (GCC) 11.5.0 20240719 (Red Hat 11.5.0-2) Ubuntu 24.04 Kernel: 5.15 Compiler: gcc gcc (Ubuntu 13.3.0-6ubuntu2~24.04) 13.3.0 Windows Server 2022 Kernel: 10.0.20348.2031 Compiler: clang 15.0.7, gcc 14.1.0 (MinGW), and MSVC VS 19.39.33521 To view detailed results, visit: https://lab.dpdk.org/results/dashboard/patchsets/34548/ UNH-IOL DPDK Community Lab To manage your email subscriptions, visit: https://lab.dpdk.org/results/dashboard/preferences/subscriptions/