From mboxrd@z Thu Jan 1 00:00:00 1970 Return-Path: Received: from mails.dpdk.org (mails.dpdk.org [217.70.189.124]) by inbox.dpdk.org (Postfix) with ESMTP id 1EC9848AFC for ; Thu, 13 Nov 2025 19:32:11 +0100 (CET) Received: from mails.dpdk.org (localhost [127.0.0.1]) by mails.dpdk.org (Postfix) with ESMTP id EEEF040151; Thu, 13 Nov 2025 19:32:10 +0100 (CET) Received: from mail-pg1-f225.google.com (mail-pg1-f225.google.com [209.85.215.225]) by mails.dpdk.org (Postfix) with ESMTP id 6A38740151 for ; Thu, 13 Nov 2025 19:32:09 +0100 (CET) Received: by mail-pg1-f225.google.com with SMTP id 41be03b00d2f7-b55517e74e3so967770a12.2 for ; Thu, 13 Nov 2025 10:32:09 -0800 (PST) DKIM-Signature: v=1; a=rsa-sha256; c=relaxed/relaxed; d=iol.unh.edu; s=unh-iol; t=1763058728; x=1763663528; darn=dpdk.org; h=references:in-reply-to:cc:to:from:subject:message-id:date:from:to :cc:subject:date:message-id:reply-to; bh=B4PCuRWlEInYb022V9lwhIPobXynY8wNVfMi61e2H4Y=; b=K1+w9injEm4DsXzIThBVqNkv95+nmeWvLBJTEs1YerKcg8eZnlmOrCowdlp17ah4L4 fkbcntZIQPb7NDm+O234dtoPeF18BFGJAqTE2/mtFZtvtqohCC5aPOaixFiRVUbbTI+n C7ESX223B+OMEt+d6QY5cdl9T+yh/IjEwU7bc= X-Google-DKIM-Signature: v=1; a=rsa-sha256; c=relaxed/relaxed; d=1e100.net; s=20230601; t=1763058728; x=1763663528; h=references:in-reply-to:cc:to:from:subject:message-id:date:x-gm-gg :x-gm-message-state:from:to:cc:subject:date:message-id:reply-to; bh=B4PCuRWlEInYb022V9lwhIPobXynY8wNVfMi61e2H4Y=; b=LCOmUUL+FtzLDgPHMLxMlD6pe/cuV5wDqkYvFmt5sO0HHsPdjMblwkcAAdWuUL3Gzv Hg9FVDP0hX/KlZYrf8cbOLxTAGhc1oY4z+h7NaCaKarTyDJMBXZORlmSIgiSTx1FOBju QtaCPYSzbad5kn8AbDX2ectbQ1cGvlFqofCe4pvu3m5p6XNPOvlOxXchSg2eXEAEMDzg Iw31dRYYG8K4/RcL7xYn7DX5lib34fNV2Iz2p9GO3DYzPincO4WMG7BUPxqGNCmRYKQq VAgTr/onoGh6XlIOVROmKx1jxkOA2gHK67OWqYrGTyRK7tcAf6Mcv40lZCJ2dAY8sYHK BQMw== X-Gm-Message-State: AOJu0YwlGBiTx5IvDnwXZ3P2ClXUizqrNAgGEvPd8mS/+e8Tn8mn+aNi S7hAdYBBmqgoTFff1LVAuprNHQ2DG0kjAKRLrfb4tQIXRd/z79cFq0oRsy9Ogk9UKhAMQIHFHQs l1mxSG2q9us/AYOuzf2mswLmRSVVGTT/DpAoD+8PaiDsf69KbGyPb8INeShB1 X-Gm-Gg: ASbGncviPDMiVQyqsF0Idm271BdpnbltioT45vkw+J/a/VRdb2SIFDTSWGCppC/Gg6n BsolQ1m7+2Z3HnPTA4P77unx1W1r7e7gokFd8h5DWQ3+rtIe3YUGxaH0AvKKrP5plfwaS/VukpH dA01JcgcnzXUghnd89LG1H4/VlDIy37MU08txrAlZvZcisu58nuYQ9eVUvuN8rzBjVzKQIFTHGq XzVUvJF2fQMowPRuO9iSxE7IJxZYbeIHYOiB8uE/8MHi2UrWoWDkVS5V6LIjpLDVhIRulYn+ZBi kJ1Y6M/mONAz44STOzGngtyKZ8iteyKjEuCR7sptEeLUa5sXXoQiuVXhL3/ghh52Ioset3js5Ts GJAJLDio3 X-Google-Smtp-Source: AGHT+IETsAlWomRbyg/vbwaounWdy6cRJQVGzc42tUNcLJSXjVBHGH1Gp9XMdRhkypePHwLkpve28G02z+Kr X-Received: by 2002:a05:7022:5f14:b0:119:e569:f619 with SMTP id a92af1059eb24-11b40ffaaf8mr129052c88.18.1763058728240; Thu, 13 Nov 2025 10:32:08 -0800 (PST) Received: from postal.iol.unh.edu (postal.iol.unh.edu. [2606:4100:3880:1234::84]) by smtp-relay.gmail.com with ESMTPS id a92af1059eb24-11b06091270sm7335c88.0.2025.11.13.10.32.08 (version=TLS1_2 cipher=ECDHE-ECDSA-AES128-GCM-SHA256 bits=128/128); Thu, 13 Nov 2025 10:32:08 -0800 (PST) X-Relaying-Domain: iol.unh.edu Date: Thu, 13 Nov 2025 10:32:08 -0800 (PST) Message-ID: <69162428.050a0220.19f6e0.0425SMTPIN_ADDED_MISSING@mx.google.com> Received: from [172.21.0.2] (unknown [172.18.0.240]) by postal.iol.unh.edu (Postfix) with ESMTP id 4066E6051830; Thu, 13 Nov 2025 13:32:07 -0500 (EST) Subject: |SUCCESS| pw158699 [PATCH] net/ice: fix path selection for QinQ Tx o From: dpdklab@iol.unh.edu To: Test Report Cc: dpdk-test-reports@iol.unh.edu, Bruce Richardson In-Reply-To: <20251112115726.1286735-1-bruce.richardson@intel.com> References: <20251112115726.1286735-1-bruce.richardson@intel.com> Content-Type: text/plain X-BeenThere: test-report@dpdk.org X-Mailman-Version: 2.1.29 Precedence: list List-Id: automatic DPDK test reports List-Unsubscribe: , List-Archive: List-Post: List-Help: List-Subscribe: , Errors-To: test-report-bounces@dpdk.org Test-Label: iol-unit-amd64-testing Test-Status: SUCCESS http://dpdk.org/patch/158699 _Testing PASS_ Submitter: Bruce Richardson Date: Wednesday, November 12 2025 11:57:26 DPDK git baseline: Repo:dpdk-next-net-intel Branch: master CommitID:1655dc989bc95fa85fc76d32912d2e46c0851148 158699 --> testing pass Upstream job id: Generic-VM-Unit-Test-DPDK#32492 Test environment and result as below: +-------------------------------+----------------+ | Environment | dpdk_unit_test | +===============================+================+ | Debian GNU/Linux 12 | PASS | +-------------------------------+----------------+ | Fedora Linux 40 | PASS | +-------------------------------+----------------+ | CentOS Stream 9 | PASS | +-------------------------------+----------------+ | Fedora Linux 41 | PASS | +-------------------------------+----------------+ | CentOS Stream 10 | PASS | +-------------------------------+----------------+ | Fedora Linux 42 | PASS | +-------------------------------+----------------+ | Red Hat Enterprise Linux 8.10 | PASS | +-------------------------------+----------------+ | Ubuntu 22.04 | PASS | +-------------------------------+----------------+ | Ubuntu 20.04 | PASS | +-------------------------------+----------------+ | Red Hat Enterprise Linux 9.5 | PASS | +-------------------------------+----------------+ | Ubuntu 24.04 | PASS | +-------------------------------+----------------+ | Windows Server 2022 | PASS | +-------------------------------+----------------+ Debian GNU/Linux 12 Kernel: 5.15 Compiler: gcc gcc (Debian 12.2.0-14+deb12u1) 12.2.0 Fedora Linux 40 Kernel: 5.15 Compiler: gcc gcc (GCC) 14.2.1 20240912 (Red Hat 14.2.1-3) CentOS Stream 9 Kernel: 5.15 Compiler: gcc gcc (GCC) 11.5.0 20240719 (Red Hat 11.5.0-11) Fedora Linux 41 Kernel: 5.15 Compiler: gcc gcc (GCC) 14.3.1 20250523 (Red Hat 14.3.1-1) CentOS Stream 10 Kernel: 5.15 Compiler: gcc gcc (GCC) 14.2.1 20250110 (Red Hat 14.2.1-8) Fedora Linux 42 Kernel: 5.15 Compiler: gcc gcc (GCC) 15.2.1 20250808 (Red Hat 15.2.1-1) Red Hat Enterprise Linux 8.10 Kernel: 5.15 Compiler: gcc gcc (GCC) 8.5.0 20210514 (Red Hat 8.5.0-22) Ubuntu 22.04 Kernel: 5.15 Compiler: gcc gcc (Ubuntu 11.4.0-1ubuntu1~22.04) 11.4.0 Ubuntu 20.04 Kernel: 5.15 Compiler: gcc gcc (Ubuntu 9.4.0-1ubuntu1~20.04.2) 9.4.0 Red Hat Enterprise Linux 9.5 Kernel: 5.15 Compiler: gcc gcc (GCC) 11.5.0 20240719 (Red Hat 11.5.0-2) Ubuntu 24.04 Kernel: 5.15 Compiler: gcc gcc (Ubuntu 13.3.0-6ubuntu2~24.04) 13.3.0 Windows Server 2022 Kernel: 10.0.20348.2031 Compiler: clang 15.0.7, gcc 14.1.0 (MinGW), and MSVC VS 19.39.33521 To view detailed results, visit: https://lab.dpdk.org/results/dashboard/patchsets/34548/ UNH-IOL DPDK Community Lab To manage your email subscriptions, visit: https://lab.dpdk.org/results/dashboard/preferences/subscriptions/