From mboxrd@z Thu Jan 1 00:00:00 1970 Return-Path: Received: from mails.dpdk.org (mails.dpdk.org [217.70.189.124]) by inbox.dpdk.org (Postfix) with ESMTP id 17CFD48AFC for ; Thu, 13 Nov 2025 19:55:45 +0100 (CET) Received: from mails.dpdk.org (localhost [127.0.0.1]) by mails.dpdk.org (Postfix) with ESMTP id 1123C40151; Thu, 13 Nov 2025 19:55:45 +0100 (CET) Received: from mail-pj1-f98.google.com (mail-pj1-f98.google.com [209.85.216.98]) by mails.dpdk.org (Postfix) with ESMTP id 6AD1B40151 for ; Thu, 13 Nov 2025 19:55:44 +0100 (CET) Received: by mail-pj1-f98.google.com with SMTP id 98e67ed59e1d1-3436d6ca17bso1192183a91.3 for ; Thu, 13 Nov 2025 10:55:44 -0800 (PST) DKIM-Signature: v=1; a=rsa-sha256; c=relaxed/relaxed; d=iol.unh.edu; s=unh-iol; t=1763060143; x=1763664943; darn=dpdk.org; h=references:in-reply-to:cc:to:from:subject:message-id:date:from:to :cc:subject:date:message-id:reply-to; bh=w4LZShJXG0guo81d0jpa0gs3GE8yZoOonodQkFecbeo=; b=FfGdBimX/XM3BAcBTWOGXGQHjLe6tE88NlqRlsufdgKmbQYfLvrxVVgjoMYYa84i0o Du8DyvZbMLa0dKW5nwWFTExSnigcCL0OWGaq0OjyiXey+/a5SgrZcnC/KnDXQ1XjT/tM c9GdXbR1U9pDunCXPzv6JCVOdUljvzAXOG9yw= X-Google-DKIM-Signature: v=1; a=rsa-sha256; c=relaxed/relaxed; d=1e100.net; s=20230601; t=1763060143; x=1763664943; h=references:in-reply-to:cc:to:from:subject:message-id:date:x-gm-gg :x-gm-message-state:from:to:cc:subject:date:message-id:reply-to; bh=w4LZShJXG0guo81d0jpa0gs3GE8yZoOonodQkFecbeo=; b=i3RsB3sF2ty+E+fUMYgLEAMCCAibi7JIwLF0laSyxNWMwBBUwoleo2n+/aEvAQxF0k ffqBQRDQ/rZLNI90JQsbuGug89PHxOpZrvax0haE02Heaa2+z6IXOmk0mies7jewVJWc KP2Lu0wei6I1YQKhWJ7sbshSB3rgBuaDh5vl8uaG1JnSpjq5GNeppKWwPO2U9hq/fWw4 oGYmaA/KrD7RWgeMqWs7mgAYlJvNqSzk8Jidch7z+LcSsnf9HNCj8ih03psEtXicsFYp Trb9ssAdAp1r5sfPqTORqgF3ENmn91Ncd0NMz4DuMO+DA+XtsbBCbFwxe5s/+O5Y2VqR igwA== X-Gm-Message-State: AOJu0Yye/Ky9P8M17n9bKO7cKkKR0uo2F6yxwUgzRxuWpxNDRYuhQuMJ D9P7V4stt2mrT2YuEKul14k7WOksxBHAQVvB32pdtSTc76cAisXXfKrMW2XR2eLmFkvs09NPKcA kn3CKJV13BbuYV+1GMpZ4T63gLDxvIXQ0RYN38hgPXHOMJ3FkiWer9ixiX//4 X-Gm-Gg: ASbGncvtp+7NzqofEScFrraSvBjEOhZwAbf4sx0XM+0ErsGzAIZihrfeuRjWcL6EmL4 RQU9zeIPIdqpm1/mpl7UAeBJV4LX/xQz7cDOjtPP66/OwjcEFnRud5Ut8I3SHODNIgNRkMxIFnL rUrMfAp4ZGfi8yBe8BPrvSnmeZWj4diWOK27c7zXAvzOdakPeq3I4uEjsD1V7LOsjJcUt/H1kkP tiPv0Yrn7MJHobKPbHPdQWXxeVWYgE/eJMCUe6rmLr6Vqj1FyF1XpasOE2XQK/PElOFPnG+ukAk N9Ap1V3OItaHz6uAwV5Ez03TnW3SIeB7s1eFHQ7DQlutv/2BGrKSnri9yVnJ8geUQB5HljMGxBL YhzLbCk+d X-Google-Smtp-Source: AGHT+IEzUdDYWY18aTr60OFzSngSR46tDNga6jSK2EFhr87H2lbB+Gj7zuMQWckB7ckewhYPq2fc6u5l8S9h X-Received: by 2002:a17:90b:2ccc:b0:343:6d82:9278 with SMTP id 98e67ed59e1d1-343fa76032dmr296448a91.30.1763060143544; Thu, 13 Nov 2025 10:55:43 -0800 (PST) Received: from postal.iol.unh.edu (postal.iol.unh.edu. [2606:4100:3880:1234::84]) by smtp-relay.gmail.com with ESMTPS id 98e67ed59e1d1-343e06fcf4asm671800a91.2.2025.11.13.10.55.43 (version=TLS1_2 cipher=ECDHE-ECDSA-AES128-GCM-SHA256 bits=128/128); Thu, 13 Nov 2025 10:55:43 -0800 (PST) X-Relaying-Domain: iol.unh.edu Date: Thu, 13 Nov 2025 10:55:43 -0800 (PST) Message-ID: <691629af.170a0220.38e4f0.076bSMTPIN_ADDED_MISSING@mx.google.com> Received: from [172.21.0.2] (unknown [172.18.0.240]) by postal.iol.unh.edu (Postfix) with ESMTP id AC7FF604D420; Thu, 13 Nov 2025 13:55:42 -0500 (EST) Subject: |SUCCESS| pw158705 [PATCH] net/intel: ensure correct Rx path is sele From: dpdklab@iol.unh.edu To: Test Report Cc: dpdk-test-reports@iol.unh.edu, Bruce Richardson In-Reply-To: <20251112151123.3757688-1-ciara.loftus@intel.com> References: <20251112151123.3757688-1-ciara.loftus@intel.com> Content-Type: text/plain X-BeenThere: test-report@dpdk.org X-Mailman-Version: 2.1.29 Precedence: list List-Id: automatic DPDK test reports List-Unsubscribe: , List-Archive: List-Post: List-Help: List-Subscribe: , Errors-To: test-report-bounces@dpdk.org Test-Label: iol-compile-amd64-testing Test-Status: SUCCESS http://dpdk.org/patch/158705 _Testing PASS_ Submitter: Ciara Loftus Date: Wednesday, November 12 2025 15:11:23 DPDK git baseline: Repo:dpdk-next-net-intel Branch: master CommitID:c63646d076330fb2ef3282cbd413aaf93f0509e6 158705 --> testing pass Upstream job id: Windows-Compile-DPDK-VS#7519 Test environment and result as below: +-------------------------------+--------------------+------------------+-------------------+ | Environment | dpdk_meson_compile | dpdk_compile_ovs | dpdk_msvc_compile | +===============================+====================+==================+===================+ | Ubuntu 20.04 | PASS | SKIPPED | SKIPPED | +-------------------------------+--------------------+------------------+-------------------+ | FreeBSD 14.2 | PASS | SKIPPED | SKIPPED | +-------------------------------+--------------------+------------------+-------------------+ | CentOS Stream 9 | PASS | SKIPPED | SKIPPED | +-------------------------------+--------------------+------------------+-------------------+ | CentOS Stream 10 | PASS | SKIPPED | SKIPPED | +-------------------------------+--------------------+------------------+-------------------+ | Debian GNU/Linux 12 | PASS | SKIPPED | SKIPPED | +-------------------------------+--------------------+------------------+-------------------+ | Fedora Linux 42 | PASS | PASS | SKIPPED | +-------------------------------+--------------------+------------------+-------------------+ | openSUSE Leap 15.6 | PASS | SKIPPED | SKIPPED | +-------------------------------+--------------------+------------------+-------------------+ | Red Hat Enterprise Linux 8.10 | PASS | SKIPPED | SKIPPED | +-------------------------------+--------------------+------------------+-------------------+ | Red Hat Enterprise Linux 9.5 | PASS | SKIPPED | SKIPPED | +-------------------------------+--------------------+------------------+-------------------+ | Ubuntu 22.04 | PASS | SKIPPED | SKIPPED | +-------------------------------+--------------------+------------------+-------------------+ | Ubuntu 24.04 | PASS | PASS | SKIPPED | +-------------------------------+--------------------+------------------+-------------------+ | Alpine Linux 3.22.0 | PASS | SKIPPED | SKIPPED | +-------------------------------+--------------------+------------------+-------------------+ | Windows Server 2022 | SKIPPED | SKIPPED | PASS | +-------------------------------+--------------------+------------------+-------------------+ Ubuntu 20.04 Kernel: 4.19 Compiler: gcc gcc (Ubuntu 9.4.0-1ubuntu1~20.04.2) 9.4.0 FreeBSD 14.2 Kernel: 14.2-RELEASE Compiler: clang 18.1.6 CentOS Stream 9 Kernel: 5.15 Compiler: gcc gcc (GCC) 11.5.0 20240719 (Red Hat 11.5.0-11) CentOS Stream 10 Kernel: 5.15 Compiler: gcc gcc (GCC) 14.2.1 20250110 (Red Hat 14.2.1-8) Debian GNU/Linux 12 Kernel: 5.15 Compiler: gcc gcc (Debian 12.2.0-14+deb12u1) 12.2.0 Fedora Linux 42 Kernel: 5.15 Compiler: clang gcc (GCC) 15.2.1 20250808 (Red Hat 15.2.1-1) openSUSE Leap 15.6 Kernel: 5.15 Compiler: gcc gcc (SUSE Linux) 7.5.0 Red Hat Enterprise Linux 8.10 Kernel: 5.15 Compiler: gcc gcc (GCC) 8.5.0 20210514 (Red Hat 8.5.0-22) Red Hat Enterprise Linux 9.5 Kernel: 5.15 Compiler: gcc gcc (GCC) 11.5.0 20240719 (Red Hat 11.5.0-2) Ubuntu 22.04 Kernel: 5.15 Compiler: gcc gcc (Ubuntu 11.4.0-1ubuntu1~22.04) 11.4.0 Ubuntu 24.04 Kernel: 5.15 Compiler: gcc gcc (Ubuntu 13.3.0-6ubuntu2~24.04) 13.3.0 Alpine Linux 3.22.0 Kernel: 5.15 Compiler: gcc gcc (Alpine 14.2.0) 14.2.0 Windows Server 2022 Kernel: 10.0.20348.2031 Compiler: clang 15.0.7, gcc 14.1.0 (MinGW), and MSVC VS 19.39.33521 To view detailed results, visit: https://lab.dpdk.org/results/dashboard/patchsets/34552/ UNH-IOL DPDK Community Lab To manage your email subscriptions, visit: https://lab.dpdk.org/results/dashboard/preferences/subscriptions/