From mboxrd@z Thu Jan 1 00:00:00 1970 Return-Path: Received: from mails.dpdk.org (mails.dpdk.org [217.70.189.124]) by inbox.dpdk.org (Postfix) with ESMTP id 86C2348AFC for ; Thu, 13 Nov 2025 19:59:13 +0100 (CET) Received: from mails.dpdk.org (localhost [127.0.0.1]) by mails.dpdk.org (Postfix) with ESMTP id 5F9EA40151; Thu, 13 Nov 2025 19:59:13 +0100 (CET) Received: from mail-pj1-f98.google.com (mail-pj1-f98.google.com [209.85.216.98]) by mails.dpdk.org (Postfix) with ESMTP id 666EC40151 for ; Thu, 13 Nov 2025 19:59:12 +0100 (CET) Received: by mail-pj1-f98.google.com with SMTP id 98e67ed59e1d1-340bcc92c7dso2092813a91.0 for ; Thu, 13 Nov 2025 10:59:12 -0800 (PST) DKIM-Signature: v=1; a=rsa-sha256; c=relaxed/relaxed; d=iol.unh.edu; s=unh-iol; t=1763060351; x=1763665151; darn=dpdk.org; h=references:in-reply-to:cc:to:from:subject:message-id:date:from:to :cc:subject:date:message-id:reply-to; bh=GVa5B2JXhcyfkygRWoicgnR7GrrVCPxccdQQBj8SN7Q=; b=NNUJCl6XzL34Dk24tNtjAd62R91XcTXevmE0W6CpThm63+uhtiXF7EuXGwVnBgBMGZ Zj+rK2mB7dZh/f4aUTKjdbQrtNvevFeis47mL4f8Z3XF0SHVK+r7teQCDBz0nrb9A7bt W9X/BBA4MByRdsAfRU3HjpCP8hWdqc5t7woQA= X-Google-DKIM-Signature: v=1; a=rsa-sha256; c=relaxed/relaxed; d=1e100.net; s=20230601; t=1763060351; x=1763665151; h=references:in-reply-to:cc:to:from:subject:message-id:date:x-gm-gg :x-gm-message-state:from:to:cc:subject:date:message-id:reply-to; bh=GVa5B2JXhcyfkygRWoicgnR7GrrVCPxccdQQBj8SN7Q=; b=oHfb6dBxL8fYQeIKZCfU+PtthncV48GPNouUkkRI3mxZSaEtkAAhusVT6ax5V9nyak pQ+9+bG4db+Hf+uF3sLYFc15F1/5BCiVb5QjwZXy+4P+XOE8YcpXu50yv0UvJEb+Z3ba emeufiahVC8/QnBWpQ8CM/h/8FT3z5XB1Ay6bWxMj34alSuP4yQcLnSQ215EOLa8JZ11 cGB5+Xn2USagLjdT3ynQHffY8OzBovnXDKhMPbcsCypgxM5ijm+SgGXZB7z1A500KP8y 5A2YXbHXGSS5lXqSlO5j50D9+p17RB4/TfVJFxtj+vpBzXGYGKBulS02Gnd+QmUdcaq8 OvoQ== X-Gm-Message-State: AOJu0YyCR8nvU4Yh6/571LKKAVdIjRWG+YtWR27hSETZEgSm9/ZVuL/6 QtMuAPJlEl9kmCC1WqpZba5BtPTLk3tAa1vB6c83VD+C3syIwCtkQhzFVqs87k01Fu9bNRSHwWv q9wIhh2JLMX5PNHZodLUf6T6w+R43u5QKplwuWfpDaGvVvvxkkpIWtQg0RB57 X-Gm-Gg: ASbGnctrrtGRPwhjrUOFwIZ4vwklBCGgeycXIIxBLqATzc6aQfZPLdh6CylFaRs9PVg yr+cj5WRmi0sNZ6InKNm+8M1a1vZwCJ2eFab+3HN6KfQUxulsrr76TBgCvlsL3l4LImiodepxwn GUyVKWwOVhlsAs12s3PN47G76bTE4gT5NIDHQsQb2GKbtnOGcoiGgAM8WNW1YsUF5BZBwevPXEv 0dy0hWr5L43ETc/zf/WKEaW0htYNXxWMcJ8rvec5kC9nSWcE2GBVVVVbUN6IJNo17Xn08u3KPVD jHr6SZmazS1UzC3G36QalMKRcyJ8/krziQSvkyE/12sc3BtIrh3VhCCQmnlvH12hLkUQJt1qf12 NVoVVyK1c X-Google-Smtp-Source: AGHT+IFGyqNSzRsTVgHx452kVW3YU6YDErA8i9I7qXM1QQz+5Aa41bvK0cVajrOzOLt/xAbSuu2DFUjUEvFV X-Received: by 2002:a17:90b:5241:b0:340:767a:221f with SMTP id 98e67ed59e1d1-343eab08214mr4328953a91.4.1763060351425; Thu, 13 Nov 2025 10:59:11 -0800 (PST) Received: from postal.iol.unh.edu (postal.iol.unh.edu. [2606:4100:3880:1234::84]) by smtp-relay.gmail.com with ESMTPS id 98e67ed59e1d1-343ed55580esm369947a91.4.2025.11.13.10.59.11 (version=TLS1_2 cipher=ECDHE-ECDSA-AES128-GCM-SHA256 bits=128/128); Thu, 13 Nov 2025 10:59:11 -0800 (PST) X-Relaying-Domain: iol.unh.edu Date: Thu, 13 Nov 2025 10:59:11 -0800 (PST) Message-ID: <69162a7f.170a0220.38aa50.2417SMTPIN_ADDED_MISSING@mx.google.com> Received: from [172.21.0.2] (unknown [172.18.0.240]) by postal.iol.unh.edu (Postfix) with ESMTP id A80AE604D420; Thu, 13 Nov 2025 13:59:10 -0500 (EST) Subject: |SUCCESS| pw158668 [PATCH] common/mlx5: add BlueField-4 DPU From: dpdklab@iol.unh.edu To: Test Report Cc: dpdk-test-reports@iol.unh.edu In-Reply-To: <20251111121628.75282-1-rasland@nvidia.com> References: <20251111121628.75282-1-rasland@nvidia.com> Content-Type: text/plain X-BeenThere: test-report@dpdk.org X-Mailman-Version: 2.1.29 Precedence: list List-Id: automatic DPDK test reports List-Unsubscribe: , List-Archive: List-Post: List-Help: List-Subscribe: , Errors-To: test-report-bounces@dpdk.org Test-Label: iol-compile-amd64-testing Test-Status: SUCCESS http://dpdk.org/patch/158668 _Testing PASS_ Submitter: Raslan Darawsheh Date: Tuesday, November 11 2025 12:16:28 DPDK git baseline: Repo:dpdk Branch: master CommitID:b63e7dbfb076d6a8247dcab014421d7b59e20255 158668 --> testing pass Upstream job id: Windows-Compile-DPDK-Native#32297 Test environment and result as below: +-------------------------------+--------------------+------------------+-------------------+-------------------------+----------------------+ | Environment | dpdk_meson_compile | dpdk_compile_ovs | dpdk_msvc_compile | dpdk_llvm_clang_compile | dpdk_mingw64_compile | +===============================+====================+==================+===================+=========================+======================+ | CentOS Stream 9 | PASS | SKIPPED | SKIPPED | SKIPPED | SKIPPED | +-------------------------------+--------------------+------------------+-------------------+-------------------------+----------------------+ | CentOS Stream 10 | PASS | SKIPPED | SKIPPED | SKIPPED | SKIPPED | +-------------------------------+--------------------+------------------+-------------------+-------------------------+----------------------+ | Debian GNU/Linux 12 | PASS | SKIPPED | SKIPPED | SKIPPED | SKIPPED | +-------------------------------+--------------------+------------------+-------------------+-------------------------+----------------------+ | Fedora Linux 42 | PASS | PASS | SKIPPED | SKIPPED | SKIPPED | +-------------------------------+--------------------+------------------+-------------------+-------------------------+----------------------+ | Red Hat Enterprise Linux 8.10 | PASS | SKIPPED | SKIPPED | SKIPPED | SKIPPED | +-------------------------------+--------------------+------------------+-------------------+-------------------------+----------------------+ | Ubuntu 20.04 | PASS | SKIPPED | SKIPPED | SKIPPED | SKIPPED | +-------------------------------+--------------------+------------------+-------------------+-------------------------+----------------------+ | openSUSE Leap 15.6 | PASS | SKIPPED | SKIPPED | SKIPPED | SKIPPED | +-------------------------------+--------------------+------------------+-------------------+-------------------------+----------------------+ | Ubuntu 22.04 | PASS | SKIPPED | SKIPPED | SKIPPED | SKIPPED | +-------------------------------+--------------------+------------------+-------------------+-------------------------+----------------------+ | Ubuntu 24.04 | PASS | PASS | SKIPPED | SKIPPED | SKIPPED | +-------------------------------+--------------------+------------------+-------------------+-------------------------+----------------------+ | Red Hat Enterprise Linux 9.5 | PASS | SKIPPED | SKIPPED | SKIPPED | SKIPPED | +-------------------------------+--------------------+------------------+-------------------+-------------------------+----------------------+ | Alpine Linux 3.22.0 | PASS | SKIPPED | SKIPPED | SKIPPED | SKIPPED | +-------------------------------+--------------------+------------------+-------------------+-------------------------+----------------------+ | FreeBSD 14.2 | PASS | SKIPPED | SKIPPED | SKIPPED | SKIPPED | +-------------------------------+--------------------+------------------+-------------------+-------------------------+----------------------+ | Windows Server 2022 | SKIPPED | SKIPPED | PASS | PASS | PASS | +-------------------------------+--------------------+------------------+-------------------+-------------------------+----------------------+ CentOS Stream 9 Kernel: 5.15 Compiler: gcc gcc (GCC) 11.5.0 20240719 (Red Hat 11.5.0-11) CentOS Stream 10 Kernel: 5.15 Compiler: gcc gcc (GCC) 14.2.1 20250110 (Red Hat 14.2.1-8) Debian GNU/Linux 12 Kernel: 5.15 Compiler: gcc gcc (Debian 12.2.0-14+deb12u1) 12.2.0 Fedora Linux 42 Kernel: 5.15 Compiler: gcc gcc (GCC) 15.2.1 20250808 (Red Hat 15.2.1-1) Red Hat Enterprise Linux 8.10 Kernel: 5.15 Compiler: gcc gcc (GCC) 8.5.0 20210514 (Red Hat 8.5.0-22) Ubuntu 20.04 Kernel: 5.15 Compiler: gcc gcc (Ubuntu 9.4.0-1ubuntu1~20.04.2) 9.4.0 openSUSE Leap 15.6 Kernel: 5.15 Compiler: gcc gcc (SUSE Linux) 7.5.0 Ubuntu 22.04 Kernel: 5.15 Compiler: gcc gcc (Ubuntu 11.4.0-1ubuntu1~22.04) 11.4.0 Ubuntu 24.04 Kernel: 5.15 Compiler: gcc gcc (Ubuntu 13.3.0-6ubuntu2~24.04) 13.3.0 Red Hat Enterprise Linux 9.5 Kernel: 5.15 Compiler: gcc gcc (GCC) 11.5.0 20240719 (Red Hat 11.5.0-2) Alpine Linux 3.22.0 Kernel: 5.15 Compiler: gcc gcc (Alpine 14.2.0) 14.2.0 FreeBSD 14.2 Kernel: 14.2-RELEASE Compiler: clang 18.1.6 Windows Server 2022 Kernel: 10.0.20348.2031 Compiler: clang 15.0.7, gcc 14.1.0 (MinGW), and MSVC VS 19.39.33521 To view detailed results, visit: https://lab.dpdk.org/results/dashboard/patchsets/34536/ UNH-IOL DPDK Community Lab To manage your email subscriptions, visit: https://lab.dpdk.org/results/dashboard/preferences/subscriptions/