From mboxrd@z Thu Jan 1 00:00:00 1970 Return-Path: Received: from mails.dpdk.org (mails.dpdk.org [217.70.189.124]) by inbox.dpdk.org (Postfix) with ESMTP id C3FDB48AFD for ; Thu, 13 Nov 2025 20:08:45 +0100 (CET) Received: from mails.dpdk.org (localhost [127.0.0.1]) by mails.dpdk.org (Postfix) with ESMTP id 9EFDA40151; Thu, 13 Nov 2025 20:08:45 +0100 (CET) Received: from mail-qt1-f228.google.com (mail-qt1-f228.google.com [209.85.160.228]) by mails.dpdk.org (Postfix) with ESMTP id B9B6C40151 for ; Thu, 13 Nov 2025 20:08:44 +0100 (CET) Received: by mail-qt1-f228.google.com with SMTP id d75a77b69052e-4eda6c385c0so9084461cf.3 for ; Thu, 13 Nov 2025 11:08:44 -0800 (PST) DKIM-Signature: v=1; a=rsa-sha256; c=relaxed/relaxed; d=iol.unh.edu; s=unh-iol; t=1763060924; x=1763665724; darn=dpdk.org; h=references:in-reply-to:cc:to:from:subject:message-id:date:from:to :cc:subject:date:message-id:reply-to; bh=8joD9Nd8hX5DxucW4lX0E/rStq/p0lqN9YZhSTuL8xk=; b=JKwooHizToljD4Ue5sadFTDA+GRFw+Yf3zD/DtGbgoVeSS4dusfpJWbsqLKjdOnUP7 xxqf0ptSFzxtxybPlk1nhw3WB8eL0M0JgcFsrFZOPlt9r5sRxMeArPLffW4aY2uofj2a 23UHFSt+FvHloq0vrD4caswWcNSN0yUjEY4Aw= X-Google-DKIM-Signature: v=1; a=rsa-sha256; c=relaxed/relaxed; d=1e100.net; s=20230601; t=1763060924; x=1763665724; h=references:in-reply-to:cc:to:from:subject:message-id:date:x-gm-gg :x-gm-message-state:from:to:cc:subject:date:message-id:reply-to; bh=8joD9Nd8hX5DxucW4lX0E/rStq/p0lqN9YZhSTuL8xk=; b=M4fqZTQaTCehSzBCefhj0xKjwduytvBZH2mOI5Mng10Ikd7RRm3dId1QXknQNEcBR+ YERMJ6SSgMW8sMjU77PNhJVSrCIq7jiuE5xRdBNsbYTDAxJo7Ljh+27b0fIyy+mxNcnI ij5bAkyFngCQAwwV/mtfhhlNsJ1czlBii8lnUq64DTj/eL0dzk87BPwvOYKQqwWHQcH4 8UoQZUUGv7aK6pV3tcStjhEyUHSVRVuBJmg1KfjLyubRpmHDB5vcMFePgqykjBYX8N9C 5uUnFswCxmYGE3Panw9K5b617WroVsCM9jrqDhdrEIKB5tMvp5Ehh7dNWBmuyn8NpYoF mVuA== X-Gm-Message-State: AOJu0YxsvCW+FqbIwcYyxzOKEn75AYox7jNCdo4m5le/l+/uiWXbSFpg 1hzBiLmuaBYc6T+6AcF7vIh8/6d/uvFL3Sd+rX+KWAb4+k2dH2V2brn1H5rbVR5oOCbhx4ad6mk 2UnzVvcggH15GP4i8e0Plbk5QmQQ8kYZ0SA/ih5PaQdp/ X-Gm-Gg: ASbGncvP9SDDuECaKhGSANa+MogD/LE+dj1MARpaLGLIadmqNt8Sb/q91frZ1BOg/4x EIHDO3kxRmOSr2d6IYjbxn74k1T97TK4tl2byptxf4uCU+uNHVCcg2STcOgDMlWVzeCSbFL8vju cYWj/qezCv4aMtxq71Zq+J1eLmvRXlzF/703JjRIScr+/7CjixGsa/k20xzekclICRQqassaX+f y0K6uzNcYGK/fszGlg9/CF5dSbiZ4E2EkywSWdOin6Z2whmH+o9kbwdMN8MUJj7vc7cGJJdnrXT cwKDYDxIBmu1ax5ssn4jwpWd9xYZXFudok6olxssxX/Ayq3ZwpvstHkADQduIBg07BlFLk7WkhS ASymPTMHVik9dJJm35yc6p/qRVupb+A8= X-Google-Smtp-Source: AGHT+IGE8IK1XlH2dELdz544/q2kWy43bHMRahLMSX9qE/0cAI1FWSHJ4HxeScUFBfViDZLcAZca4vB56Wdf X-Received: by 2002:a05:622a:1a22:b0:4e8:ada8:6c22 with SMTP id d75a77b69052e-4edf213057fmr10462731cf.72.1763060923982; Thu, 13 Nov 2025 11:08:43 -0800 (PST) Received: from postal.iol.unh.edu (postal.iol.unh.edu. [132.177.123.84]) by smtp-relay.gmail.com with ESMTPS id d75a77b69052e-4ede86c5806sm1287381cf.1.2025.11.13.11.08.43 (version=TLS1_2 cipher=ECDHE-ECDSA-AES128-GCM-SHA256 bits=128/128); Thu, 13 Nov 2025 11:08:43 -0800 (PST) X-Relaying-Domain: iol.unh.edu Date: Thu, 13 Nov 2025 11:08:43 -0800 (PST) Message-ID: <69162cbb.050a0220.287209.6204SMTPIN_ADDED_MISSING@mx.google.com> Received: from [172.21.0.2] (unknown [172.18.0.240]) by postal.iol.unh.edu (Postfix) with ESMTP id 79B97604D420; Thu, 13 Nov 2025 14:08:43 -0500 (EST) Subject: |SUCCESS| pw158701 [PATCH] [V3] net/mlx5: fix IPv6 DSCP offset in HW From: dpdklab@iol.unh.edu To: Test Report Cc: dpdk-test-reports@iol.unh.edu In-Reply-To: <20251112134236.195614-1-gavinl@nvidia.com> References: <20251112134236.195614-1-gavinl@nvidia.com> Content-Type: text/plain X-BeenThere: test-report@dpdk.org X-Mailman-Version: 2.1.29 Precedence: list List-Id: automatic DPDK test reports List-Unsubscribe: , List-Archive: List-Post: List-Help: List-Subscribe: , Errors-To: test-report-bounces@dpdk.org Test-Label: iol-unit-amd64-testing Test-Status: SUCCESS http://dpdk.org/patch/158701 _Testing PASS_ Submitter: Gavin Li Date: Wednesday, November 12 2025 13:42:36 DPDK git baseline: Repo:dpdk-next-net-mlx Branch: master CommitID:ae657d56b1f0ea979b3f611edf28d773efc2ddcf 158701 --> testing pass Upstream job id: Generic-VM-Unit-Test-DPDK#32493 Test environment and result as below: +-------------------------------+----------------+ | Environment | dpdk_unit_test | +===============================+================+ | Red Hat Enterprise Linux 9.5 | PASS | +-------------------------------+----------------+ | CentOS Stream 9 | PASS | +-------------------------------+----------------+ | Fedora Linux 42 | PASS | +-------------------------------+----------------+ | Debian GNU/Linux 12 | PASS | +-------------------------------+----------------+ | Ubuntu 22.04 | PASS | +-------------------------------+----------------+ | Fedora Linux 41 | PASS | +-------------------------------+----------------+ | Ubuntu 20.04 | PASS | +-------------------------------+----------------+ | Ubuntu 24.04 | PASS | +-------------------------------+----------------+ | Fedora Linux 40 | PASS | +-------------------------------+----------------+ | CentOS Stream 10 | PASS | +-------------------------------+----------------+ | Red Hat Enterprise Linux 8.10 | PASS | +-------------------------------+----------------+ | Windows Server 2022 | PASS | +-------------------------------+----------------+ Red Hat Enterprise Linux 9.5 Kernel: 5.15 Compiler: gcc gcc (GCC) 11.5.0 20240719 (Red Hat 11.5.0-2) CentOS Stream 9 Kernel: 5.15 Compiler: gcc gcc (GCC) 11.5.0 20240719 (Red Hat 11.5.0-11) Fedora Linux 42 Kernel: 5.15 Compiler: gcc gcc (GCC) 15.2.1 20250808 (Red Hat 15.2.1-1) Debian GNU/Linux 12 Kernel: 5.15 Compiler: gcc gcc (Debian 12.2.0-14+deb12u1) 12.2.0 Ubuntu 22.04 Kernel: 5.15 Compiler: gcc gcc (Ubuntu 11.4.0-1ubuntu1~22.04) 11.4.0 Fedora Linux 41 Kernel: 5.15 Compiler: clang gcc (GCC) 14.3.1 20250523 (Red Hat 14.3.1-1) Ubuntu 20.04 Kernel: 5.15 Compiler: gcc gcc (Ubuntu 9.4.0-1ubuntu1~20.04.2) 9.4.0 Ubuntu 24.04 Kernel: 5.15 Compiler: gcc gcc (Ubuntu 13.3.0-6ubuntu2~24.04) 13.3.0 Fedora Linux 40 Kernel: 5.15 Compiler: gcc gcc (GCC) 14.2.1 20240912 (Red Hat 14.2.1-3) CentOS Stream 10 Kernel: 5.15 Compiler: gcc gcc (GCC) 14.2.1 20250110 (Red Hat 14.2.1-8) Red Hat Enterprise Linux 8.10 Kernel: 5.15 Compiler: gcc gcc (GCC) 8.5.0 20210514 (Red Hat 8.5.0-22) Windows Server 2022 Kernel: 10.0.20348.2031 Compiler: clang 15.0.7, gcc 14.1.0 (MinGW), and MSVC VS 19.39.33521 To view detailed results, visit: https://lab.dpdk.org/results/dashboard/patchsets/34550/ UNH-IOL DPDK Community Lab To manage your email subscriptions, visit: https://lab.dpdk.org/results/dashboard/preferences/subscriptions/