From mboxrd@z Thu Jan 1 00:00:00 1970 Return-Path: Received: from mails.dpdk.org (mails.dpdk.org [217.70.189.124]) by inbox.dpdk.org (Postfix) with ESMTP id EBB0A48AFD for ; Thu, 13 Nov 2025 20:11:20 +0100 (CET) Received: from mails.dpdk.org (localhost [127.0.0.1]) by mails.dpdk.org (Postfix) with ESMTP id E4A4240151; Thu, 13 Nov 2025 20:11:20 +0100 (CET) Received: from mail-qk1-f226.google.com (mail-qk1-f226.google.com [209.85.222.226]) by mails.dpdk.org (Postfix) with ESMTP id ACD5140151 for ; Thu, 13 Nov 2025 20:11:19 +0100 (CET) Received: by mail-qk1-f226.google.com with SMTP id af79cd13be357-8b2655e0bb6so147655985a.3 for ; Thu, 13 Nov 2025 11:11:19 -0800 (PST) DKIM-Signature: v=1; a=rsa-sha256; c=relaxed/relaxed; d=iol.unh.edu; s=unh-iol; t=1763061079; x=1763665879; darn=dpdk.org; h=cc:to:from:subject:message-id:date:from:to:cc:subject:date :message-id:reply-to; bh=NQ3MRczsC1P150DuWvvfKEeH+5mqWNi0/voDYktFf2U=; b=Bw71W13PZQu0xpps2BK6+o48tN0tNmEwQw/DI5nhu9hUZmrN////aynIvHBmrHaNpj 6zf3TgPh4KFcrQYJDsh9oQIkeKx7a0KgqUJTBIyRCnfUS+GVE6QeC/igoHTTCR1LWgW7 SODXe/oxC8KR1vjXKSdbUcgRow3VkJano3s9I= X-Google-DKIM-Signature: v=1; a=rsa-sha256; c=relaxed/relaxed; d=1e100.net; s=20230601; t=1763061079; x=1763665879; h=cc:to:from:subject:message-id:date:x-gm-gg:x-gm-message-state:from :to:cc:subject:date:message-id:reply-to; bh=NQ3MRczsC1P150DuWvvfKEeH+5mqWNi0/voDYktFf2U=; b=RuYwAlBCi7il8JXVO4qNY5NrOR6kcebVk4GWIN3k7YkpSTA3qq4J1bxnFt62obHKEM glTdCHqkMRsrsFsTBBH1RiUDKOBkpMnjYfD4BzwGLanZCNlRwIFN7+I4ZWI93KNTbq77 Sb8mW6lMq8Da8wwhn/EeYuIKnSsif/tgt8LGXXxHu/79u3sQVjptoTt4QmOqRPpU6wYF 1YmIN0jjFw1jQzXwL2Civ7ALsWEZc7+viiUt4SwKBkfjacZbcvIVrR7mcqHx1b08DoJS ZhOd5JwshNXUqi4hnioKd6RsLbju4FQeHnDDdQ2JAcH/jnKv3ZJqkBcKSr8QEV7HEN/X mFZg== X-Gm-Message-State: AOJu0YzYCQTS10TDjaonFW+3n3AShvaxUywPmr5QqVfraZ2ilzivB2eN VYfbMiYYv9+v/+GWhnBibg1H8A3IOhn1AT1ARZ/IF9B4wW9/oJZkWvJXN2Aif+ALvn7aYpP8a2i VyATjtVLrgQYiTajtjZXtNg2bXKIClMxgkkljfo9G34C0sgXP7PUk X-Gm-Gg: ASbGncv5COgqOzMUQ0o8NTQPym4u1pVy2TuM0OgVhQmgNTSS6kTClNt8kfdW6trjRiS NeIC3jXQyBfv0jcnojNiiOip6aJl/WRMOTW5KDfWXqy1OUpKynD4m2t0HrbzK3aihz8jMEk1oYb hTb7Ynu/QIGDiNtSFh8gvM7yfVXkMHcpdDAI/h8ISbEGSCIayT+o5dJy7LcJTEEAH5ox1sLOUAa WHp4aCVuJJFh+pYu7Q4+l1QyQE55EaBH3+ri4S39MUOQKkiQJ2/D6ZBMg+Hpn8L1UKKQAelN3by zn7QFxB0YD9GfSVWg4zRITRnpccJUgszxEp+t3IfY5VBM2fFDODhLle0dhu0o+xYz+jlgM7mKXK TbpTQTVHA X-Google-Smtp-Source: AGHT+IGg4KwOTy0SyxizRpccBx4JEfZ7PjzlvvlSx3rPNmonwCbbUMuKxgSCoxeiJdyowJtzgSAo6n1sAUrl X-Received: by 2002:a05:620a:17a9:b0:88e:9874:8257 with SMTP id af79cd13be357-8b2c3147c1dmr51157985a.9.1763061079022; Thu, 13 Nov 2025 11:11:19 -0800 (PST) Received: from postal.iol.unh.edu (postal.iol.unh.edu. [2606:4100:3880:1234::84]) by smtp-relay.gmail.com with ESMTPS id af79cd13be357-8b2aecd34d2sm25250085a.0.2025.11.13.11.11.18 (version=TLS1_2 cipher=ECDHE-ECDSA-AES128-GCM-SHA256 bits=128/128); Thu, 13 Nov 2025 11:11:19 -0800 (PST) X-Relaying-Domain: iol.unh.edu Date: Thu, 13 Nov 2025 11:11:19 -0800 (PST) Message-ID: <69162d57.050a0220.1ab6a4.b74bSMTPIN_ADDED_MISSING@mx.google.com> Received: from [172.21.0.3] (unknown [172.18.0.240]) by postal.iol.unh.edu (Postfix) with ESMTP id B830A604D420; Thu, 13 Nov 2025 14:11:18 -0500 (EST) Subject: |SUCCESS| [GIT MASTER] 0bd935abcb823f581ce53986986aa54eaf6f8140 From: dpdklab@iol.unh.edu To: Test Report Cc: dpdk-test-reports@iol.unh.edu, Xueming Li , Christian Ehrhardt , Kevin Traynor , Luca Boccassi Content-Type: text/plain X-BeenThere: test-report@dpdk.org X-Mailman-Version: 2.1.29 Precedence: list List-Id: automatic DPDK test reports List-Unsubscribe: , List-Archive: List-Post: List-Help: List-Subscribe: , Errors-To: test-report-bounces@dpdk.org _Testing PASS_ Branch: tags/v24.11 0bd935abcb823f581ce53986986aa54eaf6f8140 --> testing pass Upstream job id: Generic-DPDK-Compile-Meson#443682 Test environment and result as below: +------------------------------+--------------------+ | Environment | dpdk_meson_compile | +==============================+====================+ | Red Hat Enterprise Linux 9.5 | PASS | +------------------------------+--------------------+ | Ubuntu 20.04 | PASS | +------------------------------+--------------------+ | Debian GNU/Linux 12 | PASS | +------------------------------+--------------------+ | Fedora Linux 42 | PASS | +------------------------------+--------------------+ | Ubuntu 22.04 | PASS | +------------------------------+--------------------+ | Ubuntu 24.04 | PASS | +------------------------------+--------------------+ | CentOS Stream 9 | PASS | +------------------------------+--------------------+ | CentOS Stream 10 | PASS | +------------------------------+--------------------+ Red Hat Enterprise Linux 9.5 Kernel: 5.4 Compiler: gcc gcc (GCC) 11.5.0 20240719 (Red Hat 11.5.0-2) Ubuntu 20.04 Kernel: 5.15 Compiler: aarch64-linux-gnu-gcc gcc (Ubuntu 9.4.0-1ubuntu1~20.04.2) 9.4.0 Debian GNU/Linux 12 Kernel: 5.4 Compiler: gcc gcc (Debian 12.2.0-14+deb12u1) 12.2.0 Fedora Linux 42 Kernel: 5.4 Compiler: gcc gcc (GCC) 15.2.1 20250808 (Red Hat 15.2.1-1) Ubuntu 22.04 Kernel: 5.4 Compiler: gcc gcc (Ubuntu 11.4.0-1ubuntu1~22.04) 11.4.0 Ubuntu 24.04 Kernel: 5.4 Compiler: gcc gcc (Ubuntu 13.3.0-6ubuntu2~24.04) 13.3.0 CentOS Stream 9 Kernel: 5.4 Compiler: gcc gcc (GCC) 11.5.0 20240719 (Red Hat 11.5.0-11) CentOS Stream 10 Kernel: 5.4 Compiler: gcc gcc (GCC) 14.2.1 20250110 (Red Hat 14.2.1-8) To view detailed results, visit: https://lab.dpdk.org/results/dashboard/tarballs/35565/ UNH-IOL DPDK Community Lab To manage your email subscriptions, visit: https://lab.dpdk.org/results/dashboard/preferences/subscriptions/