From mboxrd@z Thu Jan 1 00:00:00 1970 Return-Path: Received: from mails.dpdk.org (mails.dpdk.org [217.70.189.124]) by inbox.dpdk.org (Postfix) with ESMTP id 2264F48AFD for ; Thu, 13 Nov 2025 20:23:28 +0100 (CET) Received: from mails.dpdk.org (localhost [127.0.0.1]) by mails.dpdk.org (Postfix) with ESMTP id 024C740151; Thu, 13 Nov 2025 20:23:28 +0100 (CET) Received: from mail-qv1-f97.google.com (mail-qv1-f97.google.com [209.85.219.97]) by mails.dpdk.org (Postfix) with ESMTP id 3EC8E40151 for ; Thu, 13 Nov 2025 20:23:26 +0100 (CET) Received: by mail-qv1-f97.google.com with SMTP id 6a1803df08f44-88043139c35so12818126d6.0 for ; Thu, 13 Nov 2025 11:23:26 -0800 (PST) DKIM-Signature: v=1; a=rsa-sha256; c=relaxed/relaxed; d=iol.unh.edu; s=unh-iol; t=1763061805; x=1763666605; darn=dpdk.org; h=references:in-reply-to:cc:to:from:subject:message-id:date:from:to :cc:subject:date:message-id:reply-to; bh=hNT51VKR8KS16Zq6ooEXz9yKZOIR+o0acvnpzfCe4RE=; b=g78KB57crxBtZ8OouLOLLiAeIBfl5+gbEQmI6Jgy2YgQJhFGz+6kqtpUgHYZUcHpOK G0rZekP6PS/Z0U9L2aIK7x+Sj3xmoPTflcncprl3fjjFwRZkMrfpZN1oqgBpjqkiVjkP OIpWC9Vami48UzAWKTzvSXT5AvF4bpwtrhSRQ= X-Google-DKIM-Signature: v=1; a=rsa-sha256; c=relaxed/relaxed; d=1e100.net; s=20230601; t=1763061805; x=1763666605; h=references:in-reply-to:cc:to:from:subject:message-id:date:x-gm-gg :x-gm-message-state:from:to:cc:subject:date:message-id:reply-to; bh=hNT51VKR8KS16Zq6ooEXz9yKZOIR+o0acvnpzfCe4RE=; b=cuOSF1I/JdbbeZ69GRdukPjtUjzQ/O1CLyv5Y2HdI5jZw96Mex8G3ycag7/CX96Ou6 ZksebrYMGuhjf//evF80LBJiU3kfNg7lqsudcmNMxDkkh+2FyJOfbNDNQTG7TSmiKXM+ JqB5gSvRr1/vp66RFe9thXjFtdeBhEHOcYf9ewnIQCocNdpRoPTuWu6/P6PdNYVDgub1 7PKWNccikDUF/kIIw7XwDhsk4JqA78LQvNttRl/qmzfPCRiTrPPgn9bnVashgV7FcfTX 9XNqIi3Y7a9z2fuC2RUFdwRwqrC4LcttQYlJ8LkDFK0r+56lWTwwJ6pw/qHWJ1jsyQGW Vzgw== X-Gm-Message-State: AOJu0YyVxz2KfeAJzxNBEdRkqUOsOrCfJ1XH5ynuVcOjJL0YJx7VcnWt fnQolrcaHRL9yB37Nhm1gQqy+Rg0+lSGcVrv+4JOWWeZXk0vZaqqSPbHWCHoL9Wwy9E2Zd0P4l+ CzBKFfrSqSb1v6E4PWf1DSwiiWPePAvDwPsWugYzxObk1 X-Gm-Gg: ASbGncv0GwQlvWWU7Z+8oj2f2DMI29Lbgqp781gg901/5s4CMoidF0HZ8ZmO7Vu3bCM NJfEeUPFdnYK1q9ZEM4nGTg+fHqettYRA3nS+wt0+a2wtq6+G4tF3SsrW7bs2d+ufqcyk+3TACw gI4PYpYuP3dMjlyw/Ukm7Dc4S5lhjCq+8FGJZOkQsPIXV0PmhWq8FsuDE8IgSR2N7XgCQuFzvH7 2OmrQG0pkbrQAsdKjb6N//+ptRBS+aeGcVKyVoXTVYla42bhp1FFBHrcR8NXiQDbURkIWXf4Dob Ep1Qy8WazgBbpSHkfmSFfxJOsKSDN1q1GCGBSdJKbb8oStk6EnrTbJ/OWMDCGtNIaqAaIpNThcS 1RYHEONL0lwkZ2QvTNeQ9XSycbY7QQ60= X-Google-Smtp-Source: AGHT+IHbQrY8EEbhJxY8IbYOJ+qiz+9amF6hIKutzuHTHmFUWpZr//rTK3jO354uTPvyyuRdft8XymAHaTcu X-Received: by 2002:a05:6214:b6a:b0:880:4310:7e02 with SMTP id 6a1803df08f44-882925c1a9fmr4763616d6.21.1763061805626; Thu, 13 Nov 2025 11:23:25 -0800 (PST) Received: from postal.iol.unh.edu (postal.iol.unh.edu. [132.177.123.84]) by smtp-relay.gmail.com with ESMTPS id 6a1803df08f44-88286539c4csm3118666d6.17.2025.11.13.11.23.25 (version=TLS1_2 cipher=ECDHE-ECDSA-AES128-GCM-SHA256 bits=128/128); Thu, 13 Nov 2025 11:23:25 -0800 (PST) X-Relaying-Domain: iol.unh.edu Date: Thu, 13 Nov 2025 11:23:25 -0800 (PST) Message-ID: <6916302d.050a0220.2d30a2.e25aSMTPIN_ADDED_MISSING@mx.google.com> Received: from [172.21.0.4] (unknown [172.18.0.240]) by postal.iol.unh.edu (Postfix) with ESMTP id 58757604D420; Thu, 13 Nov 2025 14:23:25 -0500 (EST) Subject: |SUCCESS| pw158701 [PATCH] [V3] net/mlx5: fix IPv6 DSCP offset in HW From: dpdklab@iol.unh.edu To: Test Report Cc: dpdk-test-reports@iol.unh.edu In-Reply-To: <20251112134236.195614-1-gavinl@nvidia.com> References: <20251112134236.195614-1-gavinl@nvidia.com> Content-Type: text/plain X-BeenThere: test-report@dpdk.org X-Mailman-Version: 2.1.29 Precedence: list List-Id: automatic DPDK test reports List-Unsubscribe: , List-Archive: List-Post: List-Help: List-Subscribe: , Errors-To: test-report-bounces@dpdk.org Test-Label: iol-unit-amd64-testing Test-Status: SUCCESS http://dpdk.org/patch/158701 _Testing PASS_ Submitter: Gavin Li Date: Wednesday, November 12 2025 13:42:36 DPDK git baseline: Repo:dpdk-next-net-mlx Branch: master CommitID:ae657d56b1f0ea979b3f611edf28d773efc2ddcf 158701 --> testing pass Upstream job id: Generic-VM-Unit-Test-DPDK#32494 Test environment and result as below: +-------------------------------+----------------+ | Environment | dpdk_unit_test | +===============================+================+ | Red Hat Enterprise Linux 9.5 | PASS | +-------------------------------+----------------+ | CentOS Stream 9 | PASS | +-------------------------------+----------------+ | Fedora Linux 42 | PASS | +-------------------------------+----------------+ | Debian GNU/Linux 12 | PASS | +-------------------------------+----------------+ | Ubuntu 22.04 | PASS | +-------------------------------+----------------+ | Fedora Linux 41 | PASS | +-------------------------------+----------------+ | Ubuntu 20.04 | PASS | +-------------------------------+----------------+ | Ubuntu 24.04 | PASS | +-------------------------------+----------------+ | Fedora Linux 40 | PASS | +-------------------------------+----------------+ | CentOS Stream 10 | PASS | +-------------------------------+----------------+ | Red Hat Enterprise Linux 8.10 | PASS | +-------------------------------+----------------+ | Windows Server 2022 | PASS | +-------------------------------+----------------+ Red Hat Enterprise Linux 9.5 Kernel: 5.15 Compiler: gcc gcc (GCC) 11.5.0 20240719 (Red Hat 11.5.0-2) CentOS Stream 9 Kernel: 5.15 Compiler: gcc gcc (GCC) 11.5.0 20240719 (Red Hat 11.5.0-11) Fedora Linux 42 Kernel: 5.15 Compiler: gcc gcc (GCC) 15.2.1 20250808 (Red Hat 15.2.1-1) Debian GNU/Linux 12 Kernel: 5.15 Compiler: gcc gcc (Debian 12.2.0-14+deb12u1) 12.2.0 Ubuntu 22.04 Kernel: 5.15 Compiler: gcc gcc (Ubuntu 11.4.0-1ubuntu1~22.04) 11.4.0 Fedora Linux 41 Kernel: 5.15 Compiler: clang gcc (GCC) 14.3.1 20250523 (Red Hat 14.3.1-1) Ubuntu 20.04 Kernel: 5.15 Compiler: gcc gcc (Ubuntu 9.4.0-1ubuntu1~20.04.2) 9.4.0 Ubuntu 24.04 Kernel: 5.15 Compiler: gcc gcc (Ubuntu 13.3.0-6ubuntu2~24.04) 13.3.0 Fedora Linux 40 Kernel: 5.15 Compiler: gcc gcc (GCC) 14.2.1 20240912 (Red Hat 14.2.1-3) CentOS Stream 10 Kernel: 5.15 Compiler: gcc gcc (GCC) 14.2.1 20250110 (Red Hat 14.2.1-8) Red Hat Enterprise Linux 8.10 Kernel: 5.15 Compiler: gcc gcc (GCC) 8.5.0 20210514 (Red Hat 8.5.0-22) Windows Server 2022 Kernel: 10.0.20348.2031 Compiler: clang 15.0.7, gcc 14.1.0 (MinGW), and MSVC VS 19.39.33521 To view detailed results, visit: https://lab.dpdk.org/results/dashboard/patchsets/34550/ UNH-IOL DPDK Community Lab To manage your email subscriptions, visit: https://lab.dpdk.org/results/dashboard/preferences/subscriptions/