From mboxrd@z Thu Jan 1 00:00:00 1970 Return-Path: Received: from mails.dpdk.org (mails.dpdk.org [217.70.189.124]) by inbox.dpdk.org (Postfix) with ESMTP id 369B148AFD for ; Thu, 13 Nov 2025 20:41:25 +0100 (CET) Received: from mails.dpdk.org (localhost [127.0.0.1]) by mails.dpdk.org (Postfix) with ESMTP id 3111640151; Thu, 13 Nov 2025 20:41:25 +0100 (CET) Received: from mail-il1-f228.google.com (mail-il1-f228.google.com [209.85.166.228]) by mails.dpdk.org (Postfix) with ESMTP id A8B5340151 for ; Thu, 13 Nov 2025 20:41:24 +0100 (CET) Received: by mail-il1-f228.google.com with SMTP id e9e14a558f8ab-4335726d0f2so4891085ab.1 for ; Thu, 13 Nov 2025 11:41:24 -0800 (PST) DKIM-Signature: v=1; a=rsa-sha256; c=relaxed/relaxed; d=iol.unh.edu; s=unh-iol; t=1763062884; x=1763667684; darn=dpdk.org; h=references:in-reply-to:cc:to:from:subject:message-id:date:from:to :cc:subject:date:message-id:reply-to; bh=R5aJ+js0cwV6FulX3m+LW2nCdFD0e/ZC26ngzut4P6c=; b=UYk/16R1jVdkbuROy7bGPf754RZPV0oiBp//gn00wE/gqP5a8EP18Xe+USB74mIA6R nb21f3+3U0p/YyIeSa2RZnPyKRCToxfnbYfBMH6bGgusufCBKK/+HlGkFQEeQycnKwG2 5k83a6IvXH2FSx3es5N3nDje6eLyKQveQPjGU= X-Google-DKIM-Signature: v=1; a=rsa-sha256; c=relaxed/relaxed; d=1e100.net; s=20230601; t=1763062884; x=1763667684; h=references:in-reply-to:cc:to:from:subject:message-id:date:x-gm-gg :x-gm-message-state:from:to:cc:subject:date:message-id:reply-to; bh=R5aJ+js0cwV6FulX3m+LW2nCdFD0e/ZC26ngzut4P6c=; b=B6xNcUnVg6wSTcmJO/eif5/J8lDBfkcMeKj0WLA/5JhTvstgDoSIP6tSunGv7A0H2I BWAkPz6hwanW4YLMnk4fKxMqMJfH1nuzBDNQmVZF4xd6qumIakzyanyjCIu0uUK1Ehuq duKzrJyq85So1Ki2eKcnNWVoHZun1IfevZYWrYZscktB4oZYUNCEI+RHKr9aYQr0Scvc CMUgKhzuqZuaNCSoKVQ3zIQIWYRfBYsU9JQylj7YGMj7D+JDbHpx/Kvl7QDfsIoLB6FM +dauIlMtFOCf8eLqWwPDGJpJRrV7/n7AeR/7DVK4wMQnlmsICzshuO2rQZhMPxapCymp 0N2A== X-Gm-Message-State: AOJu0YywhJgbewQIP4EkkoBFPuNwoNmy7fPIVIbNA3RBpxnnAJGCc+Y4 Q0bczOlPwW29MU9CXHlJz5YHPVL6lewIlm/CFxWif9L2h9Ocb2gM4t5gjHszNSWec23J9K8/ckZ f+M9D/HdzPZc9WkMPvw3ahCSs3MwzvkADDGhFd0wiPuWy X-Gm-Gg: ASbGncueOe1N29UgJQz34GFW7zOHu4Jcrg25RmtWEoX9r1AbcTagelyUohuSewfZTV8 7oW/nGnEUYMHx15HzfM6LdKsgEkN4AHBCEFInHvjtp4nYO1YXH7mv1hRKsE49LInG+kB2+z3gEZ bjjSCYQEqhtjpxdP3pJoUv4ky4SA0Bc6Noor06fXcyV/PzCjGSx1S3GTw5zTsp/BIoUYbWOQm/a LgOAVAVwEuz2U4P+3+r88InJ9HNq2ZRp3PxoCDlCODtmdCsYFFLqxNyGDIe4W+OIdPp7A4b8oRG g8zEY+Ob4w7ArZf1OHbhBdmTnNcGndCR5ADIWBan2u80qwme19EO22oE3QkhSCuMUPSB+ruu4w4 NEigO2JTA13SukSiwxntTeUmsVpI7Tkw= X-Google-Smtp-Source: AGHT+IG1Iidsr/TTNpN+5skckSOru14P5aVdHClpUDQcgLX3fShC4NNRAe6px2wjqn0rKgWWHZfbl0Oi9cWX X-Received: by 2002:a05:6e02:3302:b0:433:2072:9d2c with SMTP id e9e14a558f8ab-4348c89e9d5mr13087925ab.10.1763062884027; Thu, 13 Nov 2025 11:41:24 -0800 (PST) Received: from postal.iol.unh.edu (postal.iol.unh.edu. [132.177.123.84]) by smtp-relay.gmail.com with ESMTPS id 8926c6da1cb9f-5b7bd3356a5sm234973173.31.2025.11.13.11.41.23 (version=TLS1_2 cipher=ECDHE-ECDSA-AES128-GCM-SHA256 bits=128/128); Thu, 13 Nov 2025 11:41:24 -0800 (PST) X-Relaying-Domain: iol.unh.edu Date: Thu, 13 Nov 2025 11:41:24 -0800 (PST) Message-ID: <69163464.050a0220.21cff4.ad37SMTPIN_ADDED_MISSING@mx.google.com> Received: from [172.21.0.2] (unknown [172.18.0.240]) by postal.iol.unh.edu (Postfix) with ESMTP id 90B91604D420; Thu, 13 Nov 2025 14:41:23 -0500 (EST) Subject: |SUCCESS| pw158751 [PATCH] [v2] examples/flow_filtering: add more sn From: dpdklab@iol.unh.edu To: Test Report Cc: dpdk-test-reports@iol.unh.edu In-Reply-To: <20251113101347.162908-1-shperetz@nvidia.com> References: <20251113101347.162908-1-shperetz@nvidia.com> Content-Type: text/plain X-BeenThere: test-report@dpdk.org X-Mailman-Version: 2.1.29 Precedence: list List-Id: automatic DPDK test reports List-Unsubscribe: , List-Archive: List-Post: List-Help: List-Subscribe: , Errors-To: test-report-bounces@dpdk.org Test-Label: iol-compile-amd64-testing Test-Status: SUCCESS http://dpdk.org/patch/158751 _Testing PASS_ Submitter: Shani Peretz Date: Thursday, November 13 2025 10:13:44 DPDK git baseline: Repo:dpdk Branch: master CommitID:be0112878b4fc3a1b918370ed2fe615c52039d77 158751 --> testing pass Upstream job id: Generic-DPDK-Compile-Meson#443852 Test environment and result as below: +------------------+--------------------+ | Environment | dpdk_meson_compile | +==================+====================+ | Ubuntu 20.04 | PASS | +------------------+--------------------+ | FreeBSD 14.2 | PASS | +------------------+--------------------+ | CentOS Stream 9 | PASS | +------------------+--------------------+ | CentOS Stream 10 | PASS | +------------------+--------------------+ Ubuntu 20.04 Kernel: 4.19 Compiler: gcc gcc (Ubuntu 9.4.0-1ubuntu1~20.04.2) 9.4.0 FreeBSD 14.2 Kernel: 14.2-RELEASE Compiler: clang 18.1.6 CentOS Stream 9 Kernel: 5.15 Compiler: gcc gcc (GCC) 11.5.0 20240719 (Red Hat 11.5.0-11) CentOS Stream 10 Kernel: 5.15 Compiler: gcc gcc (GCC) 14.2.1 20250110 (Red Hat 14.2.1-8) To view detailed results, visit: https://lab.dpdk.org/results/dashboard/patchsets/34567/ UNH-IOL DPDK Community Lab To manage your email subscriptions, visit: https://lab.dpdk.org/results/dashboard/preferences/subscriptions/