From mboxrd@z Thu Jan 1 00:00:00 1970 Return-Path: Received: from mails.dpdk.org (mails.dpdk.org [217.70.189.124]) by inbox.dpdk.org (Postfix) with ESMTP id 99E0B48AFD for ; Thu, 13 Nov 2025 20:45:40 +0100 (CET) Received: from mails.dpdk.org (localhost [127.0.0.1]) by mails.dpdk.org (Postfix) with ESMTP id 956A540151; Thu, 13 Nov 2025 20:45:40 +0100 (CET) Received: from mail-qv1-f98.google.com (mail-qv1-f98.google.com [209.85.219.98]) by mails.dpdk.org (Postfix) with ESMTP id B6CEC40151 for ; Thu, 13 Nov 2025 20:45:39 +0100 (CET) Received: by mail-qv1-f98.google.com with SMTP id 6a1803df08f44-8824ce9812cso12973746d6.0 for ; Thu, 13 Nov 2025 11:45:39 -0800 (PST) DKIM-Signature: v=1; a=rsa-sha256; c=relaxed/relaxed; d=iol.unh.edu; s=unh-iol; t=1763063139; x=1763667939; darn=dpdk.org; h=references:in-reply-to:cc:to:from:subject:message-id:date:from:to :cc:subject:date:message-id:reply-to; bh=u5mRXSq+lEB7i49PUaSeoMQv1fqO6LBWF+mKqDzu7iI=; b=XwqtGKxw8e15XlIQ0NE/HbJoDFcVdmergFQhh3DrAMziCAp5OL/ZWygY0RF0A4zBuW NhVk3b4o8z4UnHLEts5sLBARw8NdtORgEIwGPqNzCFkRz+QYXPatme9o+j7mOa2QpZt3 M3cGF25Y6y76sNF7Fz1A5IjhvVG6fOXwmLsDI= X-Google-DKIM-Signature: v=1; a=rsa-sha256; c=relaxed/relaxed; d=1e100.net; s=20230601; t=1763063139; x=1763667939; h=references:in-reply-to:cc:to:from:subject:message-id:date:x-gm-gg :x-gm-message-state:from:to:cc:subject:date:message-id:reply-to; bh=u5mRXSq+lEB7i49PUaSeoMQv1fqO6LBWF+mKqDzu7iI=; b=lmbT+4jJqWoTQIVmBPpMM0GSUHYo0DUM8KRp071+qeVMzxsDglnb+DeydbJnlg+Djt TVX/qHLKFMQZKe2iyuRFF1cIaCfu2ikem5bOPoKRv6y8SOTDpIjgA0JoObuh7voaL7Nj Wc4/DNJSHz1QyKE+AAIy7RjMeNx+gyDKGtifP7jA6in02TP7tDVFfwCap1AIqghcMaLt GSnTO8kb5rhTDlgxv3ShsN5B+CLR6C5iTAGnuUbi0l63RMBnOiy9tAmT/EjgWvOEIJyS 6h+sqwZqGN7UpkmCuMgSKVazLX/plq6BTezsW5npR8Hcvse4Lt/z1o++RGl+oIpoZRe+ ZKJw== X-Gm-Message-State: AOJu0Yz6b5T4xi5EZ+tKNNQetqKSnli8i62BhThxxLQzU3nwJOtn9MON piGoqyzfqDEh/74mP1mceJqUKm7PsBCYqGVqzWW2rDxzp7MbF9KWuIpNYh3TaYs+uZ4evFoNAM5 IQ8m+D8zeKmKI+gc06/uXPNWywHPqZI+x93sBZgbtDdl0fLzeMDX+qFRuLpV3 X-Gm-Gg: ASbGncs9KHLb5cnnVEa9ZQP9dIEUnloh+WUhBC7OFms02RhVcbRnljXNVhsnvNcAs6r hD72SzOsjUbKcV0rOsDtH4jHt9A8mVI9bjASX8/FqqpygC0kKsg3nADTIGJvIkmMdO8Tv5l7QPx W7rG4tgeTH/gpHBtLGknM706IOFVKMM5Hr1vRsR+8VkzVv+6DKxhdMyRTDcr6fYwVUb1TyCqbrA BFsyfmwxc0b//q2+UgLWQoRs2hrz608PffPDYLCkoFm7hUd7VEKK0a6lRqlOleZMeN51qEbespn B7snfW3Gy/cLZjpTCHy4MZn5xqE2XV16j9bBWNUgrPhiiWFmp2CKWk4qYJP81mAcw0l7G+TXO+Q IlselOKJm X-Google-Smtp-Source: AGHT+IFrFNV+k1PmgCYqWTxmKebaaorjvcgiEHeVlptCKgGHjoXiDe893BbvUhpuV6/oiLX4kFQ+fhfXGzTG X-Received: by 2002:a05:6214:1305:b0:882:4a63:63a7 with SMTP id 6a1803df08f44-8829274ca01mr4483046d6.60.1763063139127; Thu, 13 Nov 2025 11:45:39 -0800 (PST) Received: from postal.iol.unh.edu (postal.iol.unh.edu. [2606:4100:3880:1234::84]) by smtp-relay.gmail.com with ESMTPS id 6a1803df08f44-882865b13a4sm3362686d6.31.2025.11.13.11.45.39 (version=TLS1_2 cipher=ECDHE-ECDSA-AES128-GCM-SHA256 bits=128/128); Thu, 13 Nov 2025 11:45:39 -0800 (PST) X-Relaying-Domain: iol.unh.edu Date: Thu, 13 Nov 2025 11:45:39 -0800 (PST) Message-ID: <69163563.d40a0220.276039.f76eSMTPIN_ADDED_MISSING@mx.google.com> Received: from [172.21.0.2] (unknown [172.18.0.240]) by postal.iol.unh.edu (Postfix) with ESMTP id DB598604D420; Thu, 13 Nov 2025 14:45:38 -0500 (EST) Subject: |SUCCESS| pw158707-158710 [PATCH] [v2,4/4] test: vary size of packet From: dpdklab@iol.unh.edu To: Test Report Cc: dpdk-test-reports@iol.unh.edu In-Reply-To: <20251112181421.285119-5-stephen@networkplumber.org> References: <20251112181421.285119-5-stephen@networkplumber.org> Content-Type: text/plain X-BeenThere: test-report@dpdk.org X-Mailman-Version: 2.1.29 Precedence: list List-Id: automatic DPDK test reports List-Unsubscribe: , List-Archive: List-Post: List-Help: List-Subscribe: , Errors-To: test-report-bounces@dpdk.org Test-Label: iol-unit-arm64-testing Test-Status: SUCCESS http://dpdk.org/patch/158710 _Testing PASS_ Submitter: Stephen Hemminger Date: Wednesday, November 12 2025 18:12:50 DPDK git baseline: Repo:dpdk Branch: master CommitID:be0112878b4fc3a1b918370ed2fe615c52039d77 158707-158710 --> testing pass Upstream job id: Generic-Unit-Test-DPDK#391679 Test environment and result as below: +------------------------------+----------------+--------------+------------------------------+---------------------------+ | Environment | dpdk_unit_test | lpm_autotest | cryptodev_sw_snow3g_autotest | cryptodev_sw_zuc_autotest | +==============================+================+==============+==============================+===========================+ | Debian GNU/Linux 12 | PASS | SKIPPED | SKIPPED | SKIPPED | +------------------------------+----------------+--------------+------------------------------+---------------------------+ | Fedora Linux 40 | PASS | SKIPPED | SKIPPED | SKIPPED | +------------------------------+----------------+--------------+------------------------------+---------------------------+ | CentOS Stream 10 | PASS | SKIPPED | SKIPPED | SKIPPED | +------------------------------+----------------+--------------+------------------------------+---------------------------+ | CentOS Stream 9 | PASS | SKIPPED | SKIPPED | SKIPPED | +------------------------------+----------------+--------------+------------------------------+---------------------------+ | Fedora Linux 41 | PASS | SKIPPED | SKIPPED | SKIPPED | +------------------------------+----------------+--------------+------------------------------+---------------------------+ | Red Hat Enterprise Linux 9.5 | PASS | SKIPPED | SKIPPED | SKIPPED | +------------------------------+----------------+--------------+------------------------------+---------------------------+ | Fedora Linux 42 | PASS | SKIPPED | SKIPPED | SKIPPED | +------------------------------+----------------+--------------+------------------------------+---------------------------+ | Ubuntu 22.04 | PASS | SKIPPED | SKIPPED | SKIPPED | +------------------------------+----------------+--------------+------------------------------+---------------------------+ | Ubuntu 24.04 | PASS | SKIPPED | SKIPPED | SKIPPED | +------------------------------+----------------+--------------+------------------------------+---------------------------+ | Ubuntu 20.04 | PASS | PASS | SKIPPED | SKIPPED | +------------------------------+----------------+--------------+------------------------------+---------------------------+ | Debian 12 (arm) | SKIPPED | SKIPPED | PASS | PASS | +------------------------------+----------------+--------------+------------------------------+---------------------------+ Debian GNU/Linux 12 Kernel: 5.4 Compiler: gcc gcc (Debian 12.2.0-14+deb12u1) 12.2.0 Fedora Linux 40 Kernel: 5.4 Compiler: clang gcc (GCC) 14.2.1 20240912 (Red Hat 14.2.1-3) CentOS Stream 10 Kernel: 5.4 Compiler: gcc gcc (GCC) 14.2.1 20250110 (Red Hat 14.2.1-8) CentOS Stream 9 Kernel: 5.4 Compiler: gcc gcc (GCC) 11.5.0 20240719 (Red Hat 11.5.0-11) Fedora Linux 41 Kernel: 5.4 Compiler: clang gcc (GCC) 14.3.1 20250523 (Red Hat 14.3.1-1) Red Hat Enterprise Linux 9.5 Kernel: 5.4 Compiler: gcc gcc (GCC) 11.5.0 20240719 (Red Hat 11.5.0-2) Fedora Linux 42 Kernel: 5.4 Compiler: gcc gcc (GCC) 15.2.1 20250808 (Red Hat 15.2.1-1) Ubuntu 22.04 Kernel: 5.4 Compiler: gcc gcc (Ubuntu 11.4.0-1ubuntu1~22.04) 11.4.0 Ubuntu 24.04 Kernel: 5.4 Compiler: gcc gcc (Ubuntu 13.3.0-6ubuntu2~24.04) 13.3.0 Ubuntu 20.04 Kernel: 5.4 Compiler: gcc gcc (Ubuntu 9.4.0-1ubuntu1~20.04.2) 9.4.0 Debian 12 (arm) Kernel: Depends on container host Compiler: gcc (Debian 12.2.0-14) 12.2.0 To view detailed results, visit: https://lab.dpdk.org/results/dashboard/patchsets/34559/ UNH-IOL DPDK Community Lab To manage your email subscriptions, visit: https://lab.dpdk.org/results/dashboard/preferences/subscriptions/