From mboxrd@z Thu Jan 1 00:00:00 1970 Return-Path: Received: from mails.dpdk.org (mails.dpdk.org [217.70.189.124]) by inbox.dpdk.org (Postfix) with ESMTP id 6F2B248AFD for ; Thu, 13 Nov 2025 20:54:58 +0100 (CET) Received: from mails.dpdk.org (localhost [127.0.0.1]) by mails.dpdk.org (Postfix) with ESMTP id 6B44140151; Thu, 13 Nov 2025 20:54:58 +0100 (CET) Received: from mail-pj1-f97.google.com (mail-pj1-f97.google.com [209.85.216.97]) by mails.dpdk.org (Postfix) with ESMTP id 59BD340151 for ; Thu, 13 Nov 2025 20:54:57 +0100 (CET) Received: by mail-pj1-f97.google.com with SMTP id 98e67ed59e1d1-340c39ee02dso1084108a91.1 for ; Thu, 13 Nov 2025 11:54:57 -0800 (PST) DKIM-Signature: v=1; a=rsa-sha256; c=relaxed/relaxed; d=iol.unh.edu; s=unh-iol; t=1763063696; x=1763668496; darn=dpdk.org; h=references:in-reply-to:cc:to:from:subject:message-id:date:from:to :cc:subject:date:message-id:reply-to; bh=QPHzxkXqYXhDYWFSGlBaG7o8G4nXPNF3YT+Fp7Sriro=; b=LQ6UOKUE9Q80pYvOBkanRRbh+QqfCO0p5YyR8XIoOYgSupqaDzttHZmLJnkmeBo8ps Ko6rwnhfEzfL/igTBAOY1ZAhjALgpkK8m7Hi3S/WXnxlYgpak23yNa3Pnh4WA3nrNPfy 7HN9p0XD2aIDrkvdlTuKYQ25s9Wqzxn69jOM4= X-Google-DKIM-Signature: v=1; a=rsa-sha256; c=relaxed/relaxed; d=1e100.net; s=20230601; t=1763063696; x=1763668496; h=references:in-reply-to:cc:to:from:subject:message-id:date:x-gm-gg :x-gm-message-state:from:to:cc:subject:date:message-id:reply-to; bh=QPHzxkXqYXhDYWFSGlBaG7o8G4nXPNF3YT+Fp7Sriro=; b=aWA0uzWynTF8FRLhDleVf+7r3b5mRCaiYj6Y4jjV2oQq70oRtmvtVbumrLk6ntCN69 gFW60aV4si4TLEDoH/kwMaEgFNFESD0J4JnZC5Ci/Ez+b85nmXd9m/bfgipi/6EH5HAB DuIbkOBXtgznLT00TXxMt+Gl+zGLo3jQ8fUceSGfDdOsSgHroKvBBywDX8ra1V1+Wdlo TcPSououc3Q4s09q9tytddsEHcwoPNFzGcdjiUqEhPgTUac0EGEnqrqJotTv/TYae74o +wh4rulura78KlJMfA6QV+8haU6/MvLiZuM1StwGCRoE9HIyhj8bm2xb6ofum2sxZcW4 yyHw== X-Gm-Message-State: AOJu0YxC47plsMNfLirBPmAZUdmVAuYS5v3MZuewBhgNs50I/rgFUppR v0mJJjI6cejSboTVMooZSevqPSg0tYFClJZ379VLnzcfo+Z0TF4TGis5RuXOLNzWglZ1cXa9OmF gB1itzdy5QSHEvkgO2sqZoxd/3VpynNeJAfrB/Z7EF3xc8pncO+GQ8uvz0suB X-Gm-Gg: ASbGnctgjJJJzkxEujmnqm29XQt3H6HOyWzNpXjgciz8mnUnzG3W+Vs9Zp8JIREqYaM BULLokGb45juJJ/FMxpfd3S4b1HLUTgSTbAjcVkWPEV9CeIvD8ibnbI+sb4FYawlNxKZnRseJYb 2b/ZqkVTxQdZr67JTUa8BsepuMci2FscjPECVFtgGSEOx9yMyZnnOdC8tVxzvWGoF3WpKDl1TuJ z+OmOLWphnxeSnyKjUETXDdeNFFWwCquHA4B0d1Fb7G5WBXf++pYJ0oTIsVxVcit3t+pXcN/mrS Gkh27oysy5ZyTYg0I2FG3+Kzztc3xkYTz17FhXxUIhCklqBavZtBe4T/79oJfnQ++GodAmU4O07 cuPw1eZDA X-Google-Smtp-Source: AGHT+IGnES4lLvTUk+clDv5mLgbTEIkNBL1//Bjx1CQOyX2a4fXeLsiheqaRIpSp6RrVsY4JOQ3z3vhFIpgU X-Received: by 2002:a17:902:f606:b0:298:42ba:c437 with SMTP id d9443c01a7336-2986a7676c4mr2033275ad.50.1763063696575; Thu, 13 Nov 2025 11:54:56 -0800 (PST) Received: from postal.iol.unh.edu (postal.iol.unh.edu. [2606:4100:3880:1234::84]) by smtp-relay.gmail.com with ESMTPS id d9443c01a7336-2985c2a8d80sm3080095ad.34.2025.11.13.11.54.56 (version=TLS1_2 cipher=ECDHE-ECDSA-AES128-GCM-SHA256 bits=128/128); Thu, 13 Nov 2025 11:54:56 -0800 (PST) X-Relaying-Domain: iol.unh.edu Date: Thu, 13 Nov 2025 11:54:56 -0800 (PST) Message-ID: <69163790.170a0220.8f61.e82bSMTPIN_ADDED_MISSING@mx.google.com> Received: from [172.21.0.2] (unknown [172.18.0.240]) by postal.iol.unh.edu (Postfix) with ESMTP id 0947F604D420; Thu, 13 Nov 2025 14:54:56 -0500 (EST) Subject: |SUCCESS| pw158547 [PATCH] telemetry: make socket handler typedef pr From: dpdklab@iol.unh.edu To: Test Report Cc: dpdk-test-reports@iol.unh.edu In-Reply-To: <20251107093259.3305537-1-bruce.richardson@intel.com> References: <20251107093259.3305537-1-bruce.richardson@intel.com> Content-Type: text/plain X-BeenThere: test-report@dpdk.org X-Mailman-Version: 2.1.29 Precedence: list List-Id: automatic DPDK test reports List-Unsubscribe: , List-Archive: List-Post: List-Help: List-Subscribe: , Errors-To: test-report-bounces@dpdk.org Test-Label: iol-compile-amd64-testing Test-Status: SUCCESS http://dpdk.org/patch/158547 _Testing PASS_ Submitter: Bruce Richardson Date: Friday, November 07 2025 09:32:59 DPDK git baseline: Repo:dpdk Branch: master CommitID:be0112878b4fc3a1b918370ed2fe615c52039d77 158547 --> testing pass Upstream job id: Windows-Compile-DPDK-VS#7520 Test environment and result as below: +-------------------------------+--------------------+------------------+-------------------+ | Environment | dpdk_meson_compile | dpdk_compile_ovs | dpdk_msvc_compile | +===============================+====================+==================+===================+ | FreeBSD 14.2 | PASS | SKIPPED | SKIPPED | +-------------------------------+--------------------+------------------+-------------------+ | Ubuntu 20.04 | PASS | SKIPPED | SKIPPED | +-------------------------------+--------------------+------------------+-------------------+ | CentOS Stream 9 | PASS | SKIPPED | SKIPPED | +-------------------------------+--------------------+------------------+-------------------+ | Fedora Linux 42 | PASS | PASS | SKIPPED | +-------------------------------+--------------------+------------------+-------------------+ | CentOS Stream 10 | PASS | SKIPPED | SKIPPED | +-------------------------------+--------------------+------------------+-------------------+ | Debian GNU/Linux 12 | PASS | SKIPPED | SKIPPED | +-------------------------------+--------------------+------------------+-------------------+ | openSUSE Leap 15.6 | PASS | SKIPPED | SKIPPED | +-------------------------------+--------------------+------------------+-------------------+ | Red Hat Enterprise Linux 8.10 | PASS | SKIPPED | SKIPPED | +-------------------------------+--------------------+------------------+-------------------+ | Red Hat Enterprise Linux 9.5 | PASS | SKIPPED | SKIPPED | +-------------------------------+--------------------+------------------+-------------------+ | Ubuntu 22.04 | PASS | SKIPPED | SKIPPED | +-------------------------------+--------------------+------------------+-------------------+ | Ubuntu 24.04 | PASS | PASS | SKIPPED | +-------------------------------+--------------------+------------------+-------------------+ | Alpine Linux 3.22.0 | PASS | SKIPPED | SKIPPED | +-------------------------------+--------------------+------------------+-------------------+ | Windows Server 2022 | SKIPPED | SKIPPED | PASS | +-------------------------------+--------------------+------------------+-------------------+ FreeBSD 14.2 Kernel: 14.2-RELEASE Compiler: clang 18.1.6 Ubuntu 20.04 Kernel: 4.19 Compiler: gcc gcc (Ubuntu 9.4.0-1ubuntu1~20.04.2) 9.4.0 CentOS Stream 9 Kernel: 5.15 Compiler: gcc gcc (GCC) 11.5.0 20240719 (Red Hat 11.5.0-11) Fedora Linux 42 Kernel: 5.15 Compiler: clang gcc (GCC) 15.2.1 20250808 (Red Hat 15.2.1-1) CentOS Stream 10 Kernel: 5.15 Compiler: gcc gcc (GCC) 14.2.1 20250110 (Red Hat 14.2.1-8) Debian GNU/Linux 12 Kernel: 5.15 Compiler: gcc gcc (Debian 12.2.0-14+deb12u1) 12.2.0 openSUSE Leap 15.6 Kernel: 5.15 Compiler: gcc gcc (SUSE Linux) 7.5.0 Red Hat Enterprise Linux 8.10 Kernel: 5.15 Compiler: gcc gcc (GCC) 8.5.0 20210514 (Red Hat 8.5.0-22) Red Hat Enterprise Linux 9.5 Kernel: 5.15 Compiler: gcc gcc (GCC) 11.5.0 20240719 (Red Hat 11.5.0-2) Ubuntu 22.04 Kernel: 5.15 Compiler: gcc gcc (Ubuntu 11.4.0-1ubuntu1~22.04) 11.4.0 Ubuntu 24.04 Kernel: 5.15 Compiler: gcc gcc (Ubuntu 13.3.0-6ubuntu2~24.04) 13.3.0 Alpine Linux 3.22.0 Kernel: 5.15 Compiler: gcc gcc (Alpine 14.2.0) 14.2.0 Windows Server 2022 Kernel: 10.0.20348.2031 Compiler: clang 15.0.7, gcc 14.1.0 (MinGW), and MSVC VS 19.39.33521 To view detailed results, visit: https://lab.dpdk.org/results/dashboard/patchsets/34555/ UNH-IOL DPDK Community Lab To manage your email subscriptions, visit: https://lab.dpdk.org/results/dashboard/preferences/subscriptions/