From mboxrd@z Thu Jan 1 00:00:00 1970 Return-Path: Received: from mails.dpdk.org (mails.dpdk.org [217.70.189.124]) by inbox.dpdk.org (Postfix) with ESMTP id 3282248AFD for ; Thu, 13 Nov 2025 21:01:05 +0100 (CET) Received: from mails.dpdk.org (localhost [127.0.0.1]) by mails.dpdk.org (Postfix) with ESMTP id 2E04740151; Thu, 13 Nov 2025 21:01:05 +0100 (CET) Received: from mail-io1-f98.google.com (mail-io1-f98.google.com [209.85.166.98]) by mails.dpdk.org (Postfix) with ESMTP id 1ACCC40151 for ; Thu, 13 Nov 2025 21:01:04 +0100 (CET) Received: by mail-io1-f98.google.com with SMTP id ca18e2360f4ac-948a50b8ea6so89120339f.1 for ; Thu, 13 Nov 2025 12:01:04 -0800 (PST) DKIM-Signature: v=1; a=rsa-sha256; c=relaxed/relaxed; d=iol.unh.edu; s=unh-iol; t=1763064063; x=1763668863; darn=dpdk.org; h=references:in-reply-to:cc:to:from:subject:message-id:date:from:to :cc:subject:date:message-id:reply-to; bh=j2TO4bJPuSjrE87BmXD1WaudAACq/ta/be/SGpTPZdc=; b=WEiwKMPfVPsamyfw8f9riUTReCizzy7Tt7ubuNwEFsn3BidE4m3FVcsXqFqqVU0etO 2eEigB5o0fhtzaII7qF36R2MlatZURSEM/A+8O+Fqarflr+0Ut5QfqVkL0//BZhi0w4m m2kc1VfJ1f7BiO3N7xJhMUVT1qorYp88y6MRc= X-Google-DKIM-Signature: v=1; a=rsa-sha256; c=relaxed/relaxed; d=1e100.net; s=20230601; t=1763064063; x=1763668863; h=references:in-reply-to:cc:to:from:subject:message-id:date:x-gm-gg :x-gm-message-state:from:to:cc:subject:date:message-id:reply-to; bh=j2TO4bJPuSjrE87BmXD1WaudAACq/ta/be/SGpTPZdc=; b=TctNlQi4lG2q6D8KHCEjIPBhIyu1x3TXTdh/7l6G3uLA1fkaLJ7hBuGnUYVHbHSwaO VOS5eyEaOrX5vy8FJwiym8nu1u4MvNnORtJIfrtDhkZY9b+XHDOfcXHgds/txaiN1Pwn JcOQfy15GvmWLb91FTGR1T3NLWXzQBztlf7JIygLVMDQpyHxiBxdmqcp1RBD+bhis6xd Px/Eck0CgnUKbmT+99Jl2wNVbFKXkyMGf7I2Wc2LQ6Z6lc2uhIjhrluNW4V43lPhLmc6 EYKJhT+uAdNy//rRlJWRbFPgfOxuXH0O/s1vb6qMM+Fi/wKBnKaWoEbhzdcRzFoVcRUM pgoQ== X-Gm-Message-State: AOJu0Yzimq8gCWSQfK17UmRnRzzU8o0h/RNIwk62LdvjadeSiRs1ZWhX HmUT0eQkuvEHp5kQIJpYjh4azaQ/UMmKM8DkJbAzvi/iTifP2/4s+jyM/mgQhRpPGbv9c/go7T1 /QMOF7wEKBeYxhBeXV+jJCKeX2da6pQQaDArtitXCUEK8 X-Gm-Gg: ASbGncut9JUf3BtpF2K7HSz0wIAnUuKpxKWcM4JIaSZVcPZS4eDga5N13/CtrNTkx3U ZUwVkMVm2oGemUxP3hxlSZ6McGAOHqECwTZIwjivKzEPIzTWPkeiFP5NM4JEM7pWFwj7lxMDstB i3wDryix4Gns2zZFAL7QHjSOIxxLYF7C6kdIARzEJC0LIHyv4Fp4xSRjZAnvtaFcRgbCoRM7bJt 6ip+zYEYRW1NqEpKQoIsehC1HV3Gh+Z82O1mW4lEnntC0QBV56CT34Vlp1NabfNWc7SdJB50HjY qIZXPy4FJuEZY1muZWZ8dV8fNLVWzOPbOnlCTCQ5J+C6cMQSl5lZH6RTTQBq+kQrY0TkYCTXUAR hbkRN6pgTfP10y+w8h3aXKBS6Uw/HYp8= X-Google-Smtp-Source: AGHT+IHJ4QfwcgfNWYqePt+ZAmLj19+zmpQjdiy97YrkgFVbHC3Lk5W3kYZgXnzF7Fj+V5N1WhEKvnjVxHVB X-Received: by 2002:a05:6e02:3389:b0:433:74ba:8bf5 with SMTP id e9e14a558f8ab-4348c9496e4mr10930385ab.23.1763064063346; Thu, 13 Nov 2025 12:01:03 -0800 (PST) Received: from postal.iol.unh.edu (postal.iol.unh.edu. [132.177.123.84]) by smtp-relay.gmail.com with ESMTPS id e9e14a558f8ab-434839d7a52sm2324215ab.28.2025.11.13.12.01.03 (version=TLS1_2 cipher=ECDHE-ECDSA-AES128-GCM-SHA256 bits=128/128); Thu, 13 Nov 2025 12:01:03 -0800 (PST) X-Relaying-Domain: iol.unh.edu Date: Thu, 13 Nov 2025 12:01:03 -0800 (PST) Message-ID: <691638ff.050a0220.9f4b.a67bSMTPIN_ADDED_MISSING@mx.google.com> Received: from [172.21.0.2] (unknown [172.18.0.240]) by postal.iol.unh.edu (Postfix) with ESMTP id DEA31604D420; Thu, 13 Nov 2025 15:01:02 -0500 (EST) Subject: |SUCCESS| pw158669 [PATCH] [v2,1/1] eal: correct memory ordering in From: dpdklab@iol.unh.edu To: Test Report Cc: dpdk-test-reports@iol.unh.edu In-Reply-To: <20251111173850.790254-1-wathsala.vithanage@arm.com> References: <20251111173850.790254-1-wathsala.vithanage@arm.com> Content-Type: text/plain X-BeenThere: test-report@dpdk.org X-Mailman-Version: 2.1.29 Precedence: list List-Id: automatic DPDK test reports List-Unsubscribe: , List-Archive: List-Post: List-Help: List-Subscribe: , Errors-To: test-report-bounces@dpdk.org Test-Label: iol-compile-amd64-testing Test-Status: SUCCESS http://dpdk.org/patch/158669 _Testing PASS_ Submitter: Wathsala Vithanage Date: Tuesday, November 11 2025 17:38:50 DPDK git baseline: Repo:dpdk Branch: master CommitID:994644dcbdca1490bd831e4fd1d7d5b0b79d1874 158669 --> testing pass Upstream job id: Windows-Compile-DPDK-Native#32298 Test environment and result as below: +-------------------------------+--------------------+------------------+-------------------+-------------------------+ | Environment | dpdk_meson_compile | dpdk_compile_ovs | dpdk_msvc_compile | dpdk_llvm_clang_compile | +===============================+====================+==================+===================+=========================+ | Ubuntu 20.04 | PASS | SKIPPED | SKIPPED | SKIPPED | +-------------------------------+--------------------+------------------+-------------------+-------------------------+ | FreeBSD 14.2 | PASS | SKIPPED | SKIPPED | SKIPPED | +-------------------------------+--------------------+------------------+-------------------+-------------------------+ | CentOS Stream 9 | PASS | SKIPPED | SKIPPED | SKIPPED | +-------------------------------+--------------------+------------------+-------------------+-------------------------+ | CentOS Stream 10 | PASS | SKIPPED | SKIPPED | SKIPPED | +-------------------------------+--------------------+------------------+-------------------+-------------------------+ | Debian GNU/Linux 12 | PASS | SKIPPED | SKIPPED | SKIPPED | +-------------------------------+--------------------+------------------+-------------------+-------------------------+ | Fedora Linux 42 | PASS | PASS | SKIPPED | SKIPPED | +-------------------------------+--------------------+------------------+-------------------+-------------------------+ | openSUSE Leap 15.6 | PASS | SKIPPED | SKIPPED | SKIPPED | +-------------------------------+--------------------+------------------+-------------------+-------------------------+ | Red Hat Enterprise Linux 8.10 | PASS | SKIPPED | SKIPPED | SKIPPED | +-------------------------------+--------------------+------------------+-------------------+-------------------------+ | Red Hat Enterprise Linux 9.5 | PASS | SKIPPED | SKIPPED | SKIPPED | +-------------------------------+--------------------+------------------+-------------------+-------------------------+ | Ubuntu 22.04 | PASS | SKIPPED | SKIPPED | SKIPPED | +-------------------------------+--------------------+------------------+-------------------+-------------------------+ | Ubuntu 24.04 | PASS | PASS | SKIPPED | SKIPPED | +-------------------------------+--------------------+------------------+-------------------+-------------------------+ | Alpine Linux 3.22.0 | PASS | SKIPPED | SKIPPED | SKIPPED | +-------------------------------+--------------------+------------------+-------------------+-------------------------+ | Windows Server 2022 | SKIPPED | SKIPPED | PASS | PASS | +-------------------------------+--------------------+------------------+-------------------+-------------------------+ Ubuntu 20.04 Kernel: 4.19 Compiler: gcc gcc (Ubuntu 9.4.0-1ubuntu1~20.04.2) 9.4.0 FreeBSD 14.2 Kernel: 14.2-RELEASE Compiler: clang 18.1.6 CentOS Stream 9 Kernel: 5.15 Compiler: gcc gcc (GCC) 11.5.0 20240719 (Red Hat 11.5.0-11) CentOS Stream 10 Kernel: 5.15 Compiler: gcc gcc (GCC) 14.2.1 20250110 (Red Hat 14.2.1-8) Debian GNU/Linux 12 Kernel: 5.15 Compiler: gcc gcc (Debian 12.2.0-14+deb12u1) 12.2.0 Fedora Linux 42 Kernel: 5.15 Compiler: clang gcc (GCC) 15.2.1 20250808 (Red Hat 15.2.1-1) openSUSE Leap 15.6 Kernel: 5.15 Compiler: gcc gcc (SUSE Linux) 7.5.0 Red Hat Enterprise Linux 8.10 Kernel: 5.15 Compiler: gcc gcc (GCC) 8.5.0 20210514 (Red Hat 8.5.0-22) Red Hat Enterprise Linux 9.5 Kernel: 5.15 Compiler: gcc gcc (GCC) 11.5.0 20240719 (Red Hat 11.5.0-2) Ubuntu 22.04 Kernel: 5.15 Compiler: gcc gcc (Ubuntu 11.4.0-1ubuntu1~22.04) 11.4.0 Ubuntu 24.04 Kernel: 5.15 Compiler: gcc gcc (Ubuntu 13.3.0-6ubuntu2~24.04) 13.3.0 Alpine Linux 3.22.0 Kernel: 5.15 Compiler: gcc gcc (Alpine 14.2.0) 14.2.0 Windows Server 2022 Kernel: 10.0.20348.2031 Compiler: clang 15.0.7, gcc 14.1.0 (MinGW), and MSVC VS 19.39.33521 To view detailed results, visit: https://lab.dpdk.org/results/dashboard/patchsets/34537/ UNH-IOL DPDK Community Lab To manage your email subscriptions, visit: https://lab.dpdk.org/results/dashboard/preferences/subscriptions/