From mboxrd@z Thu Jan 1 00:00:00 1970 Return-Path: Received: from mails.dpdk.org (mails.dpdk.org [217.70.189.124]) by inbox.dpdk.org (Postfix) with ESMTP id B8CCF48AFD for ; Thu, 13 Nov 2025 21:19:35 +0100 (CET) Received: from mails.dpdk.org (localhost [127.0.0.1]) by mails.dpdk.org (Postfix) with ESMTP id B388840151; Thu, 13 Nov 2025 21:19:35 +0100 (CET) Received: from mail-qv1-f99.google.com (mail-qv1-f99.google.com [209.85.219.99]) by mails.dpdk.org (Postfix) with ESMTP id AB1AE40151 for ; Thu, 13 Nov 2025 21:19:34 +0100 (CET) Received: by mail-qv1-f99.google.com with SMTP id 6a1803df08f44-8823fa3bd95so15315486d6.1 for ; Thu, 13 Nov 2025 12:19:34 -0800 (PST) DKIM-Signature: v=1; a=rsa-sha256; c=relaxed/relaxed; d=iol.unh.edu; s=unh-iol; t=1763065174; x=1763669974; darn=dpdk.org; h=references:in-reply-to:cc:to:from:subject:message-id:date:from:to :cc:subject:date:message-id:reply-to; bh=Z8MfVS+9sRCgl1WizXY2UpB8goQgrYDZeMMBpoVT7S0=; b=FnLLMXMGF6kxSWvqfz2wLKqSsXrceaRlxxd6nQpExWSwx0H5OhmqYk59Rt08EUSnMn k3UeS+nv0XahfKw0njr+PAyK2Mo5Zv21kwch0wIhHEJByjCW1deWD0uBKuQasPIzaXsQ j5cbKWoMODTeSAcS9yVk0EFcuj3yMUWO8SM3Y= X-Google-DKIM-Signature: v=1; a=rsa-sha256; c=relaxed/relaxed; d=1e100.net; s=20230601; t=1763065174; x=1763669974; h=references:in-reply-to:cc:to:from:subject:message-id:date:x-gm-gg :x-gm-message-state:from:to:cc:subject:date:message-id:reply-to; bh=Z8MfVS+9sRCgl1WizXY2UpB8goQgrYDZeMMBpoVT7S0=; b=ICGtphNEatPY4aWU6HChiUszUnbX9L+OvtfIx/UdfxEQPCEp2g4GYiobw69TCCNqwL FP+tghEJt2Q8PFMfVlWA6s3z1Rf5g1HZxBnvK8S2N5jR/W/vU0/5xR2jSnXqTqrCAKHG fgjPYRoReKSx5QDG1LjgUtxmRH5JXv++cOeppS3YgMvyo1dM1pJCc1A8DNAYze02OVZc FNZKBwCTjgD8mmtJCcIYk0PeqhcRr6f0z4JzsR1aKkx+zsw3NTxhw5ZCmJQN8d/SZarX Acq5GjBZdp0yg2c/qrp/IqOCZ4JT2F7bF9UbXJ27Sn5QHTaINxbTxcQf8vZDgbijY7Zv rC5w== X-Gm-Message-State: AOJu0Yws1hiyqbxoisZ7/JIPcYAt+KEx2ljI1VXs5YwJ6HRibRofXHXT kNlY4Dsp6A4Rz1i04nzvfAfI9yYsu10wiPDKeJtSGA+3UF5SJ8cbYvBjIes4Jaz6X4BZU/vsO0X t+Ba+rNuTrJ0e+qKgnKT6FZHblV48Z3yeJDrtywFqF4Sw X-Gm-Gg: ASbGncvRmRb2y0PzudfomLqbHho0+odxozpzFo7rAfOjGqwQKx+5vr+Qh8bn5Q57nys iRF5rOsqZ7aio+wm3qody2eUj0tmrCaWvLT5kW8wZf1OUSdGOR1LKl76MQhnR/QcUQEXXAWS6JF o0WuTuDfYUEZWYnTEFgsauIPCAF7y+2HnJ7H36hcKOiT8aHkG9dt1io2XBzCzoORijlSbgNzk+e o65kyoYuc0HG3iBnoTIvv7LJUWsKssS3QEv9A2igevuesNcqHZr2aebrUjM69NdaLGQe85jfjV0 vino3Ds6XXtsRQQuKed9uyLSIEPXP18QYzgj977aSTDSGDdCQCkWh2sh/XAJOxvPBf97BPj8s/g uOXnB9uoWxEiOyoyLPBNLOISEssarDlU= X-Google-Smtp-Source: AGHT+IFVkRQLnis77LTMHpNrS7SCK7/42yr2Srt82BBStHmNiiTBKrNhDoZANj+osaJuxbHukWZu79ZDiwlM X-Received: by 2002:ad4:5f8a:0:b0:880:4eeb:365e with SMTP id 6a1803df08f44-8828196145fmr70065706d6.31.1763065174100; Thu, 13 Nov 2025 12:19:34 -0800 (PST) Received: from postal.iol.unh.edu (postal.iol.unh.edu. [132.177.123.84]) by smtp-relay.gmail.com with ESMTPS id 6a1803df08f44-882865b63b6sm3289626d6.33.2025.11.13.12.19.34 (version=TLS1_2 cipher=ECDHE-ECDSA-AES128-GCM-SHA256 bits=128/128); Thu, 13 Nov 2025 12:19:34 -0800 (PST) X-Relaying-Domain: iol.unh.edu Date: Thu, 13 Nov 2025 12:19:34 -0800 (PST) Message-ID: <69163d56.d40a0220.1afae4.f321SMTPIN_ADDED_MISSING@mx.google.com> Received: from [172.21.0.2] (unknown [172.18.0.240]) by postal.iol.unh.edu (Postfix) with ESMTP id D7C3C604D420; Thu, 13 Nov 2025 15:19:33 -0500 (EST) Subject: |SUCCESS| pw158702-158704 [PATCH] [v2,3/3] net/fm10k: fix null packe From: dpdklab@iol.unh.edu To: Test Report Cc: dpdk-test-reports@iol.unh.edu, Bruce Richardson In-Reply-To: <20251112141059.1576919-4-bruce.richardson@intel.com> References: <20251112141059.1576919-4-bruce.richardson@intel.com> Content-Type: text/plain X-BeenThere: test-report@dpdk.org X-Mailman-Version: 2.1.29 Precedence: list List-Id: automatic DPDK test reports List-Unsubscribe: , List-Archive: List-Post: List-Help: List-Subscribe: , Errors-To: test-report-bounces@dpdk.org Test-Label: iol-unit-amd64-testing Test-Status: SUCCESS http://dpdk.org/patch/158704 _Testing PASS_ Submitter: Bruce Richardson Date: Wednesday, November 12 2025 14:10:59 DPDK git baseline: Repo:dpdk-next-net-intel Branch: master CommitID:be0112878b4fc3a1b918370ed2fe615c52039d77 158702-158704 --> testing pass Upstream job id: Generic-VM-Unit-Test-DPDK#32496 Test environment and result as below: +-------------------------------+----------------+ | Environment | dpdk_unit_test | +===============================+================+ | Fedora Linux 40 | PASS | +-------------------------------+----------------+ | Debian GNU/Linux 12 | PASS | +-------------------------------+----------------+ | Fedora Linux 41 | PASS | +-------------------------------+----------------+ | CentOS Stream 10 | PASS | +-------------------------------+----------------+ | Red Hat Enterprise Linux 8.10 | PASS | +-------------------------------+----------------+ | Ubuntu 22.04 | PASS | +-------------------------------+----------------+ | Ubuntu 24.04 | PASS | +-------------------------------+----------------+ | Fedora Linux 42 | PASS | +-------------------------------+----------------+ | CentOS Stream 9 | PASS | +-------------------------------+----------------+ | Red Hat Enterprise Linux 9.5 | PASS | +-------------------------------+----------------+ | Ubuntu 20.04 | PASS | +-------------------------------+----------------+ | Windows Server 2022 | PASS | +-------------------------------+----------------+ Fedora Linux 40 Kernel: 5.15 Compiler: clang gcc (GCC) 14.2.1 20240912 (Red Hat 14.2.1-3) Debian GNU/Linux 12 Kernel: 5.15 Compiler: gcc gcc (Debian 12.2.0-14+deb12u1) 12.2.0 Fedora Linux 41 Kernel: 5.15 Compiler: clang gcc (GCC) 14.3.1 20250523 (Red Hat 14.3.1-1) CentOS Stream 10 Kernel: 5.15 Compiler: gcc gcc (GCC) 14.2.1 20250110 (Red Hat 14.2.1-8) Red Hat Enterprise Linux 8.10 Kernel: 5.15 Compiler: gcc gcc (GCC) 8.5.0 20210514 (Red Hat 8.5.0-22) Ubuntu 22.04 Kernel: 5.15 Compiler: gcc gcc (Ubuntu 11.4.0-1ubuntu1~22.04) 11.4.0 Ubuntu 24.04 Kernel: 5.15 Compiler: gcc gcc (Ubuntu 13.3.0-6ubuntu2~24.04) 13.3.0 Fedora Linux 42 Kernel: 5.15 Compiler: gcc gcc (GCC) 15.2.1 20250808 (Red Hat 15.2.1-1) CentOS Stream 9 Kernel: 5.15 Compiler: gcc gcc (GCC) 11.5.0 20240719 (Red Hat 11.5.0-11) Red Hat Enterprise Linux 9.5 Kernel: 5.15 Compiler: gcc gcc (GCC) 11.5.0 20240719 (Red Hat 11.5.0-2) Ubuntu 20.04 Kernel: 5.15 Compiler: gcc gcc (Ubuntu 9.4.0-1ubuntu1~20.04.2) 9.4.0 Windows Server 2022 Kernel: 10.0.20348.2031 Compiler: clang 15.0.7, gcc 14.1.0 (MinGW), and MSVC VS 19.39.33521 To view detailed results, visit: https://lab.dpdk.org/results/dashboard/patchsets/34551/ UNH-IOL DPDK Community Lab To manage your email subscriptions, visit: https://lab.dpdk.org/results/dashboard/preferences/subscriptions/