From mboxrd@z Thu Jan 1 00:00:00 1970 Return-Path: Received: from mails.dpdk.org (mails.dpdk.org [217.70.189.124]) by inbox.dpdk.org (Postfix) with ESMTP id 66B2748AFD for ; Thu, 13 Nov 2025 21:24:02 +0100 (CET) Received: from mails.dpdk.org (localhost [127.0.0.1]) by mails.dpdk.org (Postfix) with ESMTP id 5EED940151; Thu, 13 Nov 2025 21:24:02 +0100 (CET) Received: from mail-pl1-f225.google.com (mail-pl1-f225.google.com [209.85.214.225]) by mails.dpdk.org (Postfix) with ESMTP id 24E5A40151 for ; Thu, 13 Nov 2025 21:24:01 +0100 (CET) Received: by mail-pl1-f225.google.com with SMTP id d9443c01a7336-29568d93e87so11339855ad.2 for ; Thu, 13 Nov 2025 12:24:01 -0800 (PST) DKIM-Signature: v=1; a=rsa-sha256; c=relaxed/relaxed; d=iol.unh.edu; s=unh-iol; t=1763065440; x=1763670240; darn=dpdk.org; h=references:in-reply-to:cc:to:from:subject:message-id:date:from:to :cc:subject:date:message-id:reply-to; bh=eA1QtRVhT1XIxLOfnqRGVuG9P+BpDTk7VJRIls0ptRI=; b=GgqjgBiAip32iJ7qbJTVivnIktkADUUkQntW5Fa4IJwEBI+VGFeLsPev57HkIZx6tK USEm/CzS3eswBfmkpeVF6x6+zQgrXDseRlbRqKlMSdf/jax/YliGvq9z2+HGUJHVKrl8 OqfuyE+FrAJbZSJZxUaipDAEtpWdDqdEHpfhI= X-Google-DKIM-Signature: v=1; a=rsa-sha256; c=relaxed/relaxed; d=1e100.net; s=20230601; t=1763065440; x=1763670240; h=references:in-reply-to:cc:to:from:subject:message-id:date:x-gm-gg :x-gm-message-state:from:to:cc:subject:date:message-id:reply-to; bh=eA1QtRVhT1XIxLOfnqRGVuG9P+BpDTk7VJRIls0ptRI=; b=Mx9OLvt/pKcpkT7c+WCwu58ir+TZuIHRj2S3/AcZbXmowXmPXNIOI7B0/JB65ICjAQ k9jA/zrUkJhgqJ5JS7SAuDOTfFLi4CHMj0yEY7PQwsyNFoiyYMSNevTBalA8salFSn+A RfK4gC/OnVyUpVY/U+W/waqu2fDcitfY5Hi2lih2s3gIX+x+eqeMsE/lFN9T9Q8Mbaqk Yj7iEhFNPlbw96yey0hhqlYk88vkKdPq/HMVKp858+RqjybDAKP1c/bIfZ/90MlgJl/E okOT0/gJFb2HNdNTXBmnHmGaVPso5QyR1Kmk2KNFCYVwN9Q+UL0i3rQuvgC4jdgIaX21 fT+g== X-Gm-Message-State: AOJu0YxlYjCLVVvab+/MxNUqK6IUNnE3bhskAuuNZmx2Ag12QKHjQXu7 4MPcVo7Cnwt39tmibDOD+iMGN45MrWhKI9ZqgEndp5haSvQYqhNEulmXRcKNPsGFXWfvk39hng1 XJea2X9wXCKNXMFbZhELs7PxGpb3JiBt0fqhtonc3rGn9 X-Gm-Gg: ASbGncudvg8z/rEZQKaLkW2dEg4dwDHyt00NaqdO0Wed//xv7PtW911flsbOS+zSTrn QYl8BSc3NMoprHU/lJTXVfceXopd7cxV0eyak/3WaMXia7uaLDdFyV5dvA+XrkYXUEEWTrWgvXJ HxGPitM9r9m56XV62La14k50z9ZxMX+vFmLc2MAscm0Clh3LoH0V6AEf8QvbEOP7j0E42edTqhR m2BjbvzrMbtFy1Ugs9fMFmOU3y5tHdIcWxtvyXkvYeK4W6fgl2JElk6oVV5a/vsT3BJFCkPJ3NY BhS8GF5E3E/YmRD3ghb1zAstKBu/jMflXZOiQoS6oHY2oBm7Q8c2l05cRMB6ZpfnVwZ8DFPkfMx EN70Fw/ceRJxa6yyv5bcgtqlAGWhgHC4= X-Google-Smtp-Source: AGHT+IH4PJ+2U/1nSH5mhp46LBWxxshhN78kpimFnPhUt25mbzJgNRm2kRSwU1MOn9kDaFTRDdesZde6OU0e X-Received: by 2002:a17:903:40d1:b0:297:ef11:b504 with SMTP id d9443c01a7336-2986a6cfce3mr2605425ad.24.1763065440275; Thu, 13 Nov 2025 12:24:00 -0800 (PST) Received: from postal.iol.unh.edu (postal.iol.unh.edu. [132.177.123.84]) by smtp-relay.gmail.com with ESMTPS id d9443c01a7336-2985c241a5asm3159875ad.15.2025.11.13.12.24.00 (version=TLS1_2 cipher=ECDHE-ECDSA-AES128-GCM-SHA256 bits=128/128); Thu, 13 Nov 2025 12:24:00 -0800 (PST) X-Relaying-Domain: iol.unh.edu Date: Thu, 13 Nov 2025 12:24:00 -0800 (PST) Message-ID: <69163e60.170a0220.123ea8.eb54SMTPIN_ADDED_MISSING@mx.google.com> Received: from [172.21.0.3] (unknown [172.18.0.240]) by postal.iol.unh.edu (Postfix) with ESMTP id 79527604D420; Thu, 13 Nov 2025 15:23:59 -0500 (EST) Subject: |SUCCESS| pw158716-158738 [PATCH] [v5,23/23] net/cnxk: check for inv From: dpdklab@iol.unh.edu To: Test Report Cc: dpdk-test-reports@iol.unh.edu In-Reply-To: <20251113043808.1180851-23-ndabilpuram@marvell.com> References: <20251113043808.1180851-23-ndabilpuram@marvell.com> Content-Type: text/plain X-BeenThere: test-report@dpdk.org X-Mailman-Version: 2.1.29 Precedence: list List-Id: automatic DPDK test reports List-Unsubscribe: , List-Archive: List-Post: List-Help: List-Subscribe: , Errors-To: test-report-bounces@dpdk.org Test-Label: iol-compile-arm64-testing Test-Status: SUCCESS http://dpdk.org/patch/158738 _Testing PASS_ Submitter: Nithin Dabilpuram Date: Thursday, November 13 2025 04:38:08 DPDK git baseline: Repo:dpdk-next-net-mrvl Branch: master CommitID:be0112878b4fc3a1b918370ed2fe615c52039d77 158716-158738 --> testing pass Upstream job id: Generic-DPDK-Compile-Meson#443735 Test environment and result as below: +------------------------------+--------------------+ | Environment | dpdk_meson_compile | +==============================+====================+ | Red Hat Enterprise Linux 9.5 | PASS | +------------------------------+--------------------+ | Ubuntu 20.04 | PASS | +------------------------------+--------------------+ | Debian GNU/Linux 12 | PASS | +------------------------------+--------------------+ | Fedora Linux 42 | PASS | +------------------------------+--------------------+ | Ubuntu 22.04 | PASS | +------------------------------+--------------------+ | Ubuntu 24.04 | PASS | +------------------------------+--------------------+ | CentOS Stream 9 | PASS | +------------------------------+--------------------+ | CentOS Stream 10 | PASS | +------------------------------+--------------------+ Red Hat Enterprise Linux 9.5 Kernel: 5.4 Compiler: gcc gcc (GCC) 11.5.0 20240719 (Red Hat 11.5.0-2) Ubuntu 20.04 Kernel: 5.15 Compiler: aarch64-linux-gnu-gcc gcc (Ubuntu 9.4.0-1ubuntu1~20.04.2) 9.4.0 Debian GNU/Linux 12 Kernel: 5.4 Compiler: gcc gcc (Debian 12.2.0-14+deb12u1) 12.2.0 Fedora Linux 42 Kernel: 5.4 Compiler: gcc gcc (GCC) 15.2.1 20250808 (Red Hat 15.2.1-1) Ubuntu 22.04 Kernel: 5.4 Compiler: gcc gcc (Ubuntu 11.4.0-1ubuntu1~22.04) 11.4.0 Ubuntu 24.04 Kernel: 5.4 Compiler: gcc gcc (Ubuntu 13.3.0-6ubuntu2~24.04) 13.3.0 CentOS Stream 9 Kernel: 5.4 Compiler: gcc gcc (GCC) 11.5.0 20240719 (Red Hat 11.5.0-11) CentOS Stream 10 Kernel: 5.4 Compiler: gcc gcc (GCC) 14.2.1 20250110 (Red Hat 14.2.1-8) To view detailed results, visit: https://lab.dpdk.org/results/dashboard/patchsets/34562/ UNH-IOL DPDK Community Lab To manage your email subscriptions, visit: https://lab.dpdk.org/results/dashboard/preferences/subscriptions/