From mboxrd@z Thu Jan 1 00:00:00 1970 Return-Path: Received: from mails.dpdk.org (mails.dpdk.org [217.70.189.124]) by inbox.dpdk.org (Postfix) with ESMTP id 57BCF48AFD for ; Thu, 13 Nov 2025 21:52:11 +0100 (CET) Received: from mails.dpdk.org (localhost [127.0.0.1]) by mails.dpdk.org (Postfix) with ESMTP id 52A9540151; Thu, 13 Nov 2025 21:52:11 +0100 (CET) Received: from mail-pl1-f228.google.com (mail-pl1-f228.google.com [209.85.214.228]) by mails.dpdk.org (Postfix) with ESMTP id 4433440151 for ; Thu, 13 Nov 2025 21:52:10 +0100 (CET) Received: by mail-pl1-f228.google.com with SMTP id d9443c01a7336-298287a26c3so14625345ad.0 for ; Thu, 13 Nov 2025 12:52:10 -0800 (PST) DKIM-Signature: v=1; a=rsa-sha256; c=relaxed/relaxed; d=iol.unh.edu; s=unh-iol; t=1763067129; x=1763671929; darn=dpdk.org; h=references:in-reply-to:cc:to:from:subject:message-id:date:from:to :cc:subject:date:message-id:reply-to; bh=QeNN9aq7JNbp97POTQFTtWoNcsFBoFsn6VFkNXZuDFU=; b=NCLcBly2IwLJjbDbEsS1kXMHdx9Nbq+hJP4CgKH08yLatWKnejRXIxGUoeyFGis+zm xHKcvCk/kqemzfjtQ533Z+hHTGoYWKBC0kLQgRYm8W5Mv1PWBfR34iEY/jWgkkBKZ/M9 fsMOmj6g+jlLNJ3BigNmmKHhuXP9lpg6hbbxU= X-Google-DKIM-Signature: v=1; a=rsa-sha256; c=relaxed/relaxed; d=1e100.net; s=20230601; t=1763067129; x=1763671929; h=references:in-reply-to:cc:to:from:subject:message-id:date:x-gm-gg :x-gm-message-state:from:to:cc:subject:date:message-id:reply-to; bh=QeNN9aq7JNbp97POTQFTtWoNcsFBoFsn6VFkNXZuDFU=; b=cEMp8pvorKPiJ4M2DIt5SY7dXJmb28H9Y3yrhweEg2OCJG3EptIbp8+SyfGPDLFw6Y FGIp211xXIfvGmBSRCIHB9IP5/y9UyKWkpx+4nGy7czF4qdhmOgtbY5A+UPyTEAy4PSr LQCxR1MjhYWhFgvx9OGvl2mhfcPu/8mKLpzkulcIYatmVz1PnBd+RpBwhN1pB+nasA6w SWbVLEKT4B/5jOpWjP2Ss2OaviLcA222whaswkrGkzRQJZWdtttEdyj1TcxtSUsLT7sx 7WjcFBtuDHiI/Ax55Owai2AQU4s2oV71Yn+W0hg9lIq3RN2VNjV/0wbq5mC2VEas1K5Z B6+Q== X-Gm-Message-State: AOJu0YyoBbpaBytf78s+bRic2Y/LiKpwvNGxfoeJGFUgTR57J7ti/tDc NryhkRbEev3nImmrOv6gQyOSCE9db79V1hcHduXkvSCLOkGIOQbgn7Rmee3EBkuJj5HGm6DtOa0 NrdaNYUzXlYi2hKsTHLFBnJCj41UvVY0le0x6Vcfyn4uZ X-Gm-Gg: ASbGnctOGN2RC/DvCh0md3L18RC1xepr6boSirwWFUwjFXW8zeQe6vB/24B9NUoV4/7 7Kgw2hTt6Yik4E6QJlJEahdfsIn/PKMlsMqbi3A3uzmPCNQf+CpykH+L+Zl/wB+FmtxcK6cIitX iEe3zRzeVkzAZguWBjHzBYCG7TgUSx4TkBa6j5eummteNhPxu1uJQ8tcODDyL1k7VViBrZ9rHrG UyOcP5ct8TNTFW3TdJ+nspFvQNcLrskRM5XihbcOKuXbCA1jmcTtReMKhZWRXdFeRCT0L5Zr9D5 P6gB5/9FyddoHKySsBDO68j8mMf73eef3xdDv6ZY+ZKtidjG2Dw0iKpG0omtV8uGumsvADSkKtK a2AEO56WyToAMgfnIe3opJRjf173UQ9M= X-Google-Smtp-Source: AGHT+IHK2BzNO6Ql4qC57FphEIhun4VbPQF1rqsabcf6GmUaP3/DVWFmIhUfk28NiuN/blvMNFBN7OMw3Zx3 X-Received: by 2002:a17:902:f790:b0:297:f8dd:4d8e with SMTP id d9443c01a7336-2986a741b93mr4167915ad.30.1763067129408; Thu, 13 Nov 2025 12:52:09 -0800 (PST) Received: from postal.iol.unh.edu (postal.iol.unh.edu. [132.177.123.84]) by smtp-relay.gmail.com with ESMTPS id d9443c01a7336-2985c2a838dsm3364835ad.41.2025.11.13.12.52.09 (version=TLS1_2 cipher=ECDHE-ECDSA-AES128-GCM-SHA256 bits=128/128); Thu, 13 Nov 2025 12:52:09 -0800 (PST) X-Relaying-Domain: iol.unh.edu Date: Thu, 13 Nov 2025 12:52:09 -0800 (PST) Message-ID: <691644f9.170a0220.6d491.fae3SMTPIN_ADDED_MISSING@mx.google.com> Received: from [172.21.0.2] (unknown [172.18.0.240]) by postal.iol.unh.edu (Postfix) with ESMTP id A128A6050A61; Thu, 13 Nov 2025 15:52:08 -0500 (EST) Subject: |SUCCESS| pw158711-158712 [PATCH] [2/2] pdump: fix race in pdump dis From: dpdklab@iol.unh.edu To: Test Report Cc: dpdk-test-reports@iol.unh.edu In-Reply-To: <20251112200510.332651-2-stephen@networkplumber.org> References: <20251112200510.332651-2-stephen@networkplumber.org> Content-Type: text/plain X-BeenThere: test-report@dpdk.org X-Mailman-Version: 2.1.29 Precedence: list List-Id: automatic DPDK test reports List-Unsubscribe: , List-Archive: List-Post: List-Help: List-Subscribe: , Errors-To: test-report-bounces@dpdk.org Test-Label: iol-unit-arm64-testing Test-Status: SUCCESS http://dpdk.org/patch/158712 _Testing PASS_ Submitter: Stephen Hemminger Date: Wednesday, November 12 2025 20:05:10 DPDK git baseline: Repo:dpdk Branch: master CommitID:be0112878b4fc3a1b918370ed2fe615c52039d77 158711-158712 --> testing pass Upstream job id: Generic-Unit-Test-DPDK#391705 Test environment and result as below: +------------------------------+---------------------------+--------------+------------------------------+----------------+ | Environment | cryptodev_sw_zuc_autotest | lpm_autotest | cryptodev_sw_snow3g_autotest | dpdk_unit_test | +==============================+===========================+==============+==============================+================+ | Debian 12 (arm) | PASS | SKIPPED | PASS | SKIPPED | +------------------------------+---------------------------+--------------+------------------------------+----------------+ | Ubuntu 20.04 | SKIPPED | PASS | SKIPPED | PASS | +------------------------------+---------------------------+--------------+------------------------------+----------------+ | Fedora Linux 41 | SKIPPED | SKIPPED | SKIPPED | PASS | +------------------------------+---------------------------+--------------+------------------------------+----------------+ | CentOS Stream 9 | SKIPPED | SKIPPED | SKIPPED | PASS | +------------------------------+---------------------------+--------------+------------------------------+----------------+ | CentOS Stream 10 | SKIPPED | SKIPPED | SKIPPED | PASS | +------------------------------+---------------------------+--------------+------------------------------+----------------+ | Fedora Linux 40 | SKIPPED | SKIPPED | SKIPPED | PASS | +------------------------------+---------------------------+--------------+------------------------------+----------------+ | Debian GNU/Linux 12 | SKIPPED | SKIPPED | SKIPPED | PASS | +------------------------------+---------------------------+--------------+------------------------------+----------------+ | Ubuntu 24.04 | SKIPPED | SKIPPED | SKIPPED | PASS | +------------------------------+---------------------------+--------------+------------------------------+----------------+ | Fedora Linux 42 | SKIPPED | SKIPPED | SKIPPED | PASS | +------------------------------+---------------------------+--------------+------------------------------+----------------+ | Ubuntu 22.04 | SKIPPED | SKIPPED | SKIPPED | PASS | +------------------------------+---------------------------+--------------+------------------------------+----------------+ | Red Hat Enterprise Linux 9.5 | SKIPPED | SKIPPED | SKIPPED | PASS | +------------------------------+---------------------------+--------------+------------------------------+----------------+ Debian 12 (arm) Kernel: Depends on container host Compiler: gcc (Debian 12.2.0-14) 12.2.0 Ubuntu 20.04 Kernel: 5.4 Compiler: gcc gcc (Ubuntu 9.4.0-1ubuntu1~20.04.2) 9.4.0 Fedora Linux 41 Kernel: 5.4 Compiler: gcc gcc (GCC) 14.3.1 20250523 (Red Hat 14.3.1-1) CentOS Stream 9 Kernel: 5.4 Compiler: gcc gcc (GCC) 11.5.0 20240719 (Red Hat 11.5.0-11) CentOS Stream 10 Kernel: 5.4 Compiler: gcc gcc (GCC) 14.2.1 20250110 (Red Hat 14.2.1-8) Fedora Linux 40 Kernel: 5.4 Compiler: gcc gcc (GCC) 14.2.1 20240912 (Red Hat 14.2.1-3) Debian GNU/Linux 12 Kernel: 5.4 Compiler: gcc gcc (Debian 12.2.0-14+deb12u1) 12.2.0 Ubuntu 24.04 Kernel: 5.4 Compiler: gcc gcc (Ubuntu 13.3.0-6ubuntu2~24.04) 13.3.0 Fedora Linux 42 Kernel: 5.4 Compiler: gcc gcc (GCC) 15.2.1 20250808 (Red Hat 15.2.1-1) Ubuntu 22.04 Kernel: 5.4 Compiler: gcc gcc (Ubuntu 11.4.0-1ubuntu1~22.04) 11.4.0 Red Hat Enterprise Linux 9.5 Kernel: 5.4 Compiler: gcc gcc (GCC) 11.5.0 20240719 (Red Hat 11.5.0-2) To view detailed results, visit: https://lab.dpdk.org/results/dashboard/patchsets/34560/ UNH-IOL DPDK Community Lab To manage your email subscriptions, visit: https://lab.dpdk.org/results/dashboard/preferences/subscriptions/