From mboxrd@z Thu Jan 1 00:00:00 1970 Return-Path: Received: from mails.dpdk.org (mails.dpdk.org [217.70.189.124]) by inbox.dpdk.org (Postfix) with ESMTP id 68D7848AFE for ; Thu, 13 Nov 2025 22:02:17 +0100 (CET) Received: from mails.dpdk.org (localhost [127.0.0.1]) by mails.dpdk.org (Postfix) with ESMTP id 63A4640151; Thu, 13 Nov 2025 22:02:17 +0100 (CET) Received: from mail-pl1-f226.google.com (mail-pl1-f226.google.com [209.85.214.226]) by mails.dpdk.org (Postfix) with ESMTP id C033640151 for ; Thu, 13 Nov 2025 22:02:16 +0100 (CET) Received: by mail-pl1-f226.google.com with SMTP id d9443c01a7336-298144fb9bcso13422595ad.0 for ; Thu, 13 Nov 2025 13:02:16 -0800 (PST) DKIM-Signature: v=1; a=rsa-sha256; c=relaxed/relaxed; d=iol.unh.edu; s=unh-iol; t=1763067736; x=1763672536; darn=dpdk.org; h=cc:to:from:subject:message-id:date:from:to:cc:subject:date :message-id:reply-to; bh=a3FuBeSfMQ+FWQt7jnqngkrLemom3F572D8gWdMfwVc=; b=Ftt0lyd3vK+6efHQrX+ZuNkodBk24rqbphGMocYigKlLkMamXdxDvMWDwgxmgxtDdg 60LT1xjcZVSL0wnf1k176ulgte7bjzunmF+zwpFVBqMeqgaV4Jmw5H9CYUGySjXM7EwH gquVVvh6NSGE1377eroAz+aXIUzRRdU5nRBc0= X-Google-DKIM-Signature: v=1; a=rsa-sha256; c=relaxed/relaxed; d=1e100.net; s=20230601; t=1763067736; x=1763672536; h=cc:to:from:subject:message-id:date:x-gm-gg:x-gm-message-state:from :to:cc:subject:date:message-id:reply-to; bh=a3FuBeSfMQ+FWQt7jnqngkrLemom3F572D8gWdMfwVc=; b=izMXq/x9fAhVr4MHS9/v4gKzwFr2NX5LZGtwuAfVjdEpxecePk6V6STRJyuhgEVDoy yNEJUP1Ior5rMECdpv1F9su7cZQsrGshePqsoj4ieDZTSoRyAJ9mjJXRerlgIR/8twpA P2LHUt/Bwes6CEdEhmoi++HXs/25WBJqPDcskR8WdJCcPMnM5COcDrlVXjlBsaf7w3LQ HlbyJhEKaQ+DuxqMiBG4bF9dmcoZxghY3o/dotDWlKNuEmDcqEk1eRss9HUZdgQp4RFG VZv/zWL3laDvAw9jkwv23wIMuHDfCdhp7Ym3dE0GCmjsFn8ZJQP6A8OgXTp1BoMBDbzb o2XA== X-Gm-Message-State: AOJu0YzgSApaHZ6YxrqFM7nQA7M9imKz+/iENQ3YTwz32KzwTb5MVzpK zS+F8TctsZvF5c10CaIxfhiFu/9kAmhHZb9p19VekAn7QT43Aldn0I3gtcTB37RXm00BMV6YsTT M633Z+PUMiVqYkVFNp47WT82apab/Ia8/nvaen+FJ3q6g6qMAS/CD X-Gm-Gg: ASbGnct9kEQ1IkpbXlK144VlrRdsMHDa9iH5mdVwxbEGE8c076IvVhLcR8NaBfDXQ/P gI3EuLFOrowz5fCAA76WCCH1++2vSwKUAtQMnAb3WZtGYLgiglv35Hiq2CRwUsHhWWI4BMglIOR PmZPSgBPSsHYR17aK2BoawHwsplqq/zV9INzct0cm8laGRrL46vjtGN3CsvHMkWMHLuHC3Dqocy uGZT4dwtbu2oPOPmu6mgCWd6cUtxEYIRYLWc2FneKwUZ1G+ZnVI1VJ5HevT0SH4VevoBPQ0VkFv xlJ3AeVW3nNRdk1NBxAkF7q3YIRU1DWq7GTSehkS/2rFihcWYxMKX6p/BuXCwEx6ychta2TUCjU O+D3tyOgs X-Google-Smtp-Source: AGHT+IEbJTeku1BTcNxvZhgG4a1p7shS1a+5dCcUK2FfS1PNMx0FHwASH79gyqebU2YLkMQitQY82IK7ajS9 X-Received: by 2002:a17:903:1a2e:b0:295:f508:9d32 with SMTP id d9443c01a7336-2986a733373mr4683965ad.37.1763067735699; Thu, 13 Nov 2025 13:02:15 -0800 (PST) Received: from postal.iol.unh.edu (postal.iol.unh.edu. [2606:4100:3880:1234::84]) by smtp-relay.gmail.com with ESMTPS id d9443c01a7336-2985c23458csm3387705ad.4.2025.11.13.13.02.15 (version=TLS1_2 cipher=ECDHE-ECDSA-AES128-GCM-SHA256 bits=128/128); Thu, 13 Nov 2025 13:02:15 -0800 (PST) X-Relaying-Domain: iol.unh.edu Date: Thu, 13 Nov 2025 13:02:15 -0800 (PST) Message-ID: <69164757.170a0220.2d505b.fa98SMTPIN_ADDED_MISSING@mx.google.com> Received: from [172.21.0.4] (unknown [172.18.0.240]) by postal.iol.unh.edu (Postfix) with ESMTP id 28EAC6050A61; Thu, 13 Nov 2025 16:02:15 -0500 (EST) Subject: |SUCCESS| [GIT MASTER] 9784db2c5af1eecd02fc21132b59b5b266039b87 From: dpdklab@iol.unh.edu To: Test Report Cc: dpdk-test-reports@iol.unh.edu, Xueming Li , Christian Ehrhardt , Kevin Traynor , Luca Boccassi Content-Type: text/plain X-BeenThere: test-report@dpdk.org X-Mailman-Version: 2.1.29 Precedence: list List-Id: automatic DPDK test reports List-Unsubscribe: , List-Archive: List-Post: List-Help: List-Subscribe: , Errors-To: test-report-bounces@dpdk.org _Testing PASS_ Branch: tags/v22.11 9784db2c5af1eecd02fc21132b59b5b266039b87 --> testing pass Upstream job id: Generic-Unit-Test-DPDK#391738 Test environment and result as below: +-----------------+--------------+---------------------------+------------------------------+----------------+ | Environment | lpm_autotest | cryptodev_sw_zuc_autotest | cryptodev_sw_snow3g_autotest | dpdk_unit_test | +=================+==============+===========================+==============================+================+ | Ubuntu 20.04 | PASS | SKIPPED | SKIPPED | SKIPPED | +-----------------+--------------+---------------------------+------------------------------+----------------+ | Debian 12 (arm) | SKIPPED | PASS | PASS | SKIPPED | +-----------------+--------------+---------------------------+------------------------------+----------------+ | Ubuntu 22.04 | SKIPPED | SKIPPED | SKIPPED | PASS | +-----------------+--------------+---------------------------+------------------------------+----------------+ Ubuntu 20.04 Kernel: 5.4 Compiler: gcc gcc (Ubuntu 9.4.0-1ubuntu1~20.04.2) 9.4.0 Debian 12 (arm) Kernel: Depends on container host Compiler: gcc (Debian 12.2.0-14) 12.2.0 Ubuntu 22.04 Kernel: 5.15 Compiler: gcc gcc (Ubuntu 11.4.0-1ubuntu1~22.04.2) 11.4.0 To view detailed results, visit: https://lab.dpdk.org/results/dashboard/tarballs/35563/ UNH-IOL DPDK Community Lab To manage your email subscriptions, visit: https://lab.dpdk.org/results/dashboard/preferences/subscriptions/