From mboxrd@z Thu Jan 1 00:00:00 1970 Return-Path: Received: from mails.dpdk.org (mails.dpdk.org [217.70.189.124]) by inbox.dpdk.org (Postfix) with ESMTP id 69B1D48AFE for ; Thu, 13 Nov 2025 22:11:15 +0100 (CET) Received: from mails.dpdk.org (localhost [127.0.0.1]) by mails.dpdk.org (Postfix) with ESMTP id 40C6240151; Thu, 13 Nov 2025 22:11:15 +0100 (CET) Received: from mail-il1-f227.google.com (mail-il1-f227.google.com [209.85.166.227]) by mails.dpdk.org (Postfix) with ESMTP id 36DAE40151 for ; Thu, 13 Nov 2025 22:11:14 +0100 (CET) Received: by mail-il1-f227.google.com with SMTP id e9e14a558f8ab-43325879139so10263155ab.1 for ; Thu, 13 Nov 2025 13:11:14 -0800 (PST) DKIM-Signature: v=1; a=rsa-sha256; c=relaxed/relaxed; d=iol.unh.edu; s=unh-iol; t=1763068273; x=1763673073; darn=dpdk.org; h=references:in-reply-to:cc:to:from:subject:message-id:date:from:to :cc:subject:date:message-id:reply-to; bh=glrYspYR5kHJ5WVQ1QlDj0LRS9/kIYMk5YDbweEK4+o=; b=OxbiUG76/utT1wq5po6lTh/1fT2tnuGWKmKKpSDVcSJEAggfYjbZF7Ubb7gbUbriNK B59c9bj3EoPYZb034ltYG1PwSXvBKXqoXvG6fdpoeLl88cRh8QmEZgPAr0QR4FL0m/cC 1cUP0tAkILcFer49PLY6jXrrdRJJwvDH5gJbo= X-Google-DKIM-Signature: v=1; a=rsa-sha256; c=relaxed/relaxed; d=1e100.net; s=20230601; t=1763068273; x=1763673073; h=references:in-reply-to:cc:to:from:subject:message-id:date:x-gm-gg :x-gm-message-state:from:to:cc:subject:date:message-id:reply-to; bh=glrYspYR5kHJ5WVQ1QlDj0LRS9/kIYMk5YDbweEK4+o=; b=QoF0P2/mSAyjkomI+xwh5OAXX+84U8v2gURUAymjGOnDRMk1TpmUZAeJt1uhHgYOM5 AX3jT5Oj/KAwzf64JugRhXOl12Vozkj/RC+m3bO9vLYH113Wi1PWJuaA5N3Zxe0y6MgB ebF+w3eDswhyVIQaWKWK8k55gf0lF/m9fOEyWxnS3C7l7eXQMHLAq2WmfUfT0ErEdBvz +bGwaYBZEBpKABcgyi6UG0lU4/GdwmNZJfy5lmROmQYlKXq1gPdTPZtNi/6Tr6YuwGy2 x6wdFjQcVCo4ojinX2HslxTYQUCt/LBjfBwieWXcK6zdmGgoQy++Z6X2pgeQSGuKsBsX OWKg== X-Gm-Message-State: AOJu0YwLMQwlCBGU3zE3022wY/FaYka/FBUX6kPTEP29g4wAyT5F6gn3 IWzAES5d02E2fIJnpQG42jIaHTwwSZgPg/o6RelNO6eKWmUXY/YicDC09zc1OJZJGEx27NfkkwM Rguwu7tHsma7gjrXu+PDF2zO+Ot5CsQNkMG1d86feklY3 X-Gm-Gg: ASbGncuz1cJe6wgwMJh6gZQEPQTwftz1vSPlFOSwk59EuKvpZQxUmQci7aoYowZrZll +n/2Q1AOBoBufQVlFvpqfDGOmitFuwXrp2kp4EF6pL2TKX3DT1f6dQ72WDWPteHhTrL5FlQvHaT GnJ4OorJK8M/dMN1fPoM3QNfER/UB3YLMBunpBD1m5dryFM1W/4EpF7SuBe/8HofAU3s95OFcLP moHatJfr1jN8Nswe/xEDpGJtmWWaPRrBltXoxjlMeT7pio7UIu0fvagJlnWvevkaGQQHhyVGwR5 Y6uhpLy3SQoZfoyOpv35VDrDjmnFqjkHajzeyTT5Wko5e/E24AHFK9L7fThXi93dob3NgLb2Wsp pVbDgvaRheoNuXV3ZKUN+ccuxTJHWg3E= X-Google-Smtp-Source: AGHT+IHAWoZkSjoBCZaVT6cyEEr6gjwn23Qy9A/lcG+csLLBUAo035tBMeOL1M2pytxGfQz1X6s5Ly9rKmnM X-Received: by 2002:a05:6e02:1a0a:b0:433:7e2f:83c5 with SMTP id e9e14a558f8ab-4348c88f4e9mr16895225ab.3.1763068273453; Thu, 13 Nov 2025 13:11:13 -0800 (PST) Received: from postal.iol.unh.edu (postal.iol.unh.edu. [132.177.123.84]) by smtp-relay.gmail.com with ESMTPS id 8926c6da1cb9f-5b7bd2674f5sm255556173.14.2025.11.13.13.11.13 (version=TLS1_2 cipher=ECDHE-ECDSA-AES128-GCM-SHA256 bits=128/128); Thu, 13 Nov 2025 13:11:13 -0800 (PST) X-Relaying-Domain: iol.unh.edu Date: Thu, 13 Nov 2025 13:11:13 -0800 (PST) Message-ID: <69164971.050a0220.267eb6.bc7cSMTPIN_ADDED_MISSING@mx.google.com> Received: from [172.21.0.3] (unknown [172.18.0.240]) by postal.iol.unh.edu (Postfix) with ESMTP id 20EB9604D420; Thu, 13 Nov 2025 16:11:13 -0500 (EST) Subject: |SUCCESS| pw158706 [PATCH] net/mlx5: fix send to kernel resources re From: dpdklab@iol.unh.edu To: Test Report Cc: dpdk-test-reports@iol.unh.edu In-Reply-To: <20251112162440.425611-1-getelson@nvidia.com> References: <20251112162440.425611-1-getelson@nvidia.com> Content-Type: text/plain X-BeenThere: test-report@dpdk.org X-Mailman-Version: 2.1.29 Precedence: list List-Id: automatic DPDK test reports List-Unsubscribe: , List-Archive: List-Post: List-Help: List-Subscribe: , Errors-To: test-report-bounces@dpdk.org Test-Label: iol-compile-amd64-testing Test-Status: SUCCESS http://dpdk.org/patch/158706 _Testing PASS_ Submitter: Gregory Etelson Date: Wednesday, November 12 2025 16:24:40 DPDK git baseline: Repo:dpdk-next-net-mlx Branch: master CommitID:ae657d56b1f0ea979b3f611edf28d773efc2ddcf 158706 --> testing pass Upstream job id: Windows-Compile-DPDK-VS#7521 Test environment and result as below: +-------------------------------+--------------------+------------------+-------------------+ | Environment | dpdk_meson_compile | dpdk_compile_ovs | dpdk_msvc_compile | +===============================+====================+==================+===================+ | Ubuntu 20.04 | PASS | SKIPPED | SKIPPED | +-------------------------------+--------------------+------------------+-------------------+ | FreeBSD 14.2 | PASS | SKIPPED | SKIPPED | +-------------------------------+--------------------+------------------+-------------------+ | CentOS Stream 9 | PASS | SKIPPED | SKIPPED | +-------------------------------+--------------------+------------------+-------------------+ | CentOS Stream 10 | PASS | SKIPPED | SKIPPED | +-------------------------------+--------------------+------------------+-------------------+ | Debian GNU/Linux 12 | PASS | SKIPPED | SKIPPED | +-------------------------------+--------------------+------------------+-------------------+ | Fedora Linux 42 | PASS | PASS | SKIPPED | +-------------------------------+--------------------+------------------+-------------------+ | openSUSE Leap 15.6 | PASS | SKIPPED | SKIPPED | +-------------------------------+--------------------+------------------+-------------------+ | Red Hat Enterprise Linux 8.10 | PASS | SKIPPED | SKIPPED | +-------------------------------+--------------------+------------------+-------------------+ | Red Hat Enterprise Linux 9.5 | PASS | SKIPPED | SKIPPED | +-------------------------------+--------------------+------------------+-------------------+ | Ubuntu 22.04 | PASS | SKIPPED | SKIPPED | +-------------------------------+--------------------+------------------+-------------------+ | Ubuntu 24.04 | PASS | PASS | SKIPPED | +-------------------------------+--------------------+------------------+-------------------+ | Alpine Linux 3.22.0 | PASS | SKIPPED | SKIPPED | +-------------------------------+--------------------+------------------+-------------------+ | Windows Server 2022 | SKIPPED | SKIPPED | PASS | +-------------------------------+--------------------+------------------+-------------------+ Ubuntu 20.04 Kernel: 4.19 Compiler: gcc gcc (Ubuntu 9.4.0-1ubuntu1~20.04.2) 9.4.0 FreeBSD 14.2 Kernel: 14.2-RELEASE Compiler: clang 18.1.6 CentOS Stream 9 Kernel: 5.15 Compiler: gcc gcc (GCC) 11.5.0 20240719 (Red Hat 11.5.0-11) CentOS Stream 10 Kernel: 5.15 Compiler: gcc gcc (GCC) 14.2.1 20250110 (Red Hat 14.2.1-8) Debian GNU/Linux 12 Kernel: 5.15 Compiler: gcc gcc (Debian 12.2.0-14+deb12u1) 12.2.0 Fedora Linux 42 Kernel: 5.15 Compiler: clang gcc (GCC) 15.2.1 20250808 (Red Hat 15.2.1-1) openSUSE Leap 15.6 Kernel: 5.15 Compiler: gcc gcc (SUSE Linux) 7.5.0 Red Hat Enterprise Linux 8.10 Kernel: 5.15 Compiler: gcc gcc (GCC) 8.5.0 20210514 (Red Hat 8.5.0-22) Red Hat Enterprise Linux 9.5 Kernel: 5.15 Compiler: gcc gcc (GCC) 11.5.0 20240719 (Red Hat 11.5.0-2) Ubuntu 22.04 Kernel: 5.15 Compiler: gcc gcc (Ubuntu 11.4.0-1ubuntu1~22.04) 11.4.0 Ubuntu 24.04 Kernel: 5.15 Compiler: gcc gcc (Ubuntu 13.3.0-6ubuntu2~24.04) 13.3.0 Alpine Linux 3.22.0 Kernel: 5.15 Compiler: gcc gcc (Alpine 14.2.0) 14.2.0 Windows Server 2022 Kernel: 10.0.20348.2031 Compiler: clang 15.0.7, gcc 14.1.0 (MinGW), and MSVC VS 19.39.33521 To view detailed results, visit: https://lab.dpdk.org/results/dashboard/patchsets/34558/ UNH-IOL DPDK Community Lab To manage your email subscriptions, visit: https://lab.dpdk.org/results/dashboard/preferences/subscriptions/