From mboxrd@z Thu Jan 1 00:00:00 1970 Return-Path: Received: from mails.dpdk.org (mails.dpdk.org [217.70.189.124]) by inbox.dpdk.org (Postfix) with ESMTP id BEC7648AFE for ; Thu, 13 Nov 2025 22:14:17 +0100 (CET) Received: from mails.dpdk.org (localhost [127.0.0.1]) by mails.dpdk.org (Postfix) with ESMTP id 9BDFD40151; Thu, 13 Nov 2025 22:14:17 +0100 (CET) Received: from mail-yx1-f98.google.com (mail-yx1-f98.google.com [74.125.224.98]) by mails.dpdk.org (Postfix) with ESMTP id 4E15A40151 for ; Thu, 13 Nov 2025 22:14:16 +0100 (CET) Received: by mail-yx1-f98.google.com with SMTP id 956f58d0204a3-640d43060d2so1189464d50.2 for ; Thu, 13 Nov 2025 13:14:16 -0800 (PST) DKIM-Signature: v=1; a=rsa-sha256; c=relaxed/relaxed; d=iol.unh.edu; s=unh-iol; t=1763068455; x=1763673255; darn=dpdk.org; h=references:in-reply-to:cc:to:from:subject:message-id:date:from:to :cc:subject:date:message-id:reply-to; bh=HqmDDUbB05FhvXsh9rGexYNlxTNUYFLRDkXItlvhiAk=; b=Rg6JUWV6GfcQv1R3SCGXcs2JMynCSYDarg1PYsmmC/Sly6YMqNPVjPmJN53k9pUc28 KYhBhhJoyXw43aDIbizHyCmAPaJSgxHn1HqdClNxi2BIiwMDeImPtbqVx+jR8cPaHzMF 4jj6TIWh41+5MNAJ1RP5+Cftz2r6x0D7f495Y= X-Google-DKIM-Signature: v=1; a=rsa-sha256; c=relaxed/relaxed; d=1e100.net; s=20230601; t=1763068455; x=1763673255; h=references:in-reply-to:cc:to:from:subject:message-id:date:x-gm-gg :x-gm-message-state:from:to:cc:subject:date:message-id:reply-to; bh=HqmDDUbB05FhvXsh9rGexYNlxTNUYFLRDkXItlvhiAk=; b=CINhbh8ItYYdKtTxnYYiTx5YbImdS3Mw2kjMWgJAaYF0zLyGhLb5lZIwufbAF2p328 6ZYixwRzGSuuWf8S8XlIqlX9JolxX3NZ+htQk7IsNLvylgPK4OtRlEPK/kZTf+tLB2oQ 4I8/7Ps2kjmDHgLdiIHkzQK4QBJlAsd7BfMhRbLjbJtFr9dwuagj80IubDseQOu/e2kB /5qZ3tmzCU4xQadS/+OUw0o1NXnh6p5QiAfBWj0OfK30IMhKEULzLg/tXFnw7RFAmgA9 vsHloxDgBPPbUOBrGfOjba5KsLAjJpSAahtgDIQEI28EsvMEfVlNrpBHVMh1vSh4gI7D UV7w== X-Gm-Message-State: AOJu0YxM7ZixTiw78Z+oheg+UGFVHBY3DHeyal5XOTSmZe+QWyturtQ2 pTO9c+u1An3yxQAzlp19j2yIXkHBFXizbm2+PLfjjOmj0h90xDhm4CvDm5wfNhUWAnUE96pU+19 Ga+K/Li8iInnm2mqI01oNLfTsMJvInebZ3IjrTYgM42I1 X-Gm-Gg: ASbGncsPvt5s+/5LyKXDJzOutXcFWbPol5w1A+dI8j+WLdp4xnjqVnrESOkUSYsdcKG dFawiu8MAXdkSmp38XoY60BISP1PhlfD9fFs1OJkdvDJTZR5rogxqD/9/UrcL5jtYaJDtkhAyb4 XivW0woFOoxy9V82zDKTp4hZmz5lUdTBQgJVakjvjYuorgHpGmePPH8cDyBdU0CA93W7aoJmyGI E67mwJT28NHGO9lV4xscBl0T7j9ikDyvDDQCphQKJKN+VSyy7gvNyyzxCIUw4nvlwGRDOoEWQcf 4fYzw811AREKgNgpZxw/2vrlzzqGZJprtjpd01hUbqvLq2QhTX7slLMWCLLcT33ZLVu3zqOGm1p jpg8JLRGrPpPRI7qFKF1Qej//2KHuroA= X-Google-Smtp-Source: AGHT+IEFxHAo1a4zMY8mQoUfceUZFhRjQdeqN3tghMVKAO+5tBtNoukJygUHYo9Nl5piaxU1qyucTGrU03tv X-Received: by 2002:a05:690e:2502:20b0:63e:17d8:d977 with SMTP id 956f58d0204a3-641e7624caamr623726d50.41.1763068455620; Thu, 13 Nov 2025 13:14:15 -0800 (PST) Received: from postal.iol.unh.edu (postal.iol.unh.edu. [132.177.123.84]) by smtp-relay.gmail.com with ESMTPS id 956f58d0204a3-6410ea165c0sm241859d50.7.2025.11.13.13.14.15 (version=TLS1_2 cipher=ECDHE-ECDSA-AES128-GCM-SHA256 bits=128/128); Thu, 13 Nov 2025 13:14:15 -0800 (PST) X-Relaying-Domain: iol.unh.edu Date: Thu, 13 Nov 2025 13:14:15 -0800 (PST) Message-ID: <69164a27.050a0220.6846e.b928SMTPIN_ADDED_MISSING@mx.google.com> Received: from [172.21.0.2] (unknown [172.18.0.240]) by postal.iol.unh.edu (Postfix) with ESMTP id 0528C604D420; Thu, 13 Nov 2025 16:14:15 -0500 (EST) Subject: |SUCCESS| pw158669 [PATCH] [v2,1/1] eal: correct memory ordering in From: dpdklab@iol.unh.edu To: Test Report Cc: dpdk-test-reports@iol.unh.edu In-Reply-To: <20251111173850.790254-1-wathsala.vithanage@arm.com> References: <20251111173850.790254-1-wathsala.vithanage@arm.com> Content-Type: text/plain X-BeenThere: test-report@dpdk.org X-Mailman-Version: 2.1.29 Precedence: list List-Id: automatic DPDK test reports List-Unsubscribe: , List-Archive: List-Post: List-Help: List-Subscribe: , Errors-To: test-report-bounces@dpdk.org Test-Label: iol-compile-amd64-testing Test-Status: SUCCESS http://dpdk.org/patch/158669 _Testing PASS_ Submitter: Wathsala Vithanage Date: Tuesday, November 11 2025 17:38:50 DPDK git baseline: Repo:dpdk Branch: master CommitID:994644dcbdca1490bd831e4fd1d7d5b0b79d1874 158669 --> testing pass Upstream job id: Windows-Compile-DPDK-Native#32299 Test environment and result as below: +-------------------------------+--------------------+------------------+-------------------+-------------------------+----------------------+ | Environment | dpdk_meson_compile | dpdk_compile_ovs | dpdk_msvc_compile | dpdk_llvm_clang_compile | dpdk_mingw64_compile | +===============================+====================+==================+===================+=========================+======================+ | Ubuntu 20.04 | PASS | SKIPPED | SKIPPED | SKIPPED | SKIPPED | +-------------------------------+--------------------+------------------+-------------------+-------------------------+----------------------+ | FreeBSD 14.2 | PASS | SKIPPED | SKIPPED | SKIPPED | SKIPPED | +-------------------------------+--------------------+------------------+-------------------+-------------------------+----------------------+ | CentOS Stream 9 | PASS | SKIPPED | SKIPPED | SKIPPED | SKIPPED | +-------------------------------+--------------------+------------------+-------------------+-------------------------+----------------------+ | CentOS Stream 10 | PASS | SKIPPED | SKIPPED | SKIPPED | SKIPPED | +-------------------------------+--------------------+------------------+-------------------+-------------------------+----------------------+ | Debian GNU/Linux 12 | PASS | SKIPPED | SKIPPED | SKIPPED | SKIPPED | +-------------------------------+--------------------+------------------+-------------------+-------------------------+----------------------+ | Fedora Linux 42 | PASS | PASS | SKIPPED | SKIPPED | SKIPPED | +-------------------------------+--------------------+------------------+-------------------+-------------------------+----------------------+ | openSUSE Leap 15.6 | PASS | SKIPPED | SKIPPED | SKIPPED | SKIPPED | +-------------------------------+--------------------+------------------+-------------------+-------------------------+----------------------+ | Red Hat Enterprise Linux 8.10 | PASS | SKIPPED | SKIPPED | SKIPPED | SKIPPED | +-------------------------------+--------------------+------------------+-------------------+-------------------------+----------------------+ | Red Hat Enterprise Linux 9.5 | PASS | SKIPPED | SKIPPED | SKIPPED | SKIPPED | +-------------------------------+--------------------+------------------+-------------------+-------------------------+----------------------+ | Ubuntu 22.04 | PASS | SKIPPED | SKIPPED | SKIPPED | SKIPPED | +-------------------------------+--------------------+------------------+-------------------+-------------------------+----------------------+ | Ubuntu 24.04 | PASS | PASS | SKIPPED | SKIPPED | SKIPPED | +-------------------------------+--------------------+------------------+-------------------+-------------------------+----------------------+ | Alpine Linux 3.22.0 | PASS | SKIPPED | SKIPPED | SKIPPED | SKIPPED | +-------------------------------+--------------------+------------------+-------------------+-------------------------+----------------------+ | Windows Server 2022 | SKIPPED | SKIPPED | PASS | PASS | PASS | +-------------------------------+--------------------+------------------+-------------------+-------------------------+----------------------+ Ubuntu 20.04 Kernel: 4.19 Compiler: gcc gcc (Ubuntu 9.4.0-1ubuntu1~20.04.2) 9.4.0 FreeBSD 14.2 Kernel: 14.2-RELEASE Compiler: clang 18.1.6 CentOS Stream 9 Kernel: 5.15 Compiler: gcc gcc (GCC) 11.5.0 20240719 (Red Hat 11.5.0-11) CentOS Stream 10 Kernel: 5.15 Compiler: gcc gcc (GCC) 14.2.1 20250110 (Red Hat 14.2.1-8) Debian GNU/Linux 12 Kernel: 5.15 Compiler: gcc gcc (Debian 12.2.0-14+deb12u1) 12.2.0 Fedora Linux 42 Kernel: 5.15 Compiler: clang gcc (GCC) 15.2.1 20250808 (Red Hat 15.2.1-1) openSUSE Leap 15.6 Kernel: 5.15 Compiler: gcc gcc (SUSE Linux) 7.5.0 Red Hat Enterprise Linux 8.10 Kernel: 5.15 Compiler: gcc gcc (GCC) 8.5.0 20210514 (Red Hat 8.5.0-22) Red Hat Enterprise Linux 9.5 Kernel: 5.15 Compiler: gcc gcc (GCC) 11.5.0 20240719 (Red Hat 11.5.0-2) Ubuntu 22.04 Kernel: 5.15 Compiler: gcc gcc (Ubuntu 11.4.0-1ubuntu1~22.04) 11.4.0 Ubuntu 24.04 Kernel: 5.15 Compiler: gcc gcc (Ubuntu 13.3.0-6ubuntu2~24.04) 13.3.0 Alpine Linux 3.22.0 Kernel: 5.15 Compiler: gcc gcc (Alpine 14.2.0) 14.2.0 Windows Server 2022 Kernel: 10.0.20348.2031 Compiler: clang 15.0.7, gcc 14.1.0 (MinGW), and MSVC VS 19.39.33521 To view detailed results, visit: https://lab.dpdk.org/results/dashboard/patchsets/34537/ UNH-IOL DPDK Community Lab To manage your email subscriptions, visit: https://lab.dpdk.org/results/dashboard/preferences/subscriptions/