From mboxrd@z Thu Jan 1 00:00:00 1970 Return-Path: Received: from mails.dpdk.org (mails.dpdk.org [217.70.189.124]) by inbox.dpdk.org (Postfix) with ESMTP id 7579848AFE for ; Thu, 13 Nov 2025 22:20:55 +0100 (CET) Received: from mails.dpdk.org (localhost [127.0.0.1]) by mails.dpdk.org (Postfix) with ESMTP id 6FB2040151; Thu, 13 Nov 2025 22:20:55 +0100 (CET) Received: from mail-qv1-f100.google.com (mail-qv1-f100.google.com [209.85.219.100]) by mails.dpdk.org (Postfix) with ESMTP id 011FE40151 for ; Thu, 13 Nov 2025 22:20:53 +0100 (CET) Received: by mail-qv1-f100.google.com with SMTP id 6a1803df08f44-88043139c35so13938256d6.0 for ; Thu, 13 Nov 2025 13:20:53 -0800 (PST) DKIM-Signature: v=1; a=rsa-sha256; c=relaxed/relaxed; d=iol.unh.edu; s=unh-iol; t=1763068853; x=1763673653; darn=dpdk.org; h=references:in-reply-to:cc:to:from:subject:message-id:date:from:to :cc:subject:date:message-id:reply-to; bh=bjC/OuBUcbTHUalR8eD7Pqcn1Z1yiKiaF4ftkJvVIvU=; b=eO7AphwQflu60TS0YT01Y8Zh/RGwP35O8IYT/6lYNS6XYVYpsjiUwchuk/tuQ2M1t6 QiQtubOCgEWdjLKaJQmdyZx8ty/KieKx0bVbA2f6jr+7I1hALx3z1Lv6s7HAskKdyOJK NjJHSxeYc+xvjZWlBj0fmEn1IrnwGOY2bder4= X-Google-DKIM-Signature: v=1; a=rsa-sha256; c=relaxed/relaxed; d=1e100.net; s=20230601; t=1763068853; x=1763673653; h=references:in-reply-to:cc:to:from:subject:message-id:date:x-gm-gg :x-gm-message-state:from:to:cc:subject:date:message-id:reply-to; bh=bjC/OuBUcbTHUalR8eD7Pqcn1Z1yiKiaF4ftkJvVIvU=; b=P1PUz0pb6kD9D06eJ6iTDcXTXJp9K/ZWlVrElSI9TS9UdGFSOXUnLDokN8WEOLEl0S 0w8ie4iXhfdurkGIRITKNAvoKp0BjSi1MUgBNhrxao6on4MCqIex2dysvcQZrShqHsTk r0vd5+m41GP1K+Wx81MdOUfSS16rsxoq/W7KXo3vw2TcvVfMwTH3H91u5vdbRODQHS5C u0TyJXTYoVmzmf2pup39Qdv0Vep2o0pvmH2WQ10DmLCyZ7uRORxEaUPzJuVqNVO8tWl9 dDmEAfrekzPCyvcQJ/ZVFpeevY8UoiAG4QPSqnHz7cfAGBcZtfa//6ZlPK82V81pChj0 B9rQ== X-Gm-Message-State: AOJu0YyiHzSSHfya5Rw9xSZ1b0qS1P3pmzleY4e3V2aPPYGQ4CavWuu+ CmXbXj1hx5mFDZUmp1JnyUsqnqVc9Z9wjRkmDMCb1VJJDzJaP6l+G0yXng0Rt3hW85F+ZGu6H2v 0LOQkuF2QNQFqBF3xpce3HvCiSvnc8vD3gSOx/uE9v4o8 X-Gm-Gg: ASbGncv3JSdcYejQCc07RI6JXUk1p/L08MznUDdjPfCu3woMi3DrxlvTAcjVX+ke25i llYz/MDtcaDC9luHOZXi6K1BEv7xs+MMoE7FJAWdzetsHLgKdvY9bOOdmeXE3M2IWyGsbn6yYr9 r6wk+SDJ5QLX/+ng40Mad6Pini8qS8TgSh32zGBSPp0xudRDlBCuDBdRMmA1RfbiLvUUlgmk4pn qGLzxztgCbNqDp9ubF+zi6SHuWarjzfcRWW6KDtKi0p7X+jVpS93nSd9pTvur6zionVyNQghdXw lPnVrnGDOZuDMKS9kWZLJI15tomDC85w6jzK2b0urHk3VCHpvo8vfDXp5kaWp7uCB9ThRJqHKCS jzChgDS2i3wVf/yiybeSR0JTfHta9SSg= X-Google-Smtp-Source: AGHT+IGp/uhlN0micMu0KdFRxzR2xgIH2T5NoTCkcVEBMS3TTkOgXPscEOABi9nQ25UI1PmtTV1SQ28dh1zI X-Received: by 2002:a05:6214:d8d:b0:880:57cc:7a96 with SMTP id 6a1803df08f44-88292698e5fmr9805786d6.48.1763068853389; Thu, 13 Nov 2025 13:20:53 -0800 (PST) Received: from postal.iol.unh.edu (postal.iol.unh.edu. [132.177.123.84]) by smtp-relay.gmail.com with ESMTPS id 6a1803df08f44-8828657c6aasm3282066d6.26.2025.11.13.13.20.53 (version=TLS1_2 cipher=ECDHE-ECDSA-AES128-GCM-SHA256 bits=128/128); Thu, 13 Nov 2025 13:20:53 -0800 (PST) X-Relaying-Domain: iol.unh.edu Date: Thu, 13 Nov 2025 13:20:53 -0800 (PST) Message-ID: <69164bb5.050a0220.3daff.f234SMTPIN_ADDED_MISSING@mx.google.com> Received: from [172.21.0.2] (unknown [172.18.0.240]) by postal.iol.unh.edu (Postfix) with ESMTP id 26C5C604D420; Thu, 13 Nov 2025 16:20:53 -0500 (EST) Subject: |SUCCESS| pw158752 [PATCH] ethdev: add GENEVE encapsulation and deca From: dpdklab@iol.unh.edu To: Test Report Cc: dpdk-test-reports@iol.unh.edu, Stephen Hemminger In-Reply-To: <20251113102158.48040-1-sunyang.wu@jaguarmicro.com> References: <20251113102158.48040-1-sunyang.wu@jaguarmicro.com> Content-Type: text/plain X-BeenThere: test-report@dpdk.org X-Mailman-Version: 2.1.29 Precedence: list List-Id: automatic DPDK test reports List-Unsubscribe: , List-Archive: List-Post: List-Help: List-Subscribe: , Errors-To: test-report-bounces@dpdk.org Test-Label: iol-compile-amd64-testing Test-Status: SUCCESS http://dpdk.org/patch/158752 _Testing PASS_ Submitter: Sunyang Wu Date: Thursday, November 13 2025 10:21:58 DPDK git baseline: Repo:dpdk-next-net Branch: master CommitID:29807269854f9bfc72f1323273de8e23adc724d4 158752 --> testing pass Upstream job id: Generic-DPDK-Compile-Meson#443905 Test environment and result as below: +---------------------+--------------------+-------------------+ | Environment | dpdk_meson_compile | dpdk_msvc_compile | +=====================+====================+===================+ | Ubuntu 20.04 | PASS | SKIPPED | +---------------------+--------------------+-------------------+ | FreeBSD 14.2 | PASS | SKIPPED | +---------------------+--------------------+-------------------+ | Ubuntu 22.04 | PASS | SKIPPED | +---------------------+--------------------+-------------------+ | CentOS Stream 9 | PASS | SKIPPED | +---------------------+--------------------+-------------------+ | CentOS Stream 10 | PASS | SKIPPED | +---------------------+--------------------+-------------------+ | Windows Server 2022 | SKIPPED | PASS | +---------------------+--------------------+-------------------+ Ubuntu 20.04 Kernel: 4.19 Compiler: gcc gcc (Ubuntu 9.4.0-1ubuntu1~20.04.2) 9.4.0 FreeBSD 14.2 Kernel: 14.2-RELEASE Compiler: clang 18.1.6 Ubuntu 22.04 Kernel: 5.15 Compiler: gcc gcc (Ubuntu 11.4.0-1ubuntu1~22.04) 11.4.0 CentOS Stream 9 Kernel: 5.15 Compiler: gcc gcc (GCC) 11.5.0 20240719 (Red Hat 11.5.0-11) CentOS Stream 10 Kernel: 5.15 Compiler: gcc gcc (GCC) 14.2.1 20250110 (Red Hat 14.2.1-8) Windows Server 2022 Kernel: 10.0.20348.2031 Compiler: clang 15.0.7, gcc 14.1.0 (MinGW), and MSVC VS 19.39.33521 To view detailed results, visit: https://lab.dpdk.org/results/dashboard/patchsets/34569/ UNH-IOL DPDK Community Lab To manage your email subscriptions, visit: https://lab.dpdk.org/results/dashboard/preferences/subscriptions/