From mboxrd@z Thu Jan 1 00:00:00 1970 Return-Path: Received: from mails.dpdk.org (mails.dpdk.org [217.70.189.124]) by inbox.dpdk.org (Postfix) with ESMTP id BAE1248AFE for ; Thu, 13 Nov 2025 22:23:15 +0100 (CET) Received: from mails.dpdk.org (localhost [127.0.0.1]) by mails.dpdk.org (Postfix) with ESMTP id B235340151; Thu, 13 Nov 2025 22:23:15 +0100 (CET) Received: from mail-pj1-f99.google.com (mail-pj1-f99.google.com [209.85.216.99]) by mails.dpdk.org (Postfix) with ESMTP id 0FB6A40151 for ; Thu, 13 Nov 2025 22:23:14 +0100 (CET) Received: by mail-pj1-f99.google.com with SMTP id 98e67ed59e1d1-3414de5b27eso1103411a91.0 for ; Thu, 13 Nov 2025 13:23:13 -0800 (PST) DKIM-Signature: v=1; a=rsa-sha256; c=relaxed/relaxed; d=iol.unh.edu; s=unh-iol; t=1763068993; x=1763673793; darn=dpdk.org; h=references:in-reply-to:cc:to:from:subject:message-id:date:from:to :cc:subject:date:message-id:reply-to; bh=IYAhZywwg153wKnMIpihYuvChcy87NsIQXv5E3rw2i8=; b=UO3DlNtXMb4r3oRNblwPkVSwN38YfbJ6140cgl/lKgLG4cHVkXWrrLdFs7jnhbtBWj m0/RCq5iNgoXIFx382xOiViSF6oF0ML4o8Acuz+GI4fKysy99NBY1w/xcB8ly5Gmw7zO 3qKzJ5YyGJw3g1PJMiR0lxKHBaoWkkHOLaqeU= X-Google-DKIM-Signature: v=1; a=rsa-sha256; c=relaxed/relaxed; d=1e100.net; s=20230601; t=1763068993; x=1763673793; h=references:in-reply-to:cc:to:from:subject:message-id:date:x-gm-gg :x-gm-message-state:from:to:cc:subject:date:message-id:reply-to; bh=IYAhZywwg153wKnMIpihYuvChcy87NsIQXv5E3rw2i8=; b=CuKnw13Ywv26HdWBOgD5bHZs2NA5rky1Bm1alJWHCd7oIcUIKfCkDxmRHDx3ZS8YH7 hRCyLjF5dLrFDloylM5OLOzzF/mvX0H3YgTrif1M7o7XsCDoaWpRKFJvG0lX+cEHtOZ3 PcTIsIVjvYmbCkTKmCmfdhLkY35W6XSfmVv2O2rhyaF0YVFEmoQOrN31Y2OcryjVyiJZ /bkm0RUN2E3JK5zLT7bUB2X5gAGIQwNyasbuPzKJgZhzm/e2RTzURVRMazbNc4SBI8MG NIVhLHt3RPukQFZflB/ygo0JijONhd2hpgOI4hc4WYWLtk2hNsD0JTD6NNBV5f0YZtu/ urDg== X-Gm-Message-State: AOJu0Yyi00S1UXit7bjiKQwuR9Edj6DjEw2RxzldiveCuvBLaJOPLZ29 wNNS1WSf+lhpbnt9luoINjNFuYyGdNW8NIZI6z+C1YLidSPyOWB+xgIjz8PQuglR4YScOwae8BP yHghjQ2FUQpvL716jJ2naa9UweESCVepPNIJCbRqHRgqE X-Gm-Gg: ASbGnctL+/SmtQqP1HQrrlPMvDb9lnbSS/s6Zqpa67pLvyN2YuhHqdykj0QPoqVOcRN xyNsYpl71J/TG+OJoJybDdf4hhEdwzW57w4rteDaGjxRZCC7LAJ9VUEkb96cdeJz9LJ2fXztGmr PEjd45jka97ev4DT1LaIJVDGGHBiGxpKujjq2kz1m4gNFRazjWoAYU/hgGnHcES/OLyijw6b4sx DNw6juvIQ2SEMgwH0aGeNLGEGg2GvYElgoOYOou0u598nh35P1j4pBgkAFP9QzCwTE4f9l/LcBg vXA+vpmQKkgmwZ1gMAzxdrlfCyOndQmqgpa1L8z+IIq41EETWbtQgYz5YpptFEPByVi01P5nA/P kdvtu1fCLGMxE2V1ijtXinJiZnkPlo20= X-Google-Smtp-Source: AGHT+IFAdlkfYosyUfXt1IU8EbN/ZPnLbuTXY76vdetU/+nXqjY30yZcH/jJvNn2p1mwh3PVEpF3IqgYu8st X-Received: by 2002:a17:90b:3b4f:b0:343:5f43:9359 with SMTP id 98e67ed59e1d1-343fa74d185mr667365a91.31.1763068993224; Thu, 13 Nov 2025 13:23:13 -0800 (PST) Received: from postal.iol.unh.edu (postal.iol.unh.edu. [132.177.123.84]) by smtp-relay.gmail.com with ESMTPS id 98e67ed59e1d1-343e0791b6asm693674a91.4.2025.11.13.13.23.13 (version=TLS1_2 cipher=ECDHE-ECDSA-AES128-GCM-SHA256 bits=128/128); Thu, 13 Nov 2025 13:23:13 -0800 (PST) X-Relaying-Domain: iol.unh.edu Date: Thu, 13 Nov 2025 13:23:13 -0800 (PST) Message-ID: <69164c41.170a0220.372f04.23a1SMTPIN_ADDED_MISSING@mx.google.com> Received: from [172.21.0.3] (unknown [172.18.0.240]) by postal.iol.unh.edu (Postfix) with ESMTP id 75AA5604D420; Thu, 13 Nov 2025 16:23:12 -0500 (EST) Subject: |SUCCESS| pw158705 [PATCH] net/intel: ensure correct Rx path is sele From: dpdklab@iol.unh.edu To: Test Report Cc: dpdk-test-reports@iol.unh.edu, Bruce Richardson In-Reply-To: <20251112151123.3757688-1-ciara.loftus@intel.com> References: <20251112151123.3757688-1-ciara.loftus@intel.com> Content-Type: text/plain X-BeenThere: test-report@dpdk.org X-Mailman-Version: 2.1.29 Precedence: list List-Id: automatic DPDK test reports List-Unsubscribe: , List-Archive: List-Post: List-Help: List-Subscribe: , Errors-To: test-report-bounces@dpdk.org Test-Label: iol-unit-amd64-testing Test-Status: SUCCESS http://dpdk.org/patch/158705 _Testing PASS_ Submitter: Ciara Loftus Date: Wednesday, November 12 2025 15:11:23 DPDK git baseline: Repo:dpdk-next-net-intel Branch: master CommitID:c63646d076330fb2ef3282cbd413aaf93f0509e6 158705 --> testing pass Upstream job id: Generic-VM-Unit-Test-DPDK#32497 Test environment and result as below: +-------------------------------+----------------+ | Environment | dpdk_unit_test | +===============================+================+ | Fedora Linux 40 | PASS | +-------------------------------+----------------+ | Red Hat Enterprise Linux 8.10 | PASS | +-------------------------------+----------------+ | Debian GNU/Linux 12 | PASS | +-------------------------------+----------------+ | Fedora Linux 42 | PASS | +-------------------------------+----------------+ | CentOS Stream 9 | PASS | +-------------------------------+----------------+ | CentOS Stream 10 | PASS | +-------------------------------+----------------+ | Fedora Linux 41 | PASS | +-------------------------------+----------------+ | Ubuntu 24.04 | PASS | +-------------------------------+----------------+ | Red Hat Enterprise Linux 9.5 | PASS | +-------------------------------+----------------+ | Ubuntu 20.04 | PASS | +-------------------------------+----------------+ | Ubuntu 22.04 | PASS | +-------------------------------+----------------+ | Windows Server 2022 | PASS | +-------------------------------+----------------+ Fedora Linux 40 Kernel: 5.15 Compiler: gcc gcc (GCC) 14.2.1 20240912 (Red Hat 14.2.1-3) Red Hat Enterprise Linux 8.10 Kernel: 5.15 Compiler: gcc gcc (GCC) 8.5.0 20210514 (Red Hat 8.5.0-22) Debian GNU/Linux 12 Kernel: 5.15 Compiler: gcc gcc (Debian 12.2.0-14+deb12u1) 12.2.0 Fedora Linux 42 Kernel: 5.15 Compiler: gcc gcc (GCC) 15.2.1 20250808 (Red Hat 15.2.1-1) CentOS Stream 9 Kernel: 5.15 Compiler: gcc gcc (GCC) 11.5.0 20240719 (Red Hat 11.5.0-11) CentOS Stream 10 Kernel: 5.15 Compiler: gcc gcc (GCC) 14.2.1 20250110 (Red Hat 14.2.1-8) Fedora Linux 41 Kernel: 5.15 Compiler: clang gcc (GCC) 14.3.1 20250523 (Red Hat 14.3.1-1) Ubuntu 24.04 Kernel: 5.15 Compiler: gcc gcc (Ubuntu 13.3.0-6ubuntu2~24.04) 13.3.0 Red Hat Enterprise Linux 9.5 Kernel: 5.15 Compiler: gcc gcc (GCC) 11.5.0 20240719 (Red Hat 11.5.0-2) Ubuntu 20.04 Kernel: 5.15 Compiler: gcc gcc (Ubuntu 9.4.0-1ubuntu1~20.04.2) 9.4.0 Ubuntu 22.04 Kernel: 5.15 Compiler: gcc gcc (Ubuntu 11.4.0-1ubuntu1~22.04) 11.4.0 Windows Server 2022 Kernel: 10.0.20348.2031 Compiler: clang 15.0.7, gcc 14.1.0 (MinGW), and MSVC VS 19.39.33521 To view detailed results, visit: https://lab.dpdk.org/results/dashboard/patchsets/34552/ UNH-IOL DPDK Community Lab To manage your email subscriptions, visit: https://lab.dpdk.org/results/dashboard/preferences/subscriptions/