From mboxrd@z Thu Jan 1 00:00:00 1970 Return-Path: Received: from mails.dpdk.org (mails.dpdk.org [217.70.189.124]) by inbox.dpdk.org (Postfix) with ESMTP id 6EDBA48AFE for ; Thu, 13 Nov 2025 22:35:28 +0100 (CET) Received: from mails.dpdk.org (localhost [127.0.0.1]) by mails.dpdk.org (Postfix) with ESMTP id 6771540151; Thu, 13 Nov 2025 22:35:28 +0100 (CET) Received: from mail-oa1-f98.google.com (mail-oa1-f98.google.com [209.85.160.98]) by mails.dpdk.org (Postfix) with ESMTP id BA92240151 for ; Thu, 13 Nov 2025 22:35:26 +0100 (CET) Received: by mail-oa1-f98.google.com with SMTP id 586e51a60fabf-3e7e94890b3so701261fac.1 for ; Thu, 13 Nov 2025 13:35:26 -0800 (PST) DKIM-Signature: v=1; a=rsa-sha256; c=relaxed/relaxed; d=iol.unh.edu; s=unh-iol; t=1763069726; x=1763674526; darn=dpdk.org; h=references:in-reply-to:cc:to:from:subject:message-id:date:from:to :cc:subject:date:message-id:reply-to; bh=nf4YvkIJ6iGYhvkvvER0Wtw1tnrLl35YdyMM0mQCgfw=; b=S00ygyieya0exkH6YT0N+pr2iQOD93x4/NRoMhj39VoIILB4kIWrwY6kpL9alnzPtO XwqU81ORz1VP3OpQMqdAy4yv63aaSqT0QA3wi4YLKoYtMdLtaz/eCE2uWsTOTQgF7mrv 9SUNxa61WmiP7MmsFL/CAN7lOvEjtHyLdpKO0= X-Google-DKIM-Signature: v=1; a=rsa-sha256; c=relaxed/relaxed; d=1e100.net; s=20230601; t=1763069726; x=1763674526; h=references:in-reply-to:cc:to:from:subject:message-id:date:x-gm-gg :x-gm-message-state:from:to:cc:subject:date:message-id:reply-to; bh=nf4YvkIJ6iGYhvkvvER0Wtw1tnrLl35YdyMM0mQCgfw=; b=AF7M4zhmtzZcOOpkkj8qudGiW5AHSmieBErdNGTKGgcdv61M49yHi1wJULvIEvp0bY RdJcsxUaqQ3ZQW5r/C7zm0oHItOvB9+h0DL2Y4EW26h3iZDqgK0pus15uiWZbQWv3uac 4KpTRg1ySWCtsDXzgfZ9bDzsFWmfO8QGLy6wlzWn3BXXiyea0D9iDtyB3fQf1oQkM/I9 0X2J2AXX/j3Q6LrXKNk7VX+CWOpktoTcDlEy4MG/8C+BDWzCZ4T6db1/HewGpvP2r+wg jgCM1DikCylZvv0peIKhrGQSW9h+zgyssmqFNPpJXNcWTuQ+gr7jSmXbA+6zaUgsx4fq ylIA== X-Gm-Message-State: AOJu0YwVn9M262lWJULlg7JaAKB8qK0ARDUuWbYlkrHj1r5xA+neevyJ 6RhAdb9TU/GOz8chguE0cNQN5P7ydDqx6WrJqTKBqu2LDPszh30+ryK0GHCAgoiwfGMU8gp6UN1 EvpXowwypUNsBhbsq1owERg2sa9ywnp3dk6SVhh/tR//0TBRnaa/el4tX+dr8 X-Gm-Gg: ASbGnctc7YlX6QXZDPrFXVVrV+dkPH/wSFz3Pw5A88M7TQCcaYKvp4NX3m7emQJc/Gv QeUOLch7Z0aZVejRuMYXcuCBjCQVqCzTB2lOA8cuYaLdaD29vRB1KVeb4kkRaGOK7HISMpxku2V Cj6NmXWrTgQac/Ae0amwCE2dS2KvNq+MOXUfoSzP17KGQYyHgrmrRgpkh5oxEx++/jcHqhDkj0V kOh72HR/Nfnf4mIIEYK42+6++dG3yI/T7SSI7KF8Sb16188Ls8FGq0ITYJ2/sQtG2T+0e1UW4T1 odL9VpzhDab+aOGw9v+UKtkjnqt4KIHS7V5r0nTRA2l+fhxGsEmEE6gp8RtM6igQANmNPNvXVAX ZiwdOELtZ X-Google-Smtp-Source: AGHT+IFlF4u/U0IzfIy+dUjcrb712YvWTvD7/7zC1RHOmb3+5mcmfOYIgqFLQSlpqH6kgvYKLORABIvYdWu0 X-Received: by 2002:a05:6870:831e:b0:3e8:40e4:eb8d with SMTP id 586e51a60fabf-3e868f52a5cmr565230fac.16.1763069726013; Thu, 13 Nov 2025 13:35:26 -0800 (PST) Received: from postal.iol.unh.edu (postal.iol.unh.edu. [2606:4100:3880:1234::84]) by smtp-relay.gmail.com with ESMTPS id 586e51a60fabf-3e8522779ddsm241771fac.16.2025.11.13.13.35.25 (version=TLS1_2 cipher=ECDHE-ECDSA-AES128-GCM-SHA256 bits=128/128); Thu, 13 Nov 2025 13:35:26 -0800 (PST) X-Relaying-Domain: iol.unh.edu Date: Thu, 13 Nov 2025 13:35:26 -0800 (PST) Message-ID: <69164f1e.050a0220.2f1759.b180SMTPIN_ADDED_MISSING@mx.google.com> Received: from [172.21.0.2] (unknown [172.18.0.240]) by postal.iol.unh.edu (Postfix) with ESMTP id 89E226051830; Thu, 13 Nov 2025 16:35:25 -0500 (EST) Subject: |SUCCESS| pw158705 [PATCH] net/intel: ensure correct Rx path is sele From: dpdklab@iol.unh.edu To: Test Report Cc: dpdk-test-reports@iol.unh.edu, Bruce Richardson In-Reply-To: <20251112151123.3757688-1-ciara.loftus@intel.com> References: <20251112151123.3757688-1-ciara.loftus@intel.com> Content-Type: text/plain X-BeenThere: test-report@dpdk.org X-Mailman-Version: 2.1.29 Precedence: list List-Id: automatic DPDK test reports List-Unsubscribe: , List-Archive: List-Post: List-Help: List-Subscribe: , Errors-To: test-report-bounces@dpdk.org Test-Label: iol-unit-amd64-testing Test-Status: SUCCESS http://dpdk.org/patch/158705 _Testing PASS_ Submitter: Ciara Loftus Date: Wednesday, November 12 2025 15:11:23 DPDK git baseline: Repo:dpdk-next-net-intel Branch: master CommitID:c63646d076330fb2ef3282cbd413aaf93f0509e6 158705 --> testing pass Upstream job id: Generic-VM-Unit-Test-DPDK#32498 Test environment and result as below: +-------------------------------+----------------+ | Environment | dpdk_unit_test | +===============================+================+ | Fedora Linux 40 | PASS | +-------------------------------+----------------+ | Red Hat Enterprise Linux 8.10 | PASS | +-------------------------------+----------------+ | Debian GNU/Linux 12 | PASS | +-------------------------------+----------------+ | Fedora Linux 42 | PASS | +-------------------------------+----------------+ | CentOS Stream 9 | PASS | +-------------------------------+----------------+ | CentOS Stream 10 | PASS | +-------------------------------+----------------+ | Fedora Linux 41 | PASS | +-------------------------------+----------------+ | Ubuntu 24.04 | PASS | +-------------------------------+----------------+ | Red Hat Enterprise Linux 9.5 | PASS | +-------------------------------+----------------+ | Ubuntu 20.04 | PASS | +-------------------------------+----------------+ | Ubuntu 22.04 | PASS | +-------------------------------+----------------+ | Windows Server 2022 | PASS | +-------------------------------+----------------+ Fedora Linux 40 Kernel: 5.15 Compiler: gcc gcc (GCC) 14.2.1 20240912 (Red Hat 14.2.1-3) Red Hat Enterprise Linux 8.10 Kernel: 5.15 Compiler: gcc gcc (GCC) 8.5.0 20210514 (Red Hat 8.5.0-22) Debian GNU/Linux 12 Kernel: 5.15 Compiler: gcc gcc (Debian 12.2.0-14+deb12u1) 12.2.0 Fedora Linux 42 Kernel: 5.15 Compiler: gcc gcc (GCC) 15.2.1 20250808 (Red Hat 15.2.1-1) CentOS Stream 9 Kernel: 5.15 Compiler: gcc gcc (GCC) 11.5.0 20240719 (Red Hat 11.5.0-11) CentOS Stream 10 Kernel: 5.15 Compiler: gcc gcc (GCC) 14.2.1 20250110 (Red Hat 14.2.1-8) Fedora Linux 41 Kernel: 5.15 Compiler: clang gcc (GCC) 14.3.1 20250523 (Red Hat 14.3.1-1) Ubuntu 24.04 Kernel: 5.15 Compiler: gcc gcc (Ubuntu 13.3.0-6ubuntu2~24.04) 13.3.0 Red Hat Enterprise Linux 9.5 Kernel: 5.15 Compiler: gcc gcc (GCC) 11.5.0 20240719 (Red Hat 11.5.0-2) Ubuntu 20.04 Kernel: 5.15 Compiler: gcc gcc (Ubuntu 9.4.0-1ubuntu1~20.04.2) 9.4.0 Ubuntu 22.04 Kernel: 5.15 Compiler: gcc gcc (Ubuntu 11.4.0-1ubuntu1~22.04) 11.4.0 Windows Server 2022 Kernel: 10.0.20348.2031 Compiler: clang 15.0.7, gcc 14.1.0 (MinGW), and MSVC VS 19.39.33521 To view detailed results, visit: https://lab.dpdk.org/results/dashboard/patchsets/34552/ UNH-IOL DPDK Community Lab To manage your email subscriptions, visit: https://lab.dpdk.org/results/dashboard/preferences/subscriptions/