From mboxrd@z Thu Jan 1 00:00:00 1970 Return-Path: Received: from mails.dpdk.org (mails.dpdk.org [217.70.189.124]) by inbox.dpdk.org (Postfix) with ESMTP id 75D5048AFE for ; Thu, 13 Nov 2025 22:54:21 +0100 (CET) Received: from mails.dpdk.org (localhost [127.0.0.1]) by mails.dpdk.org (Postfix) with ESMTP id 71F0F40151; Thu, 13 Nov 2025 22:54:21 +0100 (CET) Received: from mail-pj1-f97.google.com (mail-pj1-f97.google.com [209.85.216.97]) by mails.dpdk.org (Postfix) with ESMTP id D9ACE40151 for ; Thu, 13 Nov 2025 22:54:20 +0100 (CET) Received: by mail-pj1-f97.google.com with SMTP id 98e67ed59e1d1-343806688c5so1219647a91.0 for ; Thu, 13 Nov 2025 13:54:20 -0800 (PST) DKIM-Signature: v=1; a=rsa-sha256; c=relaxed/relaxed; d=iol.unh.edu; s=unh-iol; t=1763070860; x=1763675660; darn=dpdk.org; h=references:in-reply-to:cc:to:from:subject:message-id:date:from:to :cc:subject:date:message-id:reply-to; bh=cWJgIW6fIlEX6kaEeMqzG8JtZ2nd0+dnNxr0CbMGVqE=; b=b/YyBYC5fcviKO9btzNi9OFwVAxzGhI6DflohZb+z/IszUyGOiC+AeD54+w6q+/XCt j1UUulZ3ErkqDwUqMzn5h3pK72e91tGQfR+ARDIHldi+QDntxcEm03zmpuNMJ749A7z9 CJ2LH/DVWYZcSumibIIvkS8uYzjtBCpiXB4lY= X-Google-DKIM-Signature: v=1; a=rsa-sha256; c=relaxed/relaxed; d=1e100.net; s=20230601; t=1763070860; x=1763675660; h=references:in-reply-to:cc:to:from:subject:message-id:date:x-gm-gg :x-gm-message-state:from:to:cc:subject:date:message-id:reply-to; bh=cWJgIW6fIlEX6kaEeMqzG8JtZ2nd0+dnNxr0CbMGVqE=; b=rawOcIIrBc74RTWAQ/Ki6H4J/6/6kaDwV0O/4NlgPwZSdW4vf73mIKWpBIcVo+Tl66 SKRt9nv2nzpDpITnThOgjmNb/+gtv8PJUGW4NJQmZ1aKDH63oJ1DOWQiDlUnFT37OT0w IZHHjMdRXZVag0Vs4VOXODxMoHoVuwy5drUbYrF7wt8ygW0IukrhINeZ8fk9Qfd2kRBl FWESSCOP4Nju0GJ9LRkcBPkL+2rkGB3Fp4oFYkRMgAYhaXrqVFX3TssF9d0oh0ai7Dhm 0WbbXTHBsqPGVtBFiTiAUedgz7cNNc/uexKEcU4kwafD/U50Unel5GpgLzIJ42Il+ZS3 ptpw== X-Gm-Message-State: AOJu0YwDqq5IO1nUhaY0NdPxezHKt6f1fSCYwRJeMb/XoXrb1FxR0k/3 jxCiry/TuINpPjPBEramqJzinkvRFXjihSlgJUtcLcQX3NFYlO/gwyKwPgW0saaqWZbk4TjxR65 hhB9KfAjV0w6yb5GHir0Xk6Xn3BcL34XYKo6R5sLMmzqsfIA4DFpRSI0l8l7l X-Gm-Gg: ASbGnctamKaogBKro47oxt9Bl8ErHo+mduNN9MgholAtRf6Nq63U/ao0+WlIKPipRBr ohPyAYAs54fZhoVxdOofGKLl+mK3vMFr8vqFy4RcCLxqgvS38qoTklBwAs8ahkjKZtHLLJFRG0N ZIWQEvECq8hGzEGQWM4/HOCQrdLq0LRKXxLWEXET9KoGmqiYrvbBfmR7BzMWCGHStl1Xxptt9q2 6F6Kfr3mE/6p8GYwlsa8pcmFPIQB4t7EML/wIejIEvKeXD52ksoOgekgbqAXZjn6bmAgQwBrEUW s6y3FfdcoxOZ9u7sfkwGb5AC+KY2eD2arq4l4wc3VeTji+Fe9bUyLhltxNK1boD3Wgd5iN89CWr T63Gis0mE X-Google-Smtp-Source: AGHT+IH4bKEIARlmbFvb9Ki+xb9d10svgsa/tGuYKaDcHixxYb3SalAy/1taGMT4cWzFz3yTwClQN8LbZlGX X-Received: by 2002:a17:90b:4b8c:b0:340:c179:365a with SMTP id 98e67ed59e1d1-343f99c41c4mr840336a91.0.1763070860024; Thu, 13 Nov 2025 13:54:20 -0800 (PST) Received: from postal.iol.unh.edu (postal.iol.unh.edu. [2606:4100:3880:1234::84]) by smtp-relay.gmail.com with ESMTPS id 98e67ed59e1d1-343ed3810ccsm334424a91.0.2025.11.13.13.54.19 (version=TLS1_2 cipher=ECDHE-ECDSA-AES128-GCM-SHA256 bits=128/128); Thu, 13 Nov 2025 13:54:20 -0800 (PST) X-Relaying-Domain: iol.unh.edu Date: Thu, 13 Nov 2025 13:54:20 -0800 (PST) Message-ID: <6916538c.170a0220.37bcb5.fe4aSMTPIN_ADDED_MISSING@mx.google.com> Received: from [172.21.0.2] (unknown [172.18.0.240]) by postal.iol.unh.edu (Postfix) with ESMTP id 4D309604D420; Thu, 13 Nov 2025 16:54:19 -0500 (EST) Subject: |SUCCESS| pw158775 [PATCH] net/mlx5: fix state corruption in dev sta From: dpdklab@iol.unh.edu To: Test Report Cc: dpdk-test-reports@iol.unh.edu In-Reply-To: <20251113193711.7883-1-mkashani@nvidia.com> References: <20251113193711.7883-1-mkashani@nvidia.com> Content-Type: text/plain X-BeenThere: test-report@dpdk.org X-Mailman-Version: 2.1.29 Precedence: list List-Id: automatic DPDK test reports List-Unsubscribe: , List-Archive: List-Post: List-Help: List-Subscribe: , Errors-To: test-report-bounces@dpdk.org Test-Label: iol-unit-amd64-testing Test-Status: SUCCESS http://dpdk.org/patch/158775 _Testing PASS_ Submitter: Maayan Kashani Date: Thursday, November 13 2025 19:37:11 DPDK git baseline: Repo:dpdk-next-net-mlx Branch: master CommitID:ae657d56b1f0ea979b3f611edf28d773efc2ddcf 158775 --> testing pass Upstream job id: Generic-Unit-Test-DPDK#392449 Test environment and result as below: +-------------------------------+----------------+ | Environment | dpdk_unit_test | +===============================+================+ | CentOS Stream 9 | PASS | +-------------------------------+----------------+ | CentOS Stream 10 | PASS | +-------------------------------+----------------+ | Debian GNU/Linux 12 | PASS | +-------------------------------+----------------+ | Fedora Linux 40 | PASS | +-------------------------------+----------------+ | Fedora Linux 41 | PASS | +-------------------------------+----------------+ | Fedora Linux 42 | PASS | +-------------------------------+----------------+ | Ubuntu 20.04 | PASS | +-------------------------------+----------------+ | Ubuntu 24.04 | PASS | +-------------------------------+----------------+ | Ubuntu 22.04 | PASS | +-------------------------------+----------------+ | Red Hat Enterprise Linux 9.5 | PASS | +-------------------------------+----------------+ | Red Hat Enterprise Linux 8.10 | PASS | +-------------------------------+----------------+ CentOS Stream 9 Kernel: 5.15 Compiler: gcc gcc (GCC) 11.5.0 20240719 (Red Hat 11.5.0-11) CentOS Stream 10 Kernel: 5.15 Compiler: gcc gcc (GCC) 14.2.1 20250110 (Red Hat 14.2.1-8) Debian GNU/Linux 12 Kernel: 5.15 Compiler: gcc gcc (Debian 12.2.0-14+deb12u1) 12.2.0 Fedora Linux 40 Kernel: 5.15 Compiler: gcc gcc (GCC) 14.2.1 20240912 (Red Hat 14.2.1-3) Fedora Linux 41 Kernel: 5.15 Compiler: gcc gcc (GCC) 14.3.1 20250523 (Red Hat 14.3.1-1) Fedora Linux 42 Kernel: 5.15 Compiler: clang gcc (GCC) 15.2.1 20250808 (Red Hat 15.2.1-1) Ubuntu 20.04 Kernel: 5.15 Compiler: gcc gcc (Ubuntu 9.4.0-1ubuntu1~20.04.2) 9.4.0 Ubuntu 24.04 Kernel: 5.15 Compiler: gcc gcc (Ubuntu 13.3.0-6ubuntu2~24.04) 13.3.0 Ubuntu 22.04 Kernel: 5.15 Compiler: gcc gcc (Ubuntu 11.4.0-1ubuntu1~22.04) 11.4.0 Red Hat Enterprise Linux 9.5 Kernel: 5.15 Compiler: gcc gcc (GCC) 11.5.0 20240719 (Red Hat 11.5.0-2) Red Hat Enterprise Linux 8.10 Kernel: 5.15 Compiler: gcc gcc (GCC) 8.5.0 20210514 (Red Hat 8.5.0-22) To view detailed results, visit: https://lab.dpdk.org/results/dashboard/patchsets/34582/ UNH-IOL DPDK Community Lab To manage your email subscriptions, visit: https://lab.dpdk.org/results/dashboard/preferences/subscriptions/