From mboxrd@z Thu Jan 1 00:00:00 1970 Return-Path: Received: from mails.dpdk.org (mails.dpdk.org [217.70.189.124]) by inbox.dpdk.org (Postfix) with ESMTP id 113A448AFE for ; Thu, 13 Nov 2025 23:09:46 +0100 (CET) Received: from mails.dpdk.org (localhost [127.0.0.1]) by mails.dpdk.org (Postfix) with ESMTP id 0CFBB40151; Thu, 13 Nov 2025 23:09:46 +0100 (CET) Received: from mail-il1-f226.google.com (mail-il1-f226.google.com [209.85.166.226]) by mails.dpdk.org (Postfix) with ESMTP id 3C28240151 for ; Thu, 13 Nov 2025 23:09:45 +0100 (CET) Received: by mail-il1-f226.google.com with SMTP id e9e14a558f8ab-433770ba959so11041945ab.1 for ; Thu, 13 Nov 2025 14:09:45 -0800 (PST) DKIM-Signature: v=1; a=rsa-sha256; c=relaxed/relaxed; d=iol.unh.edu; s=unh-iol; t=1763071784; x=1763676584; darn=dpdk.org; h=references:in-reply-to:cc:to:from:subject:message-id:date:from:to :cc:subject:date:message-id:reply-to; bh=BcLWJeNDUD28TW47OjtUQzscWXbfG6B0MekQQRCDBoo=; b=Ff+3G73gXp26mdzvqhVt9WblxAZ0eC8iAQh2m59Hjw4srX6AduXfQSw/HdBU+hOdNM W1155PUcu/5MofNly07rXiEc1jWyJqZoyN8Angp6hRnTdiSwTuuLVCOMuRYOOBCmPEQ5 GwcFica80XfcBkT7Ryancmy7ZtVY5yTQvz0Pg= X-Google-DKIM-Signature: v=1; a=rsa-sha256; c=relaxed/relaxed; d=1e100.net; s=20230601; t=1763071784; x=1763676584; h=references:in-reply-to:cc:to:from:subject:message-id:date:x-gm-gg :x-gm-message-state:from:to:cc:subject:date:message-id:reply-to; bh=BcLWJeNDUD28TW47OjtUQzscWXbfG6B0MekQQRCDBoo=; b=RQb/l871O+opI7rzUev0g81/6oco9nsP2ACbVoO7Evn1KL1W1hBGYUL4J9M2LdfyTj tEC8DYH/43r4tYYXlU/pIBGcaEn1HP6qlyJh6q/Af9gO5nJGmYeeo8OyIb5oz5FznXTo fXyZih9KXabNSxFERRTysxVMpjFg4Qi6jM/noUyBPfnVPldITfmDKwY+Vco+Zq60OsCW s5gHCDHf37EaEPSzUvZP2WRg7TMoWgq91JROnjG79IaOYBb8ge9h6737nmvL0Fx4A/SC aGmsKdwkmzq9Rzi+Pp/QrBpPxZkjSfYnJ4ILh07piohOxQExzxz0qZ5HjqH+MrNu6pWd zSxg== X-Gm-Message-State: AOJu0YwozOuPldYHZQto+RMaNefW13lj4olF9Hw8iLHkn8FIjbOtks5E 7e28reWlRrmnmdNljgfgeVM1Z69f0DRs5hWTjI/Bxztk3XIr0Ahy/NeD3j9DQObkhDpZscYYv+b 9I9tjpYQWzx4/9QjjsTjJrL3Mzu6LgNOGp5/2HzMvfFmQV3nO5C5JZlGrgS/H X-Gm-Gg: ASbGncvgGc079+hDDDWFP1QXyHeySrpKYhgSPI3E8uQeClFRTA6MONktILII0/7HUKY rg1SzLO/fM8njPgnJ8drNk8ge8sjuInDqvP9BGIPnYZKtpR72O4SOFaM/iK0jr65z95+Zc3+r6e Y05AVrd89Y7++JG45BtpauT/voO7GlbbzGHwCgE2zdEZwXxXMfTf/RN0i+dpxOfM1z3wtJfAdD2 2iR0yPwtmDnOTv1y/w/NKwUd2j8kObDnkOSFH1IsUh9rWzSpEc/8m2ipYBDa9fXIqAX/7Fzb3xv 9/j6nfzkpE/kotFHryOYz4HJHZe31Og++qCB0rw3vXp3JRDpzgnqeNLDgJImRhZnH/N10bzbNfA RBDWpu3CB X-Google-Smtp-Source: AGHT+IHHxpU0U6bhr82kX2BwJ+VY6LuWHRPuGwO4kvFreIV4A3jJcvjyYYZLi5E48HsSh/0uKzFjHhy2BR/I X-Received: by 2002:a05:6e02:1a8f:b0:433:2389:e0ad with SMTP id e9e14a558f8ab-4348c867db2mr16921685ab.8.1763071784497; Thu, 13 Nov 2025 14:09:44 -0800 (PST) Received: from postal.iol.unh.edu (postal.iol.unh.edu. [2606:4100:3880:1234::84]) by smtp-relay.gmail.com with ESMTPS id e9e14a558f8ab-434833c613csm2620675ab.5.2025.11.13.14.09.44 (version=TLS1_2 cipher=ECDHE-ECDSA-AES128-GCM-SHA256 bits=128/128); Thu, 13 Nov 2025 14:09:44 -0800 (PST) X-Relaying-Domain: iol.unh.edu Date: Thu, 13 Nov 2025 14:09:44 -0800 (PST) Message-ID: <69165728.050a0220.2edfdf.c7b0SMTPIN_ADDED_MISSING@mx.google.com> Received: from [172.21.0.2] (unknown [172.18.0.240]) by postal.iol.unh.edu (Postfix) with ESMTP id 26EAF604D420; Thu, 13 Nov 2025 17:09:44 -0500 (EST) Subject: |SUCCESS| pw158707-158710 [PATCH] [v2,4/4] test: vary size of packet From: dpdklab@iol.unh.edu To: Test Report Cc: dpdk-test-reports@iol.unh.edu In-Reply-To: <20251112181421.285119-5-stephen@networkplumber.org> References: <20251112181421.285119-5-stephen@networkplumber.org> Content-Type: text/plain X-BeenThere: test-report@dpdk.org X-Mailman-Version: 2.1.29 Precedence: list List-Id: automatic DPDK test reports List-Unsubscribe: , List-Archive: List-Post: List-Help: List-Subscribe: , Errors-To: test-report-bounces@dpdk.org Test-Label: iol-compile-amd64-testing Test-Status: SUCCESS http://dpdk.org/patch/158710 _Testing PASS_ Submitter: Stephen Hemminger Date: Wednesday, November 12 2025 18:12:50 DPDK git baseline: Repo:dpdk Branch: master CommitID:be0112878b4fc3a1b918370ed2fe615c52039d77 158707-158710 --> testing pass Upstream job id: Windows-Compile-DPDK-VS#7522 Test environment and result as below: +-------------------------------+--------------------+------------------+-------------------+ | Environment | dpdk_meson_compile | dpdk_compile_ovs | dpdk_msvc_compile | +===============================+====================+==================+===================+ | Ubuntu 20.04 | PASS | SKIPPED | SKIPPED | +-------------------------------+--------------------+------------------+-------------------+ | FreeBSD 14.2 | PASS | SKIPPED | SKIPPED | +-------------------------------+--------------------+------------------+-------------------+ | CentOS Stream 9 | PASS | SKIPPED | SKIPPED | +-------------------------------+--------------------+------------------+-------------------+ | Debian GNU/Linux 12 | PASS | SKIPPED | SKIPPED | +-------------------------------+--------------------+------------------+-------------------+ | CentOS Stream 10 | PASS | SKIPPED | SKIPPED | +-------------------------------+--------------------+------------------+-------------------+ | Fedora Linux 42 | PASS | PASS | SKIPPED | +-------------------------------+--------------------+------------------+-------------------+ | openSUSE Leap 15.6 | PASS | SKIPPED | SKIPPED | +-------------------------------+--------------------+------------------+-------------------+ | Red Hat Enterprise Linux 8.10 | PASS | SKIPPED | SKIPPED | +-------------------------------+--------------------+------------------+-------------------+ | Red Hat Enterprise Linux 9.5 | PASS | SKIPPED | SKIPPED | +-------------------------------+--------------------+------------------+-------------------+ | Ubuntu 22.04 | PASS | SKIPPED | SKIPPED | +-------------------------------+--------------------+------------------+-------------------+ | Ubuntu 24.04 | PASS | PASS | SKIPPED | +-------------------------------+--------------------+------------------+-------------------+ | Alpine Linux 3.22.0 | PASS | SKIPPED | SKIPPED | +-------------------------------+--------------------+------------------+-------------------+ | Windows Server 2022 | SKIPPED | SKIPPED | PASS | +-------------------------------+--------------------+------------------+-------------------+ Ubuntu 20.04 Kernel: 4.19 Compiler: gcc gcc (Ubuntu 9.4.0-1ubuntu1~20.04.2) 9.4.0 FreeBSD 14.2 Kernel: 14.2-RELEASE Compiler: clang 18.1.6 CentOS Stream 9 Kernel: 5.15 Compiler: gcc gcc (GCC) 11.5.0 20240719 (Red Hat 11.5.0-11) Debian GNU/Linux 12 Kernel: 5.15 Compiler: gcc gcc (Debian 12.2.0-14+deb12u1) 12.2.0 CentOS Stream 10 Kernel: 5.15 Compiler: gcc gcc (GCC) 14.2.1 20250110 (Red Hat 14.2.1-8) Fedora Linux 42 Kernel: 5.15 Compiler: clang gcc (GCC) 15.2.1 20250808 (Red Hat 15.2.1-1) openSUSE Leap 15.6 Kernel: 5.15 Compiler: gcc gcc (SUSE Linux) 7.5.0 Red Hat Enterprise Linux 8.10 Kernel: 5.15 Compiler: gcc gcc (GCC) 8.5.0 20210514 (Red Hat 8.5.0-22) Red Hat Enterprise Linux 9.5 Kernel: 5.15 Compiler: gcc gcc (GCC) 11.5.0 20240719 (Red Hat 11.5.0-2) Ubuntu 22.04 Kernel: 5.15 Compiler: gcc gcc (Ubuntu 11.4.0-1ubuntu1~22.04) 11.4.0 Ubuntu 24.04 Kernel: 5.15 Compiler: gcc gcc (Ubuntu 13.3.0-6ubuntu2~24.04) 13.3.0 Alpine Linux 3.22.0 Kernel: 5.15 Compiler: gcc gcc (Alpine 14.2.0) 14.2.0 Windows Server 2022 Kernel: 10.0.20348.2031 Compiler: clang 15.0.7, gcc 14.1.0 (MinGW), and MSVC VS 19.39.33521 To view detailed results, visit: https://lab.dpdk.org/results/dashboard/patchsets/34559/ UNH-IOL DPDK Community Lab To manage your email subscriptions, visit: https://lab.dpdk.org/results/dashboard/preferences/subscriptions/