From mboxrd@z Thu Jan 1 00:00:00 1970 Return-Path: Received: from mails.dpdk.org (mails.dpdk.org [217.70.189.124]) by inbox.dpdk.org (Postfix) with ESMTP id ACBA648AFE for ; Thu, 13 Nov 2025 23:15:25 +0100 (CET) Received: from mails.dpdk.org (localhost [127.0.0.1]) by mails.dpdk.org (Postfix) with ESMTP id A7A7140151; Thu, 13 Nov 2025 23:15:25 +0100 (CET) Received: from mail-yx1-f99.google.com (mail-yx1-f99.google.com [74.125.224.99]) by mails.dpdk.org (Postfix) with ESMTP id A904F40151 for ; Thu, 13 Nov 2025 23:15:24 +0100 (CET) Received: by mail-yx1-f99.google.com with SMTP id 956f58d0204a3-640b4a05c1cso1723401d50.3 for ; Thu, 13 Nov 2025 14:15:24 -0800 (PST) DKIM-Signature: v=1; a=rsa-sha256; c=relaxed/relaxed; d=iol.unh.edu; s=unh-iol; t=1763072124; x=1763676924; darn=dpdk.org; h=references:in-reply-to:cc:to:from:subject:message-id:date:from:to :cc:subject:date:message-id:reply-to; bh=fB25/vgAlb1shHkk79TlpwsZW9DFsDljBi8Z2Vb1lx8=; b=FkKvKhmaS2oufaavY0WmbOv+qoOrSh/ijMFJM+tsYmeBrFL2bDa4+x+W2MM+pEsRWy PGmDoseSLpoIJeMGLPF6cNnIKxz2iZDYhESTIfWhV+bK/EAb2hZ5ywItG6TpSN4zd6fR tG4xfkcN5pBIADVDaV7lDDmP3EIzEXS9pG11Q= X-Google-DKIM-Signature: v=1; a=rsa-sha256; c=relaxed/relaxed; d=1e100.net; s=20230601; t=1763072124; x=1763676924; h=references:in-reply-to:cc:to:from:subject:message-id:date:x-gm-gg :x-gm-message-state:from:to:cc:subject:date:message-id:reply-to; bh=fB25/vgAlb1shHkk79TlpwsZW9DFsDljBi8Z2Vb1lx8=; b=XmwROWGuc0BxX3MqNX9pTF7aS9SHRAaTTxQVzL8otPM4kxfxLE6p4VC5GyMOXhRWYc TnnSVe6YDZdsVuVX5yVK+4/JRfxLROb/FH/wH8gdJPjhYrxWdCvRsVkwHzXNuINvaEGX uPOEbd08xZm8arMs1d6CphUiP9mnN7V/cxe9JWDbKDUt8AEOSFSAzEs5MRGylom5AnvB XA10Qthd9126wpEERvePvO/A9vCibFrVYkkxRmwdJLjOge9M5qPsVWJNkooKk9FsMldd n4I7x0klL1m/8IAJlK7KanvWxxkQf3WfqopFa+68RoCvjbKjgU93z3x381Hy7FyUM8gB FLoQ== X-Gm-Message-State: AOJu0YyZ5e7mHoQd1kngQ1GJ7bKLnaolxB525m1gYtBh5OnNlg5lbB+F mOGClUA4+z3n21rmPGeXyAafEcGxc7s9f+OhwK7tsW2BRnsn1DOmiMTTHh0AsUsOhdvEWp9qPBq qppCpK8prt1Yc+zcBHYFHfY8SvNATfZB2wd5h1FZ72wko X-Gm-Gg: ASbGncse9iXNZRX/1MOPPKPxZCbuV5HXMoiQ5Qx9+i4HhIDfyv5w3DGFeiwJKgv+Vcq m97gWUmi96VbmfhgfYjpo2pZ5HbKU35qVpUtlZK7bw6uausYTiGvZWiTSZXHO86hMh+tWBp/h0o Uv3QWwwEac+n5tYa2u3I8fWaRJ4brGo/jPJkX5iQmpqcQXnYEv24LG7QaCfLMCQ8mallBV47JfV TWWRi0oDE91Qk4wVO3ZLWbcMUuCTNx6aoRbslUHj/NLPKbrbr7Lj9lDqjb37ahr/d84HJNivA+O oLYejZ8uzRfgjrBfpaQOd2BnAnFy1kZF1Ir93Kg9bD2jKXBe6hXaHzhSYSv9WY+rDQRjMc6XehR 4wlNl+pAleX4Zgbd/wS4B0u8t5+K0o8o= X-Google-Smtp-Source: AGHT+IFjDpiMJVdp4ySf2sUnrKwUXYWj9uOWy7lm//7vym/v8su8B6vEQJIN3IIbjCC8v2JNZRH77LcW3GcD X-Received: by 2002:a05:690e:2412:b0:63e:1df9:c895 with SMTP id 956f58d0204a3-641e76ae932mr853489d50.66.1763072123877; Thu, 13 Nov 2025 14:15:23 -0800 (PST) Received: from postal.iol.unh.edu (postal.iol.unh.edu. [132.177.123.84]) by smtp-relay.gmail.com with ESMTPS id 956f58d0204a3-6410ea164b5sm255378d50.8.2025.11.13.14.15.23 (version=TLS1_2 cipher=ECDHE-ECDSA-AES128-GCM-SHA256 bits=128/128); Thu, 13 Nov 2025 14:15:23 -0800 (PST) X-Relaying-Domain: iol.unh.edu Date: Thu, 13 Nov 2025 14:15:23 -0800 (PST) Message-ID: <6916587b.050a0220.29ce9.c426SMTPIN_ADDED_MISSING@mx.google.com> Received: from [172.21.0.3] (unknown [172.18.0.240]) by postal.iol.unh.edu (Postfix) with ESMTP id 975B3604D420; Thu, 13 Nov 2025 17:15:23 -0500 (EST) Subject: |SUCCESS| pw158673-158675 [PATCH] [v5,3/3] ring: establish a safe pa From: dpdklab@iol.unh.edu To: Test Report Cc: dpdk-test-reports@iol.unh.edu In-Reply-To: <20251111183720.833295-3-wathsala.vithanage@arm.com> References: <20251111183720.833295-3-wathsala.vithanage@arm.com> Content-Type: text/plain X-BeenThere: test-report@dpdk.org X-Mailman-Version: 2.1.29 Precedence: list List-Id: automatic DPDK test reports List-Unsubscribe: , List-Archive: List-Post: List-Help: List-Subscribe: , Errors-To: test-report-bounces@dpdk.org Test-Label: iol-compile-amd64-testing Test-Status: SUCCESS http://dpdk.org/patch/158675 _Testing PASS_ Submitter: Wathsala Vithanage Date: Tuesday, November 11 2025 18:37:19 DPDK git baseline: Repo:dpdk Branch: master CommitID:2f8d3fda56754b13a09098fac1140d781366672f 158673-158675 --> testing pass Upstream job id: Windows-Compile-DPDK-Native#32300 Test environment and result as below: +-------------------------------+--------------------+------------------+-------------------+-------------------------+ | Environment | dpdk_meson_compile | dpdk_compile_ovs | dpdk_msvc_compile | dpdk_llvm_clang_compile | +===============================+====================+==================+===================+=========================+ | CentOS Stream 9 | PASS | SKIPPED | SKIPPED | SKIPPED | +-------------------------------+--------------------+------------------+-------------------+-------------------------+ | openSUSE Leap 15.6 | PASS | SKIPPED | SKIPPED | SKIPPED | +-------------------------------+--------------------+------------------+-------------------+-------------------------+ | Fedora Linux 42 | PASS | PASS | SKIPPED | SKIPPED | +-------------------------------+--------------------+------------------+-------------------+-------------------------+ | Ubuntu 22.04 | PASS | SKIPPED | SKIPPED | SKIPPED | +-------------------------------+--------------------+------------------+-------------------+-------------------------+ | Debian GNU/Linux 12 | PASS | SKIPPED | SKIPPED | SKIPPED | +-------------------------------+--------------------+------------------+-------------------+-------------------------+ | CentOS Stream 10 | PASS | SKIPPED | SKIPPED | SKIPPED | +-------------------------------+--------------------+------------------+-------------------+-------------------------+ | Ubuntu 20.04 | PASS | SKIPPED | SKIPPED | SKIPPED | +-------------------------------+--------------------+------------------+-------------------+-------------------------+ | Red Hat Enterprise Linux 8.10 | PASS | SKIPPED | SKIPPED | SKIPPED | +-------------------------------+--------------------+------------------+-------------------+-------------------------+ | Ubuntu 24.04 | PASS | PASS | SKIPPED | SKIPPED | +-------------------------------+--------------------+------------------+-------------------+-------------------------+ | Red Hat Enterprise Linux 9.5 | PASS | SKIPPED | SKIPPED | SKIPPED | +-------------------------------+--------------------+------------------+-------------------+-------------------------+ | Alpine Linux 3.22.0 | PASS | SKIPPED | SKIPPED | SKIPPED | +-------------------------------+--------------------+------------------+-------------------+-------------------------+ | FreeBSD 14.2 | PASS | SKIPPED | SKIPPED | SKIPPED | +-------------------------------+--------------------+------------------+-------------------+-------------------------+ | Windows Server 2022 | SKIPPED | SKIPPED | PASS | PASS | +-------------------------------+--------------------+------------------+-------------------+-------------------------+ CentOS Stream 9 Kernel: 5.15 Compiler: gcc gcc (GCC) 11.5.0 20240719 (Red Hat 11.5.0-11) openSUSE Leap 15.6 Kernel: 5.15 Compiler: gcc gcc (SUSE Linux) 7.5.0 Fedora Linux 42 Kernel: 5.15 Compiler: clang gcc (GCC) 15.2.1 20250808 (Red Hat 15.2.1-1) Ubuntu 22.04 Kernel: 5.15 Compiler: gcc gcc (Ubuntu 11.4.0-1ubuntu1~22.04) 11.4.0 Debian GNU/Linux 12 Kernel: 5.15 Compiler: gcc gcc (Debian 12.2.0-14+deb12u1) 12.2.0 CentOS Stream 10 Kernel: 5.15 Compiler: gcc gcc (GCC) 14.2.1 20250110 (Red Hat 14.2.1-8) Ubuntu 20.04 Kernel: 5.15 Compiler: gcc gcc (Ubuntu 9.4.0-1ubuntu1~20.04.2) 9.4.0 Red Hat Enterprise Linux 8.10 Kernel: 5.15 Compiler: gcc gcc (GCC) 8.5.0 20210514 (Red Hat 8.5.0-22) Ubuntu 24.04 Kernel: 5.15 Compiler: gcc gcc (Ubuntu 13.3.0-6ubuntu2~24.04) 13.3.0 Red Hat Enterprise Linux 9.5 Kernel: 5.15 Compiler: gcc gcc (GCC) 11.5.0 20240719 (Red Hat 11.5.0-2) Alpine Linux 3.22.0 Kernel: 5.15 Compiler: gcc gcc (Alpine 14.2.0) 14.2.0 FreeBSD 14.2 Kernel: 14.2-RELEASE Compiler: clang 18.1.6 Windows Server 2022 Kernel: 10.0.20348.2031 Compiler: clang 15.0.7, gcc 14.1.0 (MinGW), and MSVC VS 19.39.33521 To view detailed results, visit: https://lab.dpdk.org/results/dashboard/patchsets/34539/ UNH-IOL DPDK Community Lab To manage your email subscriptions, visit: https://lab.dpdk.org/results/dashboard/preferences/subscriptions/