From mboxrd@z Thu Jan 1 00:00:00 1970 Return-Path: Received: from mails.dpdk.org (mails.dpdk.org [217.70.189.124]) by inbox.dpdk.org (Postfix) with ESMTP id CFCA948AFE for ; Thu, 13 Nov 2025 23:25:09 +0100 (CET) Received: from mails.dpdk.org (localhost [127.0.0.1]) by mails.dpdk.org (Postfix) with ESMTP id CC0F340151; Thu, 13 Nov 2025 23:25:09 +0100 (CET) Received: from mail-il1-f228.google.com (mail-il1-f228.google.com [209.85.166.228]) by mails.dpdk.org (Postfix) with ESMTP id 6344640151 for ; Thu, 13 Nov 2025 23:25:08 +0100 (CET) Received: by mail-il1-f228.google.com with SMTP id e9e14a558f8ab-433261f2045so5611355ab.3 for ; Thu, 13 Nov 2025 14:25:08 -0800 (PST) DKIM-Signature: v=1; a=rsa-sha256; c=relaxed/relaxed; d=iol.unh.edu; s=unh-iol; t=1763072707; x=1763677507; darn=dpdk.org; h=references:in-reply-to:cc:to:from:subject:message-id:date:from:to :cc:subject:date:message-id:reply-to; bh=wwXs07a10SJi8MwYZp3XLyGXd/ncR64GVKtPaQwA1zI=; b=TT4u/NvJ3Flyk5TKmd5uW8Myk7g1wTPh6uGZfHzJiJr0vQsJchgGT32wtlJgsiRBwr ThMsrD+yC51cNO/l+s0NSQWfLwYAdDa0BXZyxwhzefCwn93KJ6J+J5Xd6Xmrq6C/9jgV 4Us0m4Enfwsj3FY863JIgvsVsKfcCBVzBbyAI= X-Google-DKIM-Signature: v=1; a=rsa-sha256; c=relaxed/relaxed; d=1e100.net; s=20230601; t=1763072707; x=1763677507; h=references:in-reply-to:cc:to:from:subject:message-id:date:x-gm-gg :x-gm-message-state:from:to:cc:subject:date:message-id:reply-to; bh=wwXs07a10SJi8MwYZp3XLyGXd/ncR64GVKtPaQwA1zI=; b=aqihSh4t+3AixbIy6TOT+UONwtEbycCPk+2tLUm6repjK3VanqjkpENvKqc9b7/kna nNzIsTzTsBsm5dg6odu+HXY3vxlbJsV+ORRUygPq8SEa/ud/MhWSBFf0EW/VCjQzqhd+ FSdEoRr2FGQezWX1VOaAL5w9Xl0IJ5MiFgCovAgs+Aume+dYDgBOQQg5P+8uUExLgh0T R2vDxdSwI4tJT7FG8B1TZtihmlNUTdQuIQ3UNQlXPxFJODC0Lfe4DaccQASn0pSc1J5W iMRp5KV2YSAa2UCqlc9HTpU6e34wE+KTBCqbXeoU84KFK1fA09QeHAx/v61wOg8EpFc5 P5UA== X-Gm-Message-State: AOJu0YyHVt4pcefOjONJ/Hz74ZOUL13B4FG306CgbR+S4s/WxG9Ep3dH r6m7MpDy7NJouKyKZbmxL5OShHlEik55MYU3wdkGUGuBKPqMzAOrY/yPgeAfExMeMIwmvXNSe8t 66YgUSRrZMK3ctzRwUiNtJllD4gJx9WxqdBwlidc3/WII X-Gm-Gg: ASbGncvMTGuiIRN2UhyC0JEwnzvPhFm8eItxahkELy4sOqEJkVdjzM7TtLWabBBW4jf L9L9zFdokgwRcpjJ7PJpalgSuWViZxsmng2m3dntRZFR18AOQ6I5Nr8QpRbeKWFO6gSHPcEfnl6 QeLfhhcQbOeFr4u6SsfHURa8H+kIctygk86fpo/88HMc2DCv4GPYwFsdyeSb7qhrMQNP1ew61a9 0C4V9CCdDGDHr1beaFmUw5uWzaAbWdpfi9eSa7GKBwafakLg/K0DDgZDS5ZCkkz0gYNWGEB5VZM YtqHNQ4jyZejj9ZIF4YKmAKwe3pSfDp/9OcQT3f/StzcPXynnK5IAMNdUAL4vLm72nwppLgnOwn DmRbTDzgfbRRR+NSWTUUo47Fo7zmFS3A= X-Google-Smtp-Source: AGHT+IG8yGa0hQLtgmM2tiHxYnw4sTcE7sL7bVnjC0PXgH3Kej97UIDpc2Jr3OGPw+Jy3UvVvechrB6kEALb X-Received: by 2002:a05:6e02:156a:b0:433:6c44:a9e4 with SMTP id e9e14a558f8ab-4348c93ceaemr16449135ab.29.1763072707700; Thu, 13 Nov 2025 14:25:07 -0800 (PST) Received: from postal.iol.unh.edu (postal.iol.unh.edu. [132.177.123.84]) by smtp-relay.gmail.com with ESMTPS id e9e14a558f8ab-434839d7a52sm2566405ab.28.2025.11.13.14.25.07 (version=TLS1_2 cipher=ECDHE-ECDSA-AES128-GCM-SHA256 bits=128/128); Thu, 13 Nov 2025 14:25:07 -0800 (PST) X-Relaying-Domain: iol.unh.edu Date: Thu, 13 Nov 2025 14:25:07 -0800 (PST) Message-ID: <69165ac3.050a0220.9f4b.c88dSMTPIN_ADDED_MISSING@mx.google.com> Received: from [172.21.0.2] (unknown [172.18.0.240]) by postal.iol.unh.edu (Postfix) with ESMTP id 452BD6051830; Thu, 13 Nov 2025 17:25:07 -0500 (EST) Subject: |SUCCESS| pw158547 [PATCH] telemetry: make socket handler typedef pr From: dpdklab@iol.unh.edu To: Test Report Cc: dpdk-test-reports@iol.unh.edu In-Reply-To: <20251107093259.3305537-1-bruce.richardson@intel.com> References: <20251107093259.3305537-1-bruce.richardson@intel.com> Content-Type: text/plain X-BeenThere: test-report@dpdk.org X-Mailman-Version: 2.1.29 Precedence: list List-Id: automatic DPDK test reports List-Unsubscribe: , List-Archive: List-Post: List-Help: List-Subscribe: , Errors-To: test-report-bounces@dpdk.org Test-Label: iol-unit-amd64-testing Test-Status: SUCCESS http://dpdk.org/patch/158547 _Testing PASS_ Submitter: Bruce Richardson Date: Friday, November 07 2025 09:32:59 DPDK git baseline: Repo:dpdk Branch: master CommitID:be0112878b4fc3a1b918370ed2fe615c52039d77 158547 --> testing pass Upstream job id: Generic-VM-Unit-Test-DPDK#32499 Test environment and result as below: +-------------------------------+----------------+ | Environment | dpdk_unit_test | +===============================+================+ | CentOS Stream 10 | PASS | +-------------------------------+----------------+ | Debian GNU/Linux 12 | PASS | +-------------------------------+----------------+ | Fedora Linux 40 | PASS | +-------------------------------+----------------+ | Fedora Linux 42 | PASS | +-------------------------------+----------------+ | CentOS Stream 9 | PASS | +-------------------------------+----------------+ | Fedora Linux 41 | PASS | +-------------------------------+----------------+ | Red Hat Enterprise Linux 8.10 | PASS | +-------------------------------+----------------+ | Ubuntu 22.04 | PASS | +-------------------------------+----------------+ | Red Hat Enterprise Linux 9.5 | PASS | +-------------------------------+----------------+ | Ubuntu 20.04 | PASS | +-------------------------------+----------------+ | Ubuntu 24.04 | PASS | +-------------------------------+----------------+ | Windows Server 2022 | PASS | +-------------------------------+----------------+ CentOS Stream 10 Kernel: 5.15 Compiler: gcc gcc (GCC) 14.2.1 20250110 (Red Hat 14.2.1-8) Debian GNU/Linux 12 Kernel: 5.15 Compiler: gcc gcc (Debian 12.2.0-14+deb12u1) 12.2.0 Fedora Linux 40 Kernel: 5.15 Compiler: gcc gcc (GCC) 14.2.1 20240912 (Red Hat 14.2.1-3) Fedora Linux 42 Kernel: 5.15 Compiler: gcc gcc (GCC) 15.2.1 20250808 (Red Hat 15.2.1-1) CentOS Stream 9 Kernel: 5.15 Compiler: gcc gcc (GCC) 11.5.0 20240719 (Red Hat 11.5.0-11) Fedora Linux 41 Kernel: 5.15 Compiler: gcc gcc (GCC) 14.3.1 20250523 (Red Hat 14.3.1-1) Red Hat Enterprise Linux 8.10 Kernel: 5.15 Compiler: gcc gcc (GCC) 8.5.0 20210514 (Red Hat 8.5.0-22) Ubuntu 22.04 Kernel: 5.15 Compiler: gcc gcc (Ubuntu 11.4.0-1ubuntu1~22.04) 11.4.0 Red Hat Enterprise Linux 9.5 Kernel: 5.15 Compiler: gcc gcc (GCC) 11.5.0 20240719 (Red Hat 11.5.0-2) Ubuntu 20.04 Kernel: 5.15 Compiler: gcc gcc (Ubuntu 9.4.0-1ubuntu1~20.04.2) 9.4.0 Ubuntu 24.04 Kernel: 5.15 Compiler: gcc gcc (Ubuntu 13.3.0-6ubuntu2~24.04) 13.3.0 Windows Server 2022 Kernel: 10.0.20348.2031 Compiler: clang 15.0.7, gcc 14.1.0 (MinGW), and MSVC VS 19.39.33521 To view detailed results, visit: https://lab.dpdk.org/results/dashboard/patchsets/34555/ UNH-IOL DPDK Community Lab To manage your email subscriptions, visit: https://lab.dpdk.org/results/dashboard/preferences/subscriptions/