From mboxrd@z Thu Jan 1 00:00:00 1970 Return-Path: Received: from mails.dpdk.org (mails.dpdk.org [217.70.189.124]) by inbox.dpdk.org (Postfix) with ESMTP id 1F71B48AFE for ; Thu, 13 Nov 2025 23:36:50 +0100 (CET) Received: from mails.dpdk.org (localhost [127.0.0.1]) by mails.dpdk.org (Postfix) with ESMTP id 1A5C940151; Thu, 13 Nov 2025 23:36:50 +0100 (CET) Received: from mail-qv1-f100.google.com (mail-qv1-f100.google.com [209.85.219.100]) by mails.dpdk.org (Postfix) with ESMTP id 9B9E240151 for ; Thu, 13 Nov 2025 23:36:48 +0100 (CET) Received: by mail-qv1-f100.google.com with SMTP id 6a1803df08f44-8824888ce97so18254056d6.2 for ; Thu, 13 Nov 2025 14:36:48 -0800 (PST) DKIM-Signature: v=1; a=rsa-sha256; c=relaxed/relaxed; d=iol.unh.edu; s=unh-iol; t=1763073408; x=1763678208; darn=dpdk.org; h=references:in-reply-to:cc:to:from:subject:message-id:date:from:to :cc:subject:date:message-id:reply-to; bh=wFU7VSIvEn/1xV+3n6kzEAjRFSVJSkO4kI8oudUNNTo=; b=Ktdehq0F+bOhGKnfsCEksOTuAyd5es9Q8bEPr1YoKvVcl03P7PMrmJGHFSY1nhdGhQ TnSg1yMopdFqj0YOH7QxBFdriJpnWXOWMWpGIVsJzYU1pB0Q+4LgxetjyS+O4fUi300F cIWcakYETg+jTC4F8dDJnPDBZiUeTcV+ddQUM= X-Google-DKIM-Signature: v=1; a=rsa-sha256; c=relaxed/relaxed; d=1e100.net; s=20230601; t=1763073408; x=1763678208; h=references:in-reply-to:cc:to:from:subject:message-id:date:x-gm-gg :x-gm-message-state:from:to:cc:subject:date:message-id:reply-to; bh=wFU7VSIvEn/1xV+3n6kzEAjRFSVJSkO4kI8oudUNNTo=; b=rO0mAFPnRTVileV5GmalGbF8VLoX328wwkkjX+/GX+N6r2sFV9zylt76Ht0wj/L+gF 1yc6EYdsXy4uNN0LuBTK1ZLiwsG+BEj3fI7xrgOna1wPBTkP3yWWYCUueFu6tRQdz/AX eAZFQXzkVudw+Ch0ug2HAiQw+EOjHDFdLRNxIUJ9fFQgEwkCMfcg0OtBcdAdIxYWzMYE Esd8L9EWlWUsk0qQ5vAnXx4MImogOjkPxs1JtDl9swGrvq6lTjmYsz3MQkZ0x4TJNj1j sJvYxhIqaDGMtGOAUE5ksn6SDuR3MYP7AKXe9hZ2A8Z7wwX3zaaR8ebk9VNcMN1Q/xcR 2RYQ== X-Gm-Message-State: AOJu0YyFgAB+xF+Iu7XBIo3W+DC0wflyQhffFvNG2bjgx4dAZtJzrKRv qUINprqOS3beiTZXo4zeS+ZQOW5XLTAkADd1Pt1bm7IxW9ivdDv4aHRKnWV9iZIrN2TaDs0f3Jp +REbr5irycdyDLE/mPpqxdA58435WFcplAAT/mqAwpe4s X-Gm-Gg: ASbGncu15zG8ZDB21KpjsPmfm+1mmVPAdHgal/c1jHXk/cPyk2+p5O46W87VBrpnn01 7wYXr6ZNkCrn9KRcAhxN/EjHu5KXUe0Jt4E4o4lq1vOkthA3RxpG3pDiceeJjcX/o10C+mbQ+hv YKIyc4n/pTMev91EgucyfWQDRGHkzQ7hpuCu2zGHsEUgFi9nxlt+2sHTNqlUJcobuSfuJJWd+Z/ 1uG1Lo3yJFo34FhJD1Aui/D6rU9+29fJuQf12LU2hDYjZbZ5u5q1vLrTo3w4IsMuX7+aGlz2Q0a v4spWybZ8oSDuFo3SzDjkrWx+nQfgO1chgTd0WTeLF1KvdHJk7v2fs+iU54ooW59St0GKrBFQwk W6RsBDS2Ah8pHDDVHVAtDevAL/q+X8fQ= X-Google-Smtp-Source: AGHT+IHRXT5cFVcrdXo2FfJqR4nO1g0jQGy+XBWZ9ofOomRojLIq9BD9+XhYF43VbnvwZzTbnDCQUOpvb+d3 X-Received: by 2002:a05:6214:f03:b0:877:81d2:4c27 with SMTP id 6a1803df08f44-88292730b33mr14660986d6.57.1763073408027; Thu, 13 Nov 2025 14:36:48 -0800 (PST) Received: from postal.iol.unh.edu (postal.iol.unh.edu. [132.177.123.84]) by smtp-relay.gmail.com with ESMTPS id 6a1803df08f44-8828635ea69sm3580996d6.15.2025.11.13.14.36.47 (version=TLS1_2 cipher=ECDHE-ECDSA-AES128-GCM-SHA256 bits=128/128); Thu, 13 Nov 2025 14:36:48 -0800 (PST) X-Relaying-Domain: iol.unh.edu Date: Thu, 13 Nov 2025 14:36:48 -0800 (PST) Message-ID: <69165d80.050a0220.cf65a.08faSMTPIN_ADDED_MISSING@mx.google.com> Received: from [172.21.0.2] (unknown [172.18.0.240]) by postal.iol.unh.edu (Postfix) with ESMTP id BCE3E6051830; Thu, 13 Nov 2025 17:36:47 -0500 (EST) Subject: |SUCCESS| pw158547 [PATCH] telemetry: make socket handler typedef pr From: dpdklab@iol.unh.edu To: Test Report Cc: dpdk-test-reports@iol.unh.edu In-Reply-To: <20251107093259.3305537-1-bruce.richardson@intel.com> References: <20251107093259.3305537-1-bruce.richardson@intel.com> Content-Type: text/plain X-BeenThere: test-report@dpdk.org X-Mailman-Version: 2.1.29 Precedence: list List-Id: automatic DPDK test reports List-Unsubscribe: , List-Archive: List-Post: List-Help: List-Subscribe: , Errors-To: test-report-bounces@dpdk.org Test-Label: iol-unit-amd64-testing Test-Status: SUCCESS http://dpdk.org/patch/158547 _Testing PASS_ Submitter: Bruce Richardson Date: Friday, November 07 2025 09:32:59 DPDK git baseline: Repo:dpdk Branch: master CommitID:be0112878b4fc3a1b918370ed2fe615c52039d77 158547 --> testing pass Upstream job id: Generic-VM-Unit-Test-DPDK#32500 Test environment and result as below: +-------------------------------+----------------+ | Environment | dpdk_unit_test | +===============================+================+ | CentOS Stream 10 | PASS | +-------------------------------+----------------+ | Debian GNU/Linux 12 | PASS | +-------------------------------+----------------+ | Fedora Linux 40 | PASS | +-------------------------------+----------------+ | Fedora Linux 42 | PASS | +-------------------------------+----------------+ | CentOS Stream 9 | PASS | +-------------------------------+----------------+ | Fedora Linux 41 | PASS | +-------------------------------+----------------+ | Red Hat Enterprise Linux 8.10 | PASS | +-------------------------------+----------------+ | Ubuntu 22.04 | PASS | +-------------------------------+----------------+ | Red Hat Enterprise Linux 9.5 | PASS | +-------------------------------+----------------+ | Ubuntu 20.04 | PASS | +-------------------------------+----------------+ | Ubuntu 24.04 | PASS | +-------------------------------+----------------+ | Windows Server 2022 | PASS | +-------------------------------+----------------+ CentOS Stream 10 Kernel: 5.15 Compiler: gcc gcc (GCC) 14.2.1 20250110 (Red Hat 14.2.1-8) Debian GNU/Linux 12 Kernel: 5.15 Compiler: gcc gcc (Debian 12.2.0-14+deb12u1) 12.2.0 Fedora Linux 40 Kernel: 5.15 Compiler: gcc gcc (GCC) 14.2.1 20240912 (Red Hat 14.2.1-3) Fedora Linux 42 Kernel: 5.15 Compiler: gcc gcc (GCC) 15.2.1 20250808 (Red Hat 15.2.1-1) CentOS Stream 9 Kernel: 5.15 Compiler: gcc gcc (GCC) 11.5.0 20240719 (Red Hat 11.5.0-11) Fedora Linux 41 Kernel: 5.15 Compiler: gcc gcc (GCC) 14.3.1 20250523 (Red Hat 14.3.1-1) Red Hat Enterprise Linux 8.10 Kernel: 5.15 Compiler: gcc gcc (GCC) 8.5.0 20210514 (Red Hat 8.5.0-22) Ubuntu 22.04 Kernel: 5.15 Compiler: gcc gcc (Ubuntu 11.4.0-1ubuntu1~22.04) 11.4.0 Red Hat Enterprise Linux 9.5 Kernel: 5.15 Compiler: gcc gcc (GCC) 11.5.0 20240719 (Red Hat 11.5.0-2) Ubuntu 20.04 Kernel: 5.15 Compiler: gcc gcc (Ubuntu 9.4.0-1ubuntu1~20.04.2) 9.4.0 Ubuntu 24.04 Kernel: 5.15 Compiler: gcc gcc (Ubuntu 13.3.0-6ubuntu2~24.04) 13.3.0 Windows Server 2022 Kernel: 10.0.20348.2031 Compiler: clang 15.0.7, gcc 14.1.0 (MinGW), and MSVC VS 19.39.33521 To view detailed results, visit: https://lab.dpdk.org/results/dashboard/patchsets/34555/ UNH-IOL DPDK Community Lab To manage your email subscriptions, visit: https://lab.dpdk.org/results/dashboard/preferences/subscriptions/