From mboxrd@z Thu Jan 1 00:00:00 1970 Return-Path: Received: from mails.dpdk.org (mails.dpdk.org [217.70.189.124]) by inbox.dpdk.org (Postfix) with ESMTP id 34E9E48AFE for ; Thu, 13 Nov 2025 23:37:25 +0100 (CET) Received: from mails.dpdk.org (localhost [127.0.0.1]) by mails.dpdk.org (Postfix) with ESMTP id 2ECF040151; Thu, 13 Nov 2025 23:37:25 +0100 (CET) Received: from mail-qv1-f97.google.com (mail-qv1-f97.google.com [209.85.219.97]) by mails.dpdk.org (Postfix) with ESMTP id 3982F40151 for ; Thu, 13 Nov 2025 23:37:23 +0100 (CET) Received: by mail-qv1-f97.google.com with SMTP id 6a1803df08f44-882379c0b14so11647866d6.1 for ; Thu, 13 Nov 2025 14:37:23 -0800 (PST) DKIM-Signature: v=1; a=rsa-sha256; c=relaxed/relaxed; d=iol.unh.edu; s=unh-iol; t=1763073442; x=1763678242; darn=dpdk.org; h=cc:to:from:subject:message-id:date:from:to:cc:subject:date :message-id:reply-to; bh=SPEGxQrGRa7Zl5MU/oAeic2FUZaWsheG1TkXA+RS8u4=; b=FVoDSFGhHpSlc0/RdzbQ2Bg69QpGGeEBcxeeN8yXshDn6oBAOt2GW88eXx2Vbclh7m cx0VlErzIhjOvlrCO4OmYSNmgiuEYNOjCqHpxbJcFUFOLsiXBXTeHnGtbMCg7IIS7GkE aUTGB9IuQpG7h7b2sm9dDalh6Pt+GosR/L/f8= X-Google-DKIM-Signature: v=1; a=rsa-sha256; c=relaxed/relaxed; d=1e100.net; s=20230601; t=1763073442; x=1763678242; h=cc:to:from:subject:message-id:date:x-gm-gg:x-gm-message-state:from :to:cc:subject:date:message-id:reply-to; bh=SPEGxQrGRa7Zl5MU/oAeic2FUZaWsheG1TkXA+RS8u4=; b=WhxaUSqsASFIdhAAsU3ZZKXKM/iqSSaLoy1Dz6sjE21O+0fpOk8OR/7VGCCN68If7h Fh4YfhIHQwH952T+/yKGhgDmY5FIfHCNkS9e15OFOm2EKnvnrT+FiLKXbYh+JrIVlIdg VOdqFyo1uZ4xwenMBuWKc0S7QRtGkHOZHR0zAVWOXJMg+4Bkcxn977WLmsLhlPqOI6sA wyVI/bZkslj4LaN5HdPHeGeW6ONcAn2lEqimt40Nhqw9pxkKk37mzYa3ozknwhLPjJuO nbKsx7hWWnTaoCrkEpQuK9uOsGCseIWa1EJUz9nQG0NHUgwHw1c+lng7kNdEBRrrCHox yNOw== X-Gm-Message-State: AOJu0YzN/6Giil3bCQ/wncIWwlZ7bnNZ0YPS5GmcJ5X3r4DOjh0AJhMU Wb7cqfJUlw++gbT3HewZ7uCt3cEF3V+wcQUgX6NfOQgMt6GqTM/sLQME5SqRMFnayln7rYYHxls La1+upjpm24k6XZgVMD7yumXo8HJMkdhfo96PomkeQlTaRi46OvrM X-Gm-Gg: ASbGncu4Pcjq1C9PR4dX53nYL9A7s0PHqgaQwqORLCvvlz2MBkWEWEnba95ZZ8G37oJ AwhHjK0cDH5h4H95f/BzOH5sS/kGuRt63uY+PHXuyFWu68SzO3sUjaYjHMMrVVY6Cu9EHdhoC/C 831VcGTVAVBqpovi1ciyUUblSBSDIeUoYf9fsNp43m2D1XCm+Yw1Fp2XXj7UX2q6UlSjL/OefsY BiKvJJk0IaMQ/SqG+gbqFamcR/LSwTzaxixXAyoU9JYVSxIqcIXP/dyaNdJqQ6QVHeTyWcWgV9f xYVB3ON25oyKVxV1HTOugxyzYw2LMGlzziUtGHJ/lu10IAJeCHYuvnJz049h0eN8I1whCYB/sLJ OipQMW1ct X-Google-Smtp-Source: AGHT+IEAg6d9ySfHCy7p9PkYXc4VGCVPxODdS6axpQIMsFaKrYczuvMRC/NnZqkU42bi0p5FK2cklZjr2eHI X-Received: by 2002:a05:6214:401a:b0:882:6d84:ec65 with SMTP id 6a1803df08f44-882926d41c5mr12127306d6.53.1763073442577; Thu, 13 Nov 2025 14:37:22 -0800 (PST) Received: from postal.iol.unh.edu (postal.iol.unh.edu. [2606:4100:3880:1234::84]) by smtp-relay.gmail.com with ESMTPS id 6a1803df08f44-882862f3d94sm3519416d6.8.2025.11.13.14.37.22 (version=TLS1_2 cipher=ECDHE-ECDSA-AES128-GCM-SHA256 bits=128/128); Thu, 13 Nov 2025 14:37:22 -0800 (PST) X-Relaying-Domain: iol.unh.edu Date: Thu, 13 Nov 2025 14:37:22 -0800 (PST) Message-ID: <69165da2.d40a0220.2da1aa.0424SMTPIN_ADDED_MISSING@mx.google.com> Received: from [172.21.0.2] (unknown [172.18.0.240]) by postal.iol.unh.edu (Postfix) with ESMTP id 4963D6051830; Thu, 13 Nov 2025 17:37:22 -0500 (EST) Subject: |SUCCESS| [GIT MASTER] 0bd935abcb823f581ce53986986aa54eaf6f8140 From: dpdklab@iol.unh.edu To: Test Report Cc: dpdk-test-reports@iol.unh.edu, Xueming Li , Christian Ehrhardt , Kevin Traynor , Luca Boccassi Content-Type: text/plain X-BeenThere: test-report@dpdk.org X-Mailman-Version: 2.1.29 Precedence: list List-Id: automatic DPDK test reports List-Unsubscribe: , List-Archive: List-Post: List-Help: List-Subscribe: , Errors-To: test-report-bounces@dpdk.org _Testing PASS_ Branch: tags/v24.11 0bd935abcb823f581ce53986986aa54eaf6f8140 --> testing pass Upstream job id: Windows-Compile-DPDK-VS#7524 Test environment and result as below: +-------------------------------+--------------------+------------------+-------------------+ | Environment | dpdk_meson_compile | dpdk_compile_ovs | dpdk_msvc_compile | +===============================+====================+==================+===================+ | FreeBSD 14.2 | PASS | SKIPPED | SKIPPED | +-------------------------------+--------------------+------------------+-------------------+ | Ubuntu 20.04 | PASS | SKIPPED | SKIPPED | +-------------------------------+--------------------+------------------+-------------------+ | CentOS Stream 9 | PASS | SKIPPED | SKIPPED | +-------------------------------+--------------------+------------------+-------------------+ | CentOS Stream 10 | PASS | SKIPPED | SKIPPED | +-------------------------------+--------------------+------------------+-------------------+ | Debian GNU/Linux 12 | PASS | SKIPPED | SKIPPED | +-------------------------------+--------------------+------------------+-------------------+ | Fedora Linux 42 | PASS | PASS | SKIPPED | +-------------------------------+--------------------+------------------+-------------------+ | openSUSE Leap 15.6 | PASS | SKIPPED | SKIPPED | +-------------------------------+--------------------+------------------+-------------------+ | Red Hat Enterprise Linux 8.10 | PASS | SKIPPED | SKIPPED | +-------------------------------+--------------------+------------------+-------------------+ | Red Hat Enterprise Linux 9.5 | PASS | SKIPPED | SKIPPED | +-------------------------------+--------------------+------------------+-------------------+ | Ubuntu 22.04 | PASS | SKIPPED | SKIPPED | +-------------------------------+--------------------+------------------+-------------------+ | Ubuntu 24.04 | PASS | PASS | SKIPPED | +-------------------------------+--------------------+------------------+-------------------+ | Alpine Linux 3.22.0 | PASS | SKIPPED | SKIPPED | +-------------------------------+--------------------+------------------+-------------------+ | Windows Server 2022 | SKIPPED | SKIPPED | PASS | +-------------------------------+--------------------+------------------+-------------------+ FreeBSD 14.2 Kernel: 14.2-RELEASE Compiler: clang 18.1.6 Ubuntu 20.04 Kernel: 4.19 Compiler: gcc gcc (Ubuntu 9.4.0-1ubuntu1~20.04.2) 9.4.0 CentOS Stream 9 Kernel: 5.15 Compiler: gcc gcc (GCC) 11.5.0 20240719 (Red Hat 11.5.0-11) CentOS Stream 10 Kernel: 5.15 Compiler: gcc gcc (GCC) 14.2.1 20250110 (Red Hat 14.2.1-8) Debian GNU/Linux 12 Kernel: 5.15 Compiler: gcc gcc (Debian 12.2.0-14+deb12u1) 12.2.0 Fedora Linux 42 Kernel: 5.15 Compiler: clang gcc (GCC) 15.2.1 20250808 (Red Hat 15.2.1-1) openSUSE Leap 15.6 Kernel: 5.15 Compiler: gcc gcc (SUSE Linux) 7.5.0 Red Hat Enterprise Linux 8.10 Kernel: 5.15 Compiler: gcc gcc (GCC) 8.5.0 20210514 (Red Hat 8.5.0-22) Red Hat Enterprise Linux 9.5 Kernel: 5.15 Compiler: gcc gcc (GCC) 11.5.0 20240719 (Red Hat 11.5.0-2) Ubuntu 22.04 Kernel: 5.15 Compiler: gcc gcc (Ubuntu 11.4.0-1ubuntu1~22.04) 11.4.0 Ubuntu 24.04 Kernel: 5.15 Compiler: gcc gcc (Ubuntu 13.3.0-6ubuntu2~24.04) 13.3.0 Alpine Linux 3.22.0 Kernel: 5.15 Compiler: gcc gcc (Alpine 14.2.0) 14.2.0 Windows Server 2022 Kernel: 10.0.20348.2031 Compiler: clang 15.0.7, gcc 14.1.0 (MinGW), and MSVC VS 19.39.33521 To view detailed results, visit: https://lab.dpdk.org/results/dashboard/tarballs/35565/ UNH-IOL DPDK Community Lab To manage your email subscriptions, visit: https://lab.dpdk.org/results/dashboard/preferences/subscriptions/