From mboxrd@z Thu Jan 1 00:00:00 1970 Return-Path: Received: from mails.dpdk.org (mails.dpdk.org [217.70.189.124]) by inbox.dpdk.org (Postfix) with ESMTP id AD20248AFE for ; Thu, 13 Nov 2025 23:48:20 +0100 (CET) Received: from mails.dpdk.org (localhost [127.0.0.1]) by mails.dpdk.org (Postfix) with ESMTP id A7BE540151; Thu, 13 Nov 2025 23:48:20 +0100 (CET) Received: from mail-il1-f225.google.com (mail-il1-f225.google.com [209.85.166.225]) by mails.dpdk.org (Postfix) with ESMTP id 9700940151 for ; Thu, 13 Nov 2025 23:48:19 +0100 (CET) Received: by mail-il1-f225.google.com with SMTP id e9e14a558f8ab-433217b58d9so6094985ab.1 for ; Thu, 13 Nov 2025 14:48:19 -0800 (PST) DKIM-Signature: v=1; a=rsa-sha256; c=relaxed/relaxed; d=iol.unh.edu; s=unh-iol; t=1763074099; x=1763678899; darn=dpdk.org; h=references:in-reply-to:cc:to:from:subject:message-id:date:from:to :cc:subject:date:message-id:reply-to; bh=NO51F9J/I8AQ3NA0dP1CUGQMknbz5XlDquEUB5N+s5M=; b=LyUHkV7SKym3ClWWuWKoOBGKPwK1CcJS0jj9vnVvzebP04VrU6ZUuXy6oGYVbFrkxe LdluD/UzPWD1NpkwklF8bK3i3JS3p5GkPgDE/HzUWalyXFWhMIU4xUE1HZaYAP2xvks+ ddbC+V2pjjvC8Gmjl8Utp8Qrhxg/fOByIQQX0= X-Google-DKIM-Signature: v=1; a=rsa-sha256; c=relaxed/relaxed; d=1e100.net; s=20230601; t=1763074099; x=1763678899; h=references:in-reply-to:cc:to:from:subject:message-id:date:x-gm-gg :x-gm-message-state:from:to:cc:subject:date:message-id:reply-to; bh=NO51F9J/I8AQ3NA0dP1CUGQMknbz5XlDquEUB5N+s5M=; b=aaMllD6zpaHIW0jeFfwK/dsSnqmpgMjPv6pJtpdYoGqyuCCjppmbXFXnXYKnI8VG0q ikce16d/u/gngWnG9oxc4c6j+PKK3cm+EKL1CwVWKLUdKSdoii5CfvZXR1+ZiMDzpFhq 20v1YJy22jpiiFUKjSwUKN6hsa5pAAprws3MpiKJ8NCYeqMg/2r1To18yWeLaqgwtN3+ rb+4KXsN0tOSMQ/AKqgKDmpSagN+zBHDArSb+XuDCUpNHXNEVV2CB3dF+StX2JsJzdBm c2HLndLWGPHQ3/hgRQoQi94cBiwRlmJGqRTeJsrRWAjS9zZhQ1vbrzTfapsy20rCTlFl Wm6Q== X-Gm-Message-State: AOJu0YzNk/qO4j+xN8REI/GRW16oA5dr0sRm58s/LSdPIDeVFXdsn27X CngUp3Oi9nMZ+4ArrF/UlnXDBTGevFZ0SrDHPKB/O/2e18Vk2SAmofIj1a1+WrV9ap6dbhDFBXk Ouj0fx4MwNcQC1H0vJpX72CUvubdtDj7UlOXYw6VddUcD X-Gm-Gg: ASbGncsJ7oszczDBqEdA0pWFdNT3FUEPs6dm/ekNr4sz118V8hzBJ56jXk61SwWnmEQ vBDZgkQM/jn0CMIGdzt+hDhgQpJ7yCYZVpip1hH90SI+BWxlou2Ma7ravYiDZ4PE+ntm+vzBwf1 qvtOZ+LdlTpRj1axJs8jXiUwhgFqXMFmyAd/XjFZhXQULcEaW83B5Qw6geV8anLgCxBi0NR1pCA 0HSOudnwTGrLkjVsC1/1zy5ry2GN0Jp41X838s4JSufenBt4PUm+mlp1GYCqzHn8wKDya5cu75H mtuHkpAABwoEXqpz6NIH+cQww/ry9VSzSGcBK7IzUiF1/99KoIJmCLl0925crp/9LkZHajCMTyY B/9RX2rdWJCjPMYW35YWGuAjHmi1LDpU= X-Google-Smtp-Source: AGHT+IGTWhjeaNQWuYpV0mmuxO3LXdLb+QKF2xrqeVoRz/Z0gGkw0vxCCppXQ36OK62wkXJx8iTjf0soNxpv X-Received: by 2002:a05:6e02:16c7:b0:433:2da7:8a44 with SMTP id e9e14a558f8ab-4348c91a438mr15954925ab.20.1763074098880; Thu, 13 Nov 2025 14:48:18 -0800 (PST) Received: from postal.iol.unh.edu (postal.iol.unh.edu. [132.177.123.84]) by smtp-relay.gmail.com with ESMTPS id e9e14a558f8ab-434839b0404sm2581125ab.23.2025.11.13.14.48.18 (version=TLS1_2 cipher=ECDHE-ECDSA-AES128-GCM-SHA256 bits=128/128); Thu, 13 Nov 2025 14:48:18 -0800 (PST) X-Relaying-Domain: iol.unh.edu Date: Thu, 13 Nov 2025 14:48:18 -0800 (PST) Message-ID: <69166032.050a0220.eeecf.bcddSMTPIN_ADDED_MISSING@mx.google.com> Received: from [172.21.0.2] (unknown [172.18.0.240]) by postal.iol.unh.edu (Postfix) with ESMTP id 684EE6050A61; Thu, 13 Nov 2025 17:48:18 -0500 (EST) Subject: |SUCCESS| pw158676 [PATCH] config/arm: update mcpu for Cobalt-100 So From: dpdklab@iol.unh.edu To: Test Report Cc: dpdk-test-reports@iol.unh.edu In-Reply-To: <20251111190639.3470596-1-doug.foster@arm.com> References: <20251111190639.3470596-1-doug.foster@arm.com> Content-Type: text/plain X-BeenThere: test-report@dpdk.org X-Mailman-Version: 2.1.29 Precedence: list List-Id: automatic DPDK test reports List-Unsubscribe: , List-Archive: List-Post: List-Help: List-Subscribe: , Errors-To: test-report-bounces@dpdk.org Test-Label: iol-compile-amd64-testing Test-Status: SUCCESS http://dpdk.org/patch/158676 _Testing PASS_ Submitter: Doug Foster Date: Tuesday, November 11 2025 19:06:38 DPDK git baseline: Repo:dpdk Branch: master CommitID:be0112878b4fc3a1b918370ed2fe615c52039d77 158676 --> testing pass Upstream job id: Windows-Compile-DPDK-Native#32302 Test environment and result as below: +-------------------------------+--------------------+------------------+-------------------+-------------------------+ | Environment | dpdk_meson_compile | dpdk_compile_ovs | dpdk_msvc_compile | dpdk_llvm_clang_compile | +===============================+====================+==================+===================+=========================+ | CentOS Stream 9 | PASS | SKIPPED | SKIPPED | SKIPPED | +-------------------------------+--------------------+------------------+-------------------+-------------------------+ | Fedora Linux 42 | PASS | PASS | SKIPPED | SKIPPED | +-------------------------------+--------------------+------------------+-------------------+-------------------------+ | Debian GNU/Linux 12 | PASS | SKIPPED | SKIPPED | SKIPPED | +-------------------------------+--------------------+------------------+-------------------+-------------------------+ | CentOS Stream 10 | PASS | SKIPPED | SKIPPED | SKIPPED | +-------------------------------+--------------------+------------------+-------------------+-------------------------+ | Ubuntu 22.04 | PASS | SKIPPED | SKIPPED | SKIPPED | +-------------------------------+--------------------+------------------+-------------------+-------------------------+ | Ubuntu 24.04 | PASS | PASS | SKIPPED | SKIPPED | +-------------------------------+--------------------+------------------+-------------------+-------------------------+ | openSUSE Leap 15.6 | PASS | SKIPPED | SKIPPED | SKIPPED | +-------------------------------+--------------------+------------------+-------------------+-------------------------+ | Ubuntu 20.04 | PASS | SKIPPED | SKIPPED | SKIPPED | +-------------------------------+--------------------+------------------+-------------------+-------------------------+ | Red Hat Enterprise Linux 8.10 | PASS | SKIPPED | SKIPPED | SKIPPED | +-------------------------------+--------------------+------------------+-------------------+-------------------------+ | Red Hat Enterprise Linux 9.5 | PASS | SKIPPED | SKIPPED | SKIPPED | +-------------------------------+--------------------+------------------+-------------------+-------------------------+ | Alpine Linux 3.22.0 | PASS | SKIPPED | SKIPPED | SKIPPED | +-------------------------------+--------------------+------------------+-------------------+-------------------------+ | FreeBSD 14.2 | PASS | SKIPPED | SKIPPED | SKIPPED | +-------------------------------+--------------------+------------------+-------------------+-------------------------+ | Windows Server 2022 | SKIPPED | SKIPPED | PASS | PASS | +-------------------------------+--------------------+------------------+-------------------+-------------------------+ CentOS Stream 9 Kernel: 5.15 Compiler: gcc gcc (GCC) 11.5.0 20240719 (Red Hat 11.5.0-11) Fedora Linux 42 Kernel: 5.15 Compiler: clang gcc (GCC) 15.2.1 20250808 (Red Hat 15.2.1-1) Debian GNU/Linux 12 Kernel: 5.15 Compiler: gcc gcc (Debian 12.2.0-14+deb12u1) 12.2.0 CentOS Stream 10 Kernel: 5.15 Compiler: gcc gcc (GCC) 14.2.1 20250110 (Red Hat 14.2.1-8) Ubuntu 22.04 Kernel: 5.15 Compiler: gcc gcc (Ubuntu 11.4.0-1ubuntu1~22.04) 11.4.0 Ubuntu 24.04 Kernel: 5.15 Compiler: gcc gcc (Ubuntu 13.3.0-6ubuntu2~24.04) 13.3.0 openSUSE Leap 15.6 Kernel: 5.15 Compiler: gcc gcc (SUSE Linux) 7.5.0 Ubuntu 20.04 Kernel: 5.15 Compiler: gcc gcc (Ubuntu 9.4.0-1ubuntu1~20.04.2) 9.4.0 Red Hat Enterprise Linux 8.10 Kernel: 5.15 Compiler: gcc gcc (GCC) 8.5.0 20210514 (Red Hat 8.5.0-22) Red Hat Enterprise Linux 9.5 Kernel: 5.15 Compiler: gcc gcc (GCC) 11.5.0 20240719 (Red Hat 11.5.0-2) Alpine Linux 3.22.0 Kernel: 5.15 Compiler: gcc gcc (Alpine 14.2.0) 14.2.0 FreeBSD 14.2 Kernel: 14.2-RELEASE Compiler: clang 18.1.6 Windows Server 2022 Kernel: 10.0.20348.2031 Compiler: clang 15.0.7, gcc 14.1.0 (MinGW), and MSVC VS 19.39.33521 To view detailed results, visit: https://lab.dpdk.org/results/dashboard/patchsets/34540/ UNH-IOL DPDK Community Lab To manage your email subscriptions, visit: https://lab.dpdk.org/results/dashboard/preferences/subscriptions/