From mboxrd@z Thu Jan 1 00:00:00 1970 Return-Path: Received: from mails.dpdk.org (mails.dpdk.org [217.70.189.124]) by inbox.dpdk.org (Postfix) with ESMTP id 225B948AFE for ; Thu, 13 Nov 2025 23:51:46 +0100 (CET) Received: from mails.dpdk.org (localhost [127.0.0.1]) by mails.dpdk.org (Postfix) with ESMTP id 0851C40151; Thu, 13 Nov 2025 23:51:46 +0100 (CET) Received: from mail-yx1-f97.google.com (mail-yx1-f97.google.com [74.125.224.97]) by mails.dpdk.org (Postfix) with ESMTP id 75EE440151 for ; Thu, 13 Nov 2025 23:51:44 +0100 (CET) Received: by mail-yx1-f97.google.com with SMTP id 956f58d0204a3-63fbed0f71aso1125855d50.0 for ; Thu, 13 Nov 2025 14:51:44 -0800 (PST) DKIM-Signature: v=1; a=rsa-sha256; c=relaxed/relaxed; d=iol.unh.edu; s=unh-iol; t=1763074304; x=1763679104; darn=dpdk.org; h=references:in-reply-to:cc:to:from:subject:message-id:date:from:to :cc:subject:date:message-id:reply-to; bh=wRI90AN4koXpAkZj0cmoEyqEhAnlsEm3Gq02Ty2jDAs=; b=cRMBfGamPIxr00tl4oo29f+vQBUv5zFyKRiSXdG6K0g2ZB23OPJKvFXMMVSg6TMdfP iiq+6TjbH6ptFbnpH4C0ssa0PS8FSFzrlL8mHvm6JZozSOocxGt/dYPXqFmWWu+4xkP+ aO+fvh+DywObOKodfX7fnfsWDd9sJlkxMpOkU= X-Google-DKIM-Signature: v=1; a=rsa-sha256; c=relaxed/relaxed; d=1e100.net; s=20230601; t=1763074304; x=1763679104; h=references:in-reply-to:cc:to:from:subject:message-id:date:x-gm-gg :x-gm-message-state:from:to:cc:subject:date:message-id:reply-to; bh=wRI90AN4koXpAkZj0cmoEyqEhAnlsEm3Gq02Ty2jDAs=; b=KXbRTGGUrXUsS2/wCnYLiM95qWfDDGhLJ55GvnxaG1GpXy/vyXsYpF/NExU3Unu3lI D8oI1CT1d19tUuJDS1kLkDKmW1doxj/3tXswejH+TDAuKsy+U1Mm6DCXqWMOtrIf01JY 6ue0PF/VNaLJ3wuFoREwGlF1DZ2kktsjOTwmIw+WYEXHnaj9tZzFxfzznKc59Qb2zaYl UUdY4H8ViK9fSE+ylc2feDF3EPlnP68ltvRmNTNDedYV5KZ6scVEq3YB/3Ji4MZPjzsF 6oFW3YOd610+OiBDXwc2owqt0pKSVQ+tSXezxqAeWoAqMZl5TRaVF/3hHWAGfEGkboQ/ +I0g== X-Gm-Message-State: AOJu0YxrTMm2gXSW3B/EKGS2z4XW28tXTta84U79EIZb4sGFoZqDjFBx gvkJIwdpQBw0bXi483uns7fLV8N4k2y8Skxd9Kw5af9nQyiNKhBBYHwV72RxIV5EYg4UKSbUwod tTnJpyS8UVBsp0f1ywDZc/J63MiUH3P+R50bSuoTE4BYzzuXc228wagP3X2s7 X-Gm-Gg: ASbGnctLG26xYQIUQLt0/vGWe2NEdBsqcUOhnUqBkXUCHDsjwmYPsidfmsRXuxZJb+Y YPFRjtjoCv03JIrtsI/DGpdPfS7IJOFpSWA8avbBQUdMYElyjNq35rphQ6x9OUipopJv2uxhw9L ND4tJCq9w6/AU751qtlj/ExjcDjVDqAO3hZtF/VLfPgi2iWaaWlwlC2vE0O8B1bavRB8ZeFUG69 eUs/v+YriQ7K1IYBTXY/HUxy3SDvABQtuExm+Szh0QnT5mCnJGVStu7WH/KN8nWZuo9rBvEX0gf 97E6vxpg/mjM6VuFJ6wDvL1pFlJvL4N08yfjY09ZYweBESN9FOoimnPaRiI3MaDOLTHrKu6gdct 2xL/BWFuk X-Google-Smtp-Source: AGHT+IF1kZWwoC9A880Mqp0LVcSr0Y1raIy1PjuoWnvIpm9LP+99MR+sdw1dcMB3VOphJ8JToHLyEZbT0Zpd X-Received: by 2002:a53:acc6:0:10b0:63f:31f7:b956 with SMTP id 956f58d0204a3-641e750f99bmr866405d50.27.1763074303837; Thu, 13 Nov 2025 14:51:43 -0800 (PST) Received: from postal.iol.unh.edu (postal.iol.unh.edu. [2606:4100:3880:1234::84]) by smtp-relay.gmail.com with ESMTPS id 956f58d0204a3-6410eae9fc6sm227189d50.14.2025.11.13.14.51.43 (version=TLS1_2 cipher=ECDHE-ECDSA-AES128-GCM-SHA256 bits=128/128); Thu, 13 Nov 2025 14:51:43 -0800 (PST) X-Relaying-Domain: iol.unh.edu Date: Thu, 13 Nov 2025 14:51:43 -0800 (PST) Message-ID: <691660ff.530a0220.25853e.a75aSMTPIN_ADDED_MISSING@mx.google.com> Received: from [172.21.0.3] (unknown [172.18.0.240]) by postal.iol.unh.edu (Postfix) with ESMTP id 74E0C6050A61; Thu, 13 Nov 2025 17:51:43 -0500 (EST) Subject: |SUCCESS| pw158776 [PATCH] app/testpmd: fix flex item link parsing From: dpdklab@iol.unh.edu To: Test Report Cc: dpdk-test-reports@iol.unh.edu, Stephen Hemminger In-Reply-To: <20251113201726.10597-1-mkashani@nvidia.com> References: <20251113201726.10597-1-mkashani@nvidia.com> Content-Type: text/plain X-BeenThere: test-report@dpdk.org X-Mailman-Version: 2.1.29 Precedence: list List-Id: automatic DPDK test reports List-Unsubscribe: , List-Archive: List-Post: List-Help: List-Subscribe: , Errors-To: test-report-bounces@dpdk.org Test-Label: iol-unit-amd64-testing Test-Status: SUCCESS http://dpdk.org/patch/158776 _Testing PASS_ Submitter: Maayan Kashani Date: Thursday, November 13 2025 20:17:25 DPDK git baseline: Repo:dpdk-next-net Branch: master CommitID:fca6f2910345c25a5050a0b586e0d324ca616cbb 158776 --> testing pass Upstream job id: Generic-Unit-Test-DPDK#392477 Test environment and result as below: +-------------------------------+----------------+ | Environment | dpdk_unit_test | +===============================+================+ | CentOS Stream 9 | PASS | +-------------------------------+----------------+ | CentOS Stream 10 | PASS | +-------------------------------+----------------+ | Debian GNU/Linux 12 | PASS | +-------------------------------+----------------+ | Fedora Linux 40 | PASS | +-------------------------------+----------------+ | Fedora Linux 41 | PASS | +-------------------------------+----------------+ | Ubuntu 22.04 | PASS | +-------------------------------+----------------+ | Red Hat Enterprise Linux 9.5 | PASS | +-------------------------------+----------------+ | Fedora Linux 42 | PASS | +-------------------------------+----------------+ | Red Hat Enterprise Linux 8.10 | PASS | +-------------------------------+----------------+ | Ubuntu 24.04 | PASS | +-------------------------------+----------------+ | Ubuntu 20.04 | PASS | +-------------------------------+----------------+ CentOS Stream 9 Kernel: 5.15 Compiler: gcc gcc (GCC) 11.5.0 20240719 (Red Hat 11.5.0-11) CentOS Stream 10 Kernel: 5.15 Compiler: gcc gcc (GCC) 14.2.1 20250110 (Red Hat 14.2.1-8) Debian GNU/Linux 12 Kernel: 5.15 Compiler: gcc gcc (Debian 12.2.0-14+deb12u1) 12.2.0 Fedora Linux 40 Kernel: 5.15 Compiler: gcc gcc (GCC) 14.2.1 20240912 (Red Hat 14.2.1-3) Fedora Linux 41 Kernel: 5.15 Compiler: gcc gcc (GCC) 14.3.1 20250523 (Red Hat 14.3.1-1) Ubuntu 22.04 Kernel: 5.15 Compiler: gcc gcc (Ubuntu 11.4.0-1ubuntu1~22.04) 11.4.0 Red Hat Enterprise Linux 9.5 Kernel: 5.15 Compiler: gcc gcc (GCC) 11.5.0 20240719 (Red Hat 11.5.0-2) Fedora Linux 42 Kernel: 5.15 Compiler: clang gcc (GCC) 15.2.1 20250808 (Red Hat 15.2.1-1) Red Hat Enterprise Linux 8.10 Kernel: 5.15 Compiler: gcc gcc (GCC) 8.5.0 20210514 (Red Hat 8.5.0-22) Ubuntu 24.04 Kernel: 5.15 Compiler: gcc gcc (Ubuntu 13.3.0-6ubuntu2~24.04) 13.3.0 Ubuntu 20.04 Kernel: 5.15 Compiler: gcc gcc (Ubuntu 9.4.0-1ubuntu1~20.04.2) 9.4.0 To view detailed results, visit: https://lab.dpdk.org/results/dashboard/patchsets/34583/ UNH-IOL DPDK Community Lab To manage your email subscriptions, visit: https://lab.dpdk.org/results/dashboard/preferences/subscriptions/