From mboxrd@z Thu Jan 1 00:00:00 1970 Return-Path: Received: from mails.dpdk.org (mails.dpdk.org [217.70.189.124]) by inbox.dpdk.org (Postfix) with ESMTP id C86FA48AFE for ; Fri, 14 Nov 2025 00:04:49 +0100 (CET) Received: from mails.dpdk.org (localhost [127.0.0.1]) by mails.dpdk.org (Postfix) with ESMTP id C369440151; Fri, 14 Nov 2025 00:04:49 +0100 (CET) Received: from mail-vk1-f226.google.com (mail-vk1-f226.google.com [209.85.221.226]) by mails.dpdk.org (Postfix) with ESMTP id 9E26740151 for ; Fri, 14 Nov 2025 00:04:48 +0100 (CET) Received: by mail-vk1-f226.google.com with SMTP id 71dfb90a1353d-559836d04f6so926160e0c.0 for ; Thu, 13 Nov 2025 15:04:48 -0800 (PST) DKIM-Signature: v=1; a=rsa-sha256; c=relaxed/relaxed; d=iol.unh.edu; s=unh-iol; t=1763075088; x=1763679888; darn=dpdk.org; h=references:in-reply-to:cc:to:from:subject:message-id:date:from:to :cc:subject:date:message-id:reply-to; bh=1K7jsCY18hq7tMcqZsLacOBT+Flw9zF5RUcGqRYm2do=; b=EXDtdBuZykmAKbQ44qOUFba9AefQm6ZcWe2TPK4w/7qxYzK/myj2AsYuKnKlxDA4Qk /GiifQyYSEjKLLgvh8zIZ+LNhq76ieM60wcJXVtntTmfhzgB+hcqz/SjFI1tTke1PvnZ N4U96dbDXmrzFutC5N+q6n4ESq3OkYWr0t4rg= X-Google-DKIM-Signature: v=1; a=rsa-sha256; c=relaxed/relaxed; d=1e100.net; s=20230601; t=1763075088; x=1763679888; h=references:in-reply-to:cc:to:from:subject:message-id:date:x-gm-gg :x-gm-message-state:from:to:cc:subject:date:message-id:reply-to; bh=1K7jsCY18hq7tMcqZsLacOBT+Flw9zF5RUcGqRYm2do=; b=dxxNXPc2I757Cqm2q7ru9D9gxZWA/Ze1LSPLgQVqUmsXjqB/tNOJfRaofz/I+GFovF NSrBzzkECy4qnAaXbQ6ReUvmv/orKR82tPpK4fZMHy0/JigOtADnPe/Qtfc3MpdICt6A v3cJJngifZ4/WulmQvGTn1tHLf/sGGme6gl5qQJYgWY4BrNm265hkf30c7PrM4W7j7KB XOwkSXhdkY4KwxuyzAw4WKbpzt1MEgypIWpxO0ZAY0ay/iQIX0nhnaiaCO5HobGFUIi7 XmUJb6qQYFGE+djaDCwnIG+4uBiSsKnfsgXaQ9wndcYLm23u/VlMWYch4zVPzVzGeBXU /sKg== X-Gm-Message-State: AOJu0YwUvb+BhXC8cjJfiV/j0FMfteA7vJFqr0wGTom1oCjs0HWjSWAn uSW6QKKqDmLAkxeJnPPWKBPGbNT3EzbUKpbMlmTQjkB1xtTusn/GbDaw7siBbCnv8jFxGBccyIr VAfdBfdf8LCFgf5icD66KwOEqEN58YYFDUdw2xiNEBS7a X-Gm-Gg: ASbGnctLmp3Of0aYNeOfCSkag2ypP1mATJErT2g4Oje2u0QWzJ1wIDVsWbttKXjLDdB aM+oivs5zviJCaA6PEA+yxBXy8V5+XH6kfujJn0JbI/Lr4EGBf5UwMrt62c0JZVdN2b5d6yejxT t5zTJKjFI/k+YeK7Dz/RgYC7wo7b4j3ldgdCZTB1hArsQf29CW8X633gbG4e7L4OFRcHTNLuoYy DcU7gEAbotnzVF+oWGhjr+vxYq5acJHtvyqIasjLW8+xeiCcPeFBKWWIA7mn+rg43mSym1fgiz0 k6u8E0DFRUqKbPk3uTV4f6knqeDsDoaMSv9LLsD5jLmKrvXhbCdENkXbuYIrqyLxfn5JeLj5PU/ H+M5dVh1rL1aEi03CNU7euOL7CYBFvtM= X-Google-Smtp-Source: AGHT+IHxaanBV/bZgKvdxgTlAv3Zf4nlfTvyf2zZu5dhgB5kJYr3xFJ6s5mnxdwm5FasUdy3jcFEqM4sxgyI X-Received: by 2002:a05:6102:947:b0:5df:af0f:3094 with SMTP id ada2fe7eead31-5dfc5b9fa3amr686979137.42.1763075088036; Thu, 13 Nov 2025 15:04:48 -0800 (PST) Received: from postal.iol.unh.edu (postal.iol.unh.edu. [132.177.123.84]) by smtp-relay.gmail.com with ESMTPS id a1e0cc1a2514c-937610ae4dcsm39728241.2.2025.11.13.15.04.47 (version=TLS1_2 cipher=ECDHE-ECDSA-AES128-GCM-SHA256 bits=128/128); Thu, 13 Nov 2025 15:04:48 -0800 (PST) X-Relaying-Domain: iol.unh.edu Date: Thu, 13 Nov 2025 15:04:48 -0800 (PST) Message-ID: <69166410.050a0220.2efd26.1b32SMTPIN_ADDED_MISSING@mx.google.com> Received: from [172.21.0.2] (unknown [172.18.0.240]) by postal.iol.unh.edu (Postfix) with ESMTP id B14AA6050A61; Thu, 13 Nov 2025 18:04:47 -0500 (EST) Subject: |SUCCESS| pw158777-158778 [PATCH] [2/2] net/iavf: check Rx timestamp From: dpdklab@iol.unh.edu To: Test Report Cc: dpdk-test-reports@iol.unh.edu, Bruce Richardson In-Reply-To: <20251113-jk-dpdk-iavf-rx-timestamping-improvements-v1-2-3d9a0168087b@intel.com> References: <20251113-jk-dpdk-iavf-rx-timestamping-improvements-v1-2-3d9a0168087b@intel.com> Content-Type: text/plain X-BeenThere: test-report@dpdk.org X-Mailman-Version: 2.1.29 Precedence: list List-Id: automatic DPDK test reports List-Unsubscribe: , List-Archive: List-Post: List-Help: List-Subscribe: , Errors-To: test-report-bounces@dpdk.org Test-Label: iol-unit-amd64-testing Test-Status: SUCCESS http://dpdk.org/patch/158778 _Testing PASS_ Submitter: Jacob Keller Date: Thursday, November 13 2025 21:33:45 DPDK git baseline: Repo:dpdk-next-net-intel Branch: master CommitID:e5357d609907d504f4705e4899f3dad43cb4b70f 158777-158778 --> testing pass Upstream job id: Generic-Unit-Test-DPDK#392509 Test environment and result as below: +-------------------------------+----------------+ | Environment | dpdk_unit_test | +===============================+================+ | CentOS Stream 9 | PASS | +-------------------------------+----------------+ | Debian GNU/Linux 12 | PASS | +-------------------------------+----------------+ | CentOS Stream 10 | PASS | +-------------------------------+----------------+ | Fedora Linux 40 | PASS | +-------------------------------+----------------+ | Fedora Linux 41 | PASS | +-------------------------------+----------------+ | Fedora Linux 42 | PASS | +-------------------------------+----------------+ | Ubuntu 20.04 | PASS | +-------------------------------+----------------+ | Red Hat Enterprise Linux 8.10 | PASS | +-------------------------------+----------------+ | Red Hat Enterprise Linux 9.5 | PASS | +-------------------------------+----------------+ | Ubuntu 22.04 | PASS | +-------------------------------+----------------+ | Ubuntu 24.04 | PASS | +-------------------------------+----------------+ CentOS Stream 9 Kernel: 5.15 Compiler: gcc gcc (GCC) 11.5.0 20240719 (Red Hat 11.5.0-11) Debian GNU/Linux 12 Kernel: 5.15 Compiler: gcc gcc (Debian 12.2.0-14+deb12u1) 12.2.0 CentOS Stream 10 Kernel: 5.15 Compiler: gcc gcc (GCC) 14.2.1 20250110 (Red Hat 14.2.1-8) Fedora Linux 40 Kernel: 5.15 Compiler: gcc gcc (GCC) 14.2.1 20240912 (Red Hat 14.2.1-3) Fedora Linux 41 Kernel: 5.15 Compiler: gcc gcc (GCC) 14.3.1 20250523 (Red Hat 14.3.1-1) Fedora Linux 42 Kernel: 5.15 Compiler: gcc gcc (GCC) 15.2.1 20250808 (Red Hat 15.2.1-1) Ubuntu 20.04 Kernel: 5.15 Compiler: gcc gcc (Ubuntu 9.4.0-1ubuntu1~20.04.2) 9.4.0 Red Hat Enterprise Linux 8.10 Kernel: 5.15 Compiler: gcc gcc (GCC) 8.5.0 20210514 (Red Hat 8.5.0-22) Red Hat Enterprise Linux 9.5 Kernel: 5.15 Compiler: gcc gcc (GCC) 11.5.0 20240719 (Red Hat 11.5.0-2) Ubuntu 22.04 Kernel: 5.15 Compiler: gcc gcc (Ubuntu 11.4.0-1ubuntu1~22.04) 11.4.0 Ubuntu 24.04 Kernel: 5.15 Compiler: gcc gcc (Ubuntu 13.3.0-6ubuntu2~24.04) 13.3.0 To view detailed results, visit: https://lab.dpdk.org/results/dashboard/patchsets/34584/ UNH-IOL DPDK Community Lab To manage your email subscriptions, visit: https://lab.dpdk.org/results/dashboard/preferences/subscriptions/