From mboxrd@z Thu Jan 1 00:00:00 1970 Return-Path: Received: from mails.dpdk.org (mails.dpdk.org [217.70.189.124]) by inbox.dpdk.org (Postfix) with ESMTP id 43A1648AFE for ; Fri, 14 Nov 2025 00:19:15 +0100 (CET) Received: from mails.dpdk.org (localhost [127.0.0.1]) by mails.dpdk.org (Postfix) with ESMTP id 1B92840151; Fri, 14 Nov 2025 00:19:15 +0100 (CET) Received: from mail-qv1-f97.google.com (mail-qv1-f97.google.com [209.85.219.97]) by mails.dpdk.org (Postfix) with ESMTP id 7EE5D40151 for ; Fri, 14 Nov 2025 00:19:14 +0100 (CET) Received: by mail-qv1-f97.google.com with SMTP id 6a1803df08f44-88054872394so16836306d6.1 for ; Thu, 13 Nov 2025 15:19:14 -0800 (PST) DKIM-Signature: v=1; a=rsa-sha256; c=relaxed/relaxed; d=iol.unh.edu; s=unh-iol; t=1763075954; x=1763680754; darn=dpdk.org; h=references:in-reply-to:cc:to:from:subject:message-id:date:from:to :cc:subject:date:message-id:reply-to; bh=UHFMUAGVIme47Y1KDFLTxLYCJvKo+59p9jCZ9fK+mHI=; b=bGCyfC3pvZWaiA2zAAXRYs7GEKbT3ttw2s8+ylXa5XixEDQt3yegJa4ZgAu3Lhoepb NbSYqeGZZULIzstJtpAfdIyhyaQU/ZfPrRN0L0n6qzwGYT7RPh0XYEm3kCU4RmQu5DM5 ZZgKd1rSkvNduJarkXE55waGCBy30a6R0LfBY= X-Google-DKIM-Signature: v=1; a=rsa-sha256; c=relaxed/relaxed; d=1e100.net; s=20230601; t=1763075954; x=1763680754; h=references:in-reply-to:cc:to:from:subject:message-id:date:x-gm-gg :x-gm-message-state:from:to:cc:subject:date:message-id:reply-to; bh=UHFMUAGVIme47Y1KDFLTxLYCJvKo+59p9jCZ9fK+mHI=; b=ZNHPiKxlQGTufvWT/4U4hhSK2Zcc2lDSCi2VKMQwMKBImI91YdEoh7ryoIKRX6YH8I cPE/CuDqWzWDz7kyKYW42TSeZ6+ELkIL8ULmgefxQuOlhq+cu3MVwxDEKD0XJiNVHeeH cChQKOE7w4FrmxLghVyUQxNGznXULdiuoPWYuB3UctYqAhDz6A6kK7KTAHDK3Pcf0kPj ALVWg5plnoSTOGiNs8HUxamGqJ2HTpjl9KBfCQmDul4qXSDeDECf6KApGvm4xRIgQvsE VWKyxvstTgcLd5IwUjitYOS8IdDnWbfSW6kTnWhDbka+CgiUl1BeySCJw650T1RPu0WT a9mw== X-Gm-Message-State: AOJu0Ywh+O4YDfF2hKHD/nM1jwD5m4wB1PZUxTb2P3Nga/mXn2+E7Mgc 1CGBsBTL54MAg5UaIBSNn8by2fec1KNmon4IWLWJIYRbs0J+bMcGCqTnADtkY9W50mZNeqze6EF GWvgSwYZfwp81vWBvz66sNqKmK1Yk0keO+ngdGgMr6UW30dNfCsHZCj8xcckD X-Gm-Gg: ASbGncvNIuMtzRJ86sdNqNSQLWGmo0hqqGIMlj4ORBxfYruVQrHmeNurtPXao1cZI8U mE4uIe6VRpnVzIKpevVkOelkvBAcjMljfSfMBVtZAGaa2RiLx/0yMzqY6oWI+Ywe2WE5SdZ001b D45eFXiFpa664l7vJgySvhtRH4L2vZQRGuIt7vMHPgi0jzGd3VJDcwYHqqMnNiUs6IcgZSy7uJ4 f/SQ1otvOUiyoKCEQwuBUA5ubuvdnk5c8MUB38YsF8P2GrGLrM4KtjCCX4T1RVGLfasOShWyFSH vPUlh6oaMRhTX8Pkj2731LiqyU26iexN61J88VHLFXRze6BR4x2SXbN8uRVmqECf/n3S7ogiYKu ZThdqq3Yu X-Google-Smtp-Source: AGHT+IFomIACWMJpvl3j6DZbIAiBnz6at3vJie0d2ssNP+5klHg6OpWEoEQ493hsMi50U0MuPrA4We8YteSh X-Received: by 2002:a05:6214:1d2e:b0:880:49f2:38b2 with SMTP id 6a1803df08f44-882925bd9e0mr16089646d6.14.1763075953917; Thu, 13 Nov 2025 15:19:13 -0800 (PST) Received: from postal.iol.unh.edu (postal.iol.unh.edu. [2606:4100:3880:1234::84]) by smtp-relay.gmail.com with ESMTPS id 6a1803df08f44-882862b3755sm3580906d6.3.2025.11.13.15.19.13 (version=TLS1_2 cipher=ECDHE-ECDSA-AES128-GCM-SHA256 bits=128/128); Thu, 13 Nov 2025 15:19:13 -0800 (PST) X-Relaying-Domain: iol.unh.edu Date: Thu, 13 Nov 2025 15:19:13 -0800 (PST) Message-ID: <69166771.d40a0220.e7d04.0952SMTPIN_ADDED_MISSING@mx.google.com> Received: from [172.21.0.2] (unknown [172.18.0.240]) by postal.iol.unh.edu (Postfix) with ESMTP id 9500B6050A61; Thu, 13 Nov 2025 18:19:13 -0500 (EST) Subject: |SUCCESS| pw158713-158715 [PATCH] [v7,3/3] dts: add performance test From: dpdklab@iol.unh.edu To: Test Report Cc: dpdk-test-reports@iol.unh.edu In-Reply-To: <20251113012732.1059669-4-probb@iol.unh.edu> References: <20251113012732.1059669-4-probb@iol.unh.edu> Content-Type: text/plain X-BeenThere: test-report@dpdk.org X-Mailman-Version: 2.1.29 Precedence: list List-Id: automatic DPDK test reports List-Unsubscribe: , List-Archive: List-Post: List-Help: List-Subscribe: , Errors-To: test-report-bounces@dpdk.org Test-Label: iol-compile-amd64-testing Test-Status: SUCCESS http://dpdk.org/patch/158715 _Testing PASS_ Submitter: Patrick Robb Date: Thursday, November 13 2025 01:27:32 DPDK git baseline: Repo:dpdk-next-dts Branch: master CommitID:8dcc93a520b22330e0ad59d360a4594b854f9ddd 158713-158715 --> testing pass Upstream job id: Windows-Compile-DPDK-VS#7525 Test environment and result as below: +-------------------------------+--------------------+------------------+-------------------+ | Environment | dpdk_meson_compile | dpdk_compile_ovs | dpdk_msvc_compile | +===============================+====================+==================+===================+ | Ubuntu 20.04 | PASS | SKIPPED | SKIPPED | +-------------------------------+--------------------+------------------+-------------------+ | FreeBSD 14.2 | PASS | SKIPPED | SKIPPED | +-------------------------------+--------------------+------------------+-------------------+ | CentOS Stream 9 | PASS | SKIPPED | SKIPPED | +-------------------------------+--------------------+------------------+-------------------+ | CentOS Stream 10 | PASS | SKIPPED | SKIPPED | +-------------------------------+--------------------+------------------+-------------------+ | Debian GNU/Linux 12 | PASS | SKIPPED | SKIPPED | +-------------------------------+--------------------+------------------+-------------------+ | Fedora Linux 42 | PASS | PASS | SKIPPED | +-------------------------------+--------------------+------------------+-------------------+ | openSUSE Leap 15.6 | PASS | SKIPPED | SKIPPED | +-------------------------------+--------------------+------------------+-------------------+ | Red Hat Enterprise Linux 8.10 | PASS | SKIPPED | SKIPPED | +-------------------------------+--------------------+------------------+-------------------+ | Red Hat Enterprise Linux 9.5 | PASS | SKIPPED | SKIPPED | +-------------------------------+--------------------+------------------+-------------------+ | Ubuntu 22.04 | PASS | SKIPPED | SKIPPED | +-------------------------------+--------------------+------------------+-------------------+ | Ubuntu 24.04 | PASS | PASS | SKIPPED | +-------------------------------+--------------------+------------------+-------------------+ | Alpine Linux 3.22.0 | PASS | SKIPPED | SKIPPED | +-------------------------------+--------------------+------------------+-------------------+ | Windows Server 2022 | SKIPPED | SKIPPED | PASS | +-------------------------------+--------------------+------------------+-------------------+ Ubuntu 20.04 Kernel: 4.19 Compiler: gcc gcc (Ubuntu 9.4.0-1ubuntu1~20.04.2) 9.4.0 FreeBSD 14.2 Kernel: 14.2-RELEASE Compiler: clang 18.1.6 CentOS Stream 9 Kernel: 5.15 Compiler: gcc gcc (GCC) 11.5.0 20240719 (Red Hat 11.5.0-11) CentOS Stream 10 Kernel: 5.15 Compiler: gcc gcc (GCC) 14.2.1 20250110 (Red Hat 14.2.1-8) Debian GNU/Linux 12 Kernel: 5.15 Compiler: gcc gcc (Debian 12.2.0-14+deb12u1) 12.2.0 Fedora Linux 42 Kernel: 5.15 Compiler: clang gcc (GCC) 15.2.1 20250808 (Red Hat 15.2.1-1) openSUSE Leap 15.6 Kernel: 5.15 Compiler: gcc gcc (SUSE Linux) 7.5.0 Red Hat Enterprise Linux 8.10 Kernel: 5.15 Compiler: gcc gcc (GCC) 8.5.0 20210514 (Red Hat 8.5.0-22) Red Hat Enterprise Linux 9.5 Kernel: 5.15 Compiler: gcc gcc (GCC) 11.5.0 20240719 (Red Hat 11.5.0-2) Ubuntu 22.04 Kernel: 5.15 Compiler: gcc gcc (Ubuntu 11.4.0-1ubuntu1~22.04) 11.4.0 Ubuntu 24.04 Kernel: 5.15 Compiler: gcc gcc (Ubuntu 13.3.0-6ubuntu2~24.04) 13.3.0 Alpine Linux 3.22.0 Kernel: 5.15 Compiler: gcc gcc (Alpine 14.2.0) 14.2.0 Windows Server 2022 Kernel: 10.0.20348.2031 Compiler: clang 15.0.7, gcc 14.1.0 (MinGW), and MSVC VS 19.39.33521 To view detailed results, visit: https://lab.dpdk.org/results/dashboard/patchsets/34561/ UNH-IOL DPDK Community Lab To manage your email subscriptions, visit: https://lab.dpdk.org/results/dashboard/preferences/subscriptions/