From mboxrd@z Thu Jan 1 00:00:00 1970 Return-Path: Received: from mails.dpdk.org (mails.dpdk.org [217.70.189.124]) by inbox.dpdk.org (Postfix) with ESMTP id 1061348AFE for ; Fri, 14 Nov 2025 00:28:14 +0100 (CET) Received: from mails.dpdk.org (localhost [127.0.0.1]) by mails.dpdk.org (Postfix) with ESMTP id DF58E40151; Fri, 14 Nov 2025 00:28:13 +0100 (CET) Received: from mail-pj1-f98.google.com (mail-pj1-f98.google.com [209.85.216.98]) by mails.dpdk.org (Postfix) with ESMTP id BA14E40151 for ; Fri, 14 Nov 2025 00:28:12 +0100 (CET) Received: by mail-pj1-f98.google.com with SMTP id 98e67ed59e1d1-3438d4ae152so1710504a91.1 for ; Thu, 13 Nov 2025 15:28:12 -0800 (PST) DKIM-Signature: v=1; a=rsa-sha256; c=relaxed/relaxed; d=iol.unh.edu; s=unh-iol; t=1763076492; x=1763681292; darn=dpdk.org; h=references:in-reply-to:cc:to:from:subject:message-id:date:from:to :cc:subject:date:message-id:reply-to; bh=/Y3B1trT8GpPuuWlgW5vkQUPtpKtYrcILC/V3jsjZ3M=; b=Cs4SY+fzg2/BIlsSBXWhtuJ4VLfqcKLqmbtqwjWRovlUoxHgn44OaVNcf5f/ogioO4 TG1hVqMYWWPdc+KUThcMN1NbhJrNYV/fH1X2k0nEY4wL7znzSN+s1BF5HEApg5NmtQ6/ o8kJY1rd4Od3NdtvzQbTjlhSUhRbLP0/SX6iw= X-Google-DKIM-Signature: v=1; a=rsa-sha256; c=relaxed/relaxed; d=1e100.net; s=20230601; t=1763076492; x=1763681292; h=references:in-reply-to:cc:to:from:subject:message-id:date:x-gm-gg :x-gm-message-state:from:to:cc:subject:date:message-id:reply-to; bh=/Y3B1trT8GpPuuWlgW5vkQUPtpKtYrcILC/V3jsjZ3M=; b=vnlsF6D0SmGR1KDm9gHN/vxchT3/QnGE2p5s0nu7ThEf+NhzVk+375458dNXEDnldY E8qBryeRrDj7MiuBHUOFlrhqUb8udIq8t3Np9l6eqvxPBfMNIuH4bkLGEhEPTUrWvWEP eC2DAxg9hiUZ3A8D1lKZapgUeyb3yj5XKCTJuXICL6gGg0MjudKUKOB8n+phytgXhcNm H5R3BT43MaWi3aTpwsQ3bmEVv6Z57xmn8oQp821UsXudl+MyTJCNPp3xzox2FfcS4MMW nfEqYciiLIwBsKVUhHOYQ0MnU+Pu+jMZwVAAVO/ODrexIMq0e/cQRo+1RdKOIuOY23mF TL0w== X-Gm-Message-State: AOJu0YzSHq/r9iXFUB7YtGjzUSWP2xw1FQZFqwsTn2zuZ04X5fYU/IAl DmF/W5qfgFfklD97v+82ZsBN1awmJslS85BCWwOA/3zYXajDP2YBNzJxUTwwWEDTj7E55RgIU+9 06tOIYelm15x0htn5hPiIFc7iPkAEnC9tFzm2unc1sY0N X-Gm-Gg: ASbGncu4+HzsYB5xWRs3eWrnehKOMrKCt2DS3tq2xNrdldLlzM3wj5/JNTaex6ZogL0 6njqB52ezGktXdUJFDfFVpLK3mkQGR9mvEQ6eKlfM8xZcoMPTHRrDPdidz7YXUwhdknGMxIdy0Z lRfgzJKUyx16OlLKuzthd/6HWJOOktzmvF6eTAnbXKFyZSDbh0hyLG0UvRhDuwpTm8WFGxq48J5 uZ1Tk9lTB1VM/5+uojGD2prxrXu4Y3CVoGq4MVYgwOu6aUh/ZMzfb2RTiopiPWMfDsin4xakB8G oH+0irfNhIlrOjAi1bQSN8TB6trf4i5LfUJbKJk7CHAxs8nTDzWJbMRI+bBLI3TAcPw4skgLVsQ 54eeXBMamqdoOQqHhm1vblTaasSmGPr8= X-Google-Smtp-Source: AGHT+IF0hteNXY7pyYWDznYZOjU2740/gNiIZuUww1oMdXuyFVPI2DqWvUQOQf8hrHm8BLlk3/31gwpt11rl X-Received: by 2002:a17:90a:bb85:b0:340:f7c4:7c78 with SMTP id 98e67ed59e1d1-343f9e9381bmr790422a91.3.1763076491860; Thu, 13 Nov 2025 15:28:11 -0800 (PST) Received: from postal.iol.unh.edu (postal.iol.unh.edu. [132.177.123.84]) by smtp-relay.gmail.com with ESMTPS id 98e67ed59e1d1-343e06fcf4asm734669a91.2.2025.11.13.15.28.11 (version=TLS1_2 cipher=ECDHE-ECDSA-AES128-GCM-SHA256 bits=128/128); Thu, 13 Nov 2025 15:28:11 -0800 (PST) X-Relaying-Domain: iol.unh.edu Date: Thu, 13 Nov 2025 15:28:11 -0800 (PST) Message-ID: <6916698b.170a0220.38e4f0.38e8SMTPIN_ADDED_MISSING@mx.google.com> Received: from [172.21.0.2] (unknown [172.18.0.240]) by postal.iol.unh.edu (Postfix) with ESMTP id 0FAA16051830; Thu, 13 Nov 2025 18:28:11 -0500 (EST) Subject: |SUCCESS| pw158706 [PATCH] net/mlx5: fix send to kernel resources re From: dpdklab@iol.unh.edu To: Test Report Cc: dpdk-test-reports@iol.unh.edu In-Reply-To: <20251112162440.425611-1-getelson@nvidia.com> References: <20251112162440.425611-1-getelson@nvidia.com> Content-Type: text/plain X-BeenThere: test-report@dpdk.org X-Mailman-Version: 2.1.29 Precedence: list List-Id: automatic DPDK test reports List-Unsubscribe: , List-Archive: List-Post: List-Help: List-Subscribe: , Errors-To: test-report-bounces@dpdk.org Test-Label: iol-unit-amd64-testing Test-Status: SUCCESS http://dpdk.org/patch/158706 _Testing PASS_ Submitter: Gregory Etelson Date: Wednesday, November 12 2025 16:24:40 DPDK git baseline: Repo:dpdk-next-net-mlx Branch: master CommitID:ae657d56b1f0ea979b3f611edf28d773efc2ddcf 158706 --> testing pass Upstream job id: Generic-VM-Unit-Test-DPDK#32501 Test environment and result as below: +-------------------------------+----------------+ | Environment | dpdk_unit_test | +===============================+================+ | Debian GNU/Linux 12 | PASS | +-------------------------------+----------------+ | CentOS Stream 10 | PASS | +-------------------------------+----------------+ | Fedora Linux 41 | PASS | +-------------------------------+----------------+ | Fedora Linux 40 | PASS | +-------------------------------+----------------+ | CentOS Stream 9 | PASS | +-------------------------------+----------------+ | Red Hat Enterprise Linux 8.10 | PASS | +-------------------------------+----------------+ | Fedora Linux 42 | PASS | +-------------------------------+----------------+ | Ubuntu 22.04 | PASS | +-------------------------------+----------------+ | Ubuntu 24.04 | PASS | +-------------------------------+----------------+ | Red Hat Enterprise Linux 9.5 | PASS | +-------------------------------+----------------+ | Ubuntu 20.04 | PASS | +-------------------------------+----------------+ | Windows Server 2022 | PASS | +-------------------------------+----------------+ Debian GNU/Linux 12 Kernel: 5.15 Compiler: gcc gcc (Debian 12.2.0-14+deb12u1) 12.2.0 CentOS Stream 10 Kernel: 5.15 Compiler: gcc gcc (GCC) 14.2.1 20250110 (Red Hat 14.2.1-8) Fedora Linux 41 Kernel: 5.15 Compiler: gcc gcc (GCC) 14.3.1 20250523 (Red Hat 14.3.1-1) Fedora Linux 40 Kernel: 5.15 Compiler: gcc gcc (GCC) 14.2.1 20240912 (Red Hat 14.2.1-3) CentOS Stream 9 Kernel: 5.15 Compiler: gcc gcc (GCC) 11.5.0 20240719 (Red Hat 11.5.0-11) Red Hat Enterprise Linux 8.10 Kernel: 5.15 Compiler: gcc gcc (GCC) 8.5.0 20210514 (Red Hat 8.5.0-22) Fedora Linux 42 Kernel: 5.15 Compiler: gcc gcc (GCC) 15.2.1 20250808 (Red Hat 15.2.1-1) Ubuntu 22.04 Kernel: 5.15 Compiler: gcc gcc (Ubuntu 11.4.0-1ubuntu1~22.04) 11.4.0 Ubuntu 24.04 Kernel: 5.15 Compiler: gcc gcc (Ubuntu 13.3.0-6ubuntu2~24.04) 13.3.0 Red Hat Enterprise Linux 9.5 Kernel: 5.15 Compiler: gcc gcc (GCC) 11.5.0 20240719 (Red Hat 11.5.0-2) Ubuntu 20.04 Kernel: 5.15 Compiler: gcc gcc (Ubuntu 9.4.0-1ubuntu1~20.04.2) 9.4.0 Windows Server 2022 Kernel: 10.0.20348.2031 Compiler: clang 15.0.7, gcc 14.1.0 (MinGW), and MSVC VS 19.39.33521 To view detailed results, visit: https://lab.dpdk.org/results/dashboard/patchsets/34558/ UNH-IOL DPDK Community Lab To manage your email subscriptions, visit: https://lab.dpdk.org/results/dashboard/preferences/subscriptions/