From mboxrd@z Thu Jan 1 00:00:00 1970 Return-Path: Received: from mails.dpdk.org (mails.dpdk.org [217.70.189.124]) by inbox.dpdk.org (Postfix) with ESMTP id A71AF48AFE for ; Fri, 14 Nov 2025 00:32:52 +0100 (CET) Received: from mails.dpdk.org (localhost [127.0.0.1]) by mails.dpdk.org (Postfix) with ESMTP id A113D402CB; Fri, 14 Nov 2025 00:32:52 +0100 (CET) Received: from mail-vs1-f98.google.com (mail-vs1-f98.google.com [209.85.217.98]) by mails.dpdk.org (Postfix) with ESMTP id 290E640151 for ; Fri, 14 Nov 2025 00:32:51 +0100 (CET) Received: by mail-vs1-f98.google.com with SMTP id ada2fe7eead31-5dfc3c7de2dso423814137.3 for ; Thu, 13 Nov 2025 15:32:51 -0800 (PST) DKIM-Signature: v=1; a=rsa-sha256; c=relaxed/relaxed; d=iol.unh.edu; s=unh-iol; t=1763076770; x=1763681570; darn=dpdk.org; h=references:in-reply-to:cc:to:from:subject:message-id:date:from:to :cc:subject:date:message-id:reply-to; bh=AeOf9yFCmVCvOIvsHfYFqrGcDPwhA8qjd5yAc9Tzhus=; b=TAnjoOE8LcwNfFSpzZHJ1VvsCH5D3P/Ql+nonk6bYFIM5zZYc3K2FDyY3L4Z5+DtW8 Q9etud0rgIb/bMgTac5aloGAaRIFdAmX1lF4jExm7ywees2EkGE3txinZwXczcDm83gx fyQT+h7zOFlRoV7Hkw+ns8cuZz5stD9BqKBk8= X-Google-DKIM-Signature: v=1; a=rsa-sha256; c=relaxed/relaxed; d=1e100.net; s=20230601; t=1763076770; x=1763681570; h=references:in-reply-to:cc:to:from:subject:message-id:date:x-gm-gg :x-gm-message-state:from:to:cc:subject:date:message-id:reply-to; bh=AeOf9yFCmVCvOIvsHfYFqrGcDPwhA8qjd5yAc9Tzhus=; b=uRPl8UKEkcZkHFUlTCD5HaDL4BDq+PeM8btUkp/sosrX8Y6FzneMmtdSz1h+XoogBa ytwx9dFmhyQheT2UpknNPLs+Dwpnq812PxF8PiqE9PJf3KAbM16LjIXojc/BVed+PrrI t1lpKCprxA4nXatKm0bR9mF63NbEEJmCoR7I6Y0sQKMksy7BU5wyLLo8sBHjb/9rHsi1 2FS9nA2X+18k+btTBa54PEvn7m77iV+f2qtRPGDALWEaiXodolNej2auLzoHjMwc3CFJ mfMIV4b07Qj3mfo4FDL4zS8rff3AxNA19ed3zPLX0TbhlWVGj85ZGPUUyYFM5+sgVMvf HQ6w== X-Gm-Message-State: AOJu0YxAGiwOtUw0FaR9vUuZnzrO0xBk6fKbmETlaj340HPXwrHnXzCx +u8e8+ymfg/hhpwkCKL763tStCRExILcNkZwpBxZNJCo4vpOToavqmFHPm4T66pGYs5hxz6i+8l ROKPbQCcbYJgXzncjuWuVfXJ4j3rCRUSsRgHlnczYDLyUneJF+ErxNnm7krYh X-Gm-Gg: ASbGncvJdQL08+IDXV57Cx7nlhy5LbGvktzqwkoR4PG9oMAnW6z+tHrbsRR3R3aNwdi RLM4e8psUTA1HD8vAEbRuQv46Gry2lm9fMJuHQ1n4AolHv6o1m6U5Ezjg6iBYb6yNJWSF85WZrP 0o5JK3/dy/s/IYrXmi31zH0eDeI6mXJN1hn/wHvr6n4CM2HpI8HtMQKJaBVDboJR3for4g9jAzx 8LGuEdSocnCmaAHC9fMh1rEGv0RByr7yvebM0kSryIwAzIDnl/AmTJDKXfd4WACx1CW4TAfRMrC VpLuZ2Xu9QBNodZ5B6H5AdehM5/bHWDYYSgiA3cbr/rnFizu7CKPJ9JVJxcXmNIfwcMIFgdLAkk 9VtMFckgC X-Google-Smtp-Source: AGHT+IEGW7LF3TQdGj+cbwg+O7l9QqaePA+kVd0/am0f5C7SEgx4jinPQJn/GDrpDSglVGrHITfysHO8dp40 X-Received: by 2002:a05:6102:38ca:b0:5df:b45c:9ccb with SMTP id ada2fe7eead31-5dfc5677121mr662962137.25.1763076770611; Thu, 13 Nov 2025 15:32:50 -0800 (PST) Received: from postal.iol.unh.edu (postal.iol.unh.edu. [2606:4100:3880:1234::84]) by smtp-relay.gmail.com with ESMTPS id ada2fe7eead31-5dfb708456dsm335677137.2.2025.11.13.15.32.50 (version=TLS1_2 cipher=ECDHE-ECDSA-AES128-GCM-SHA256 bits=128/128); Thu, 13 Nov 2025 15:32:50 -0800 (PST) X-Relaying-Domain: iol.unh.edu Date: Thu, 13 Nov 2025 15:32:50 -0800 (PST) Message-ID: <69166aa2.050a0220.2a416b.f9c7SMTPIN_ADDED_MISSING@mx.google.com> Received: from [172.21.0.2] (unknown [172.18.0.240]) by postal.iol.unh.edu (Postfix) with ESMTP id 1F2516051830; Thu, 13 Nov 2025 18:32:50 -0500 (EST) Subject: |SUCCESS| pw158676 [PATCH] config/arm: update mcpu for Cobalt-100 So From: dpdklab@iol.unh.edu To: Test Report Cc: dpdk-test-reports@iol.unh.edu In-Reply-To: <20251111190639.3470596-1-doug.foster@arm.com> References: <20251111190639.3470596-1-doug.foster@arm.com> Content-Type: text/plain X-BeenThere: test-report@dpdk.org X-Mailman-Version: 2.1.29 Precedence: list List-Id: automatic DPDK test reports List-Unsubscribe: , List-Archive: List-Post: List-Help: List-Subscribe: , Errors-To: test-report-bounces@dpdk.org Test-Label: iol-compile-amd64-testing Test-Status: SUCCESS http://dpdk.org/patch/158676 _Testing PASS_ Submitter: Doug Foster Date: Tuesday, November 11 2025 19:06:38 DPDK git baseline: Repo:dpdk Branch: master CommitID:be0112878b4fc3a1b918370ed2fe615c52039d77 158676 --> testing pass Upstream job id: Windows-Compile-DPDK-Native#32303 Test environment and result as below: +-------------------------------+--------------------+------------------+-------------------+-------------------------+----------------------+ | Environment | dpdk_meson_compile | dpdk_compile_ovs | dpdk_msvc_compile | dpdk_llvm_clang_compile | dpdk_mingw64_compile | +===============================+====================+==================+===================+=========================+======================+ | CentOS Stream 9 | PASS | SKIPPED | SKIPPED | SKIPPED | SKIPPED | +-------------------------------+--------------------+------------------+-------------------+-------------------------+----------------------+ | Fedora Linux 42 | PASS | PASS | SKIPPED | SKIPPED | SKIPPED | +-------------------------------+--------------------+------------------+-------------------+-------------------------+----------------------+ | Debian GNU/Linux 12 | PASS | SKIPPED | SKIPPED | SKIPPED | SKIPPED | +-------------------------------+--------------------+------------------+-------------------+-------------------------+----------------------+ | CentOS Stream 10 | PASS | SKIPPED | SKIPPED | SKIPPED | SKIPPED | +-------------------------------+--------------------+------------------+-------------------+-------------------------+----------------------+ | Ubuntu 22.04 | PASS | SKIPPED | SKIPPED | SKIPPED | SKIPPED | +-------------------------------+--------------------+------------------+-------------------+-------------------------+----------------------+ | Ubuntu 24.04 | PASS | PASS | SKIPPED | SKIPPED | SKIPPED | +-------------------------------+--------------------+------------------+-------------------+-------------------------+----------------------+ | openSUSE Leap 15.6 | PASS | SKIPPED | SKIPPED | SKIPPED | SKIPPED | +-------------------------------+--------------------+------------------+-------------------+-------------------------+----------------------+ | Ubuntu 20.04 | PASS | SKIPPED | SKIPPED | SKIPPED | SKIPPED | +-------------------------------+--------------------+------------------+-------------------+-------------------------+----------------------+ | Red Hat Enterprise Linux 8.10 | PASS | SKIPPED | SKIPPED | SKIPPED | SKIPPED | +-------------------------------+--------------------+------------------+-------------------+-------------------------+----------------------+ | Red Hat Enterprise Linux 9.5 | PASS | SKIPPED | SKIPPED | SKIPPED | SKIPPED | +-------------------------------+--------------------+------------------+-------------------+-------------------------+----------------------+ | Alpine Linux 3.22.0 | PASS | SKIPPED | SKIPPED | SKIPPED | SKIPPED | +-------------------------------+--------------------+------------------+-------------------+-------------------------+----------------------+ | FreeBSD 14.2 | PASS | SKIPPED | SKIPPED | SKIPPED | SKIPPED | +-------------------------------+--------------------+------------------+-------------------+-------------------------+----------------------+ | Windows Server 2022 | SKIPPED | SKIPPED | PASS | PASS | PASS | +-------------------------------+--------------------+------------------+-------------------+-------------------------+----------------------+ CentOS Stream 9 Kernel: 5.15 Compiler: gcc gcc (GCC) 11.5.0 20240719 (Red Hat 11.5.0-11) Fedora Linux 42 Kernel: 5.15 Compiler: clang gcc (GCC) 15.2.1 20250808 (Red Hat 15.2.1-1) Debian GNU/Linux 12 Kernel: 5.15 Compiler: gcc gcc (Debian 12.2.0-14+deb12u1) 12.2.0 CentOS Stream 10 Kernel: 5.15 Compiler: gcc gcc (GCC) 14.2.1 20250110 (Red Hat 14.2.1-8) Ubuntu 22.04 Kernel: 5.15 Compiler: gcc gcc (Ubuntu 11.4.0-1ubuntu1~22.04) 11.4.0 Ubuntu 24.04 Kernel: 5.15 Compiler: gcc gcc (Ubuntu 13.3.0-6ubuntu2~24.04) 13.3.0 openSUSE Leap 15.6 Kernel: 5.15 Compiler: gcc gcc (SUSE Linux) 7.5.0 Ubuntu 20.04 Kernel: 5.15 Compiler: gcc gcc (Ubuntu 9.4.0-1ubuntu1~20.04.2) 9.4.0 Red Hat Enterprise Linux 8.10 Kernel: 5.15 Compiler: gcc gcc (GCC) 8.5.0 20210514 (Red Hat 8.5.0-22) Red Hat Enterprise Linux 9.5 Kernel: 5.15 Compiler: gcc gcc (GCC) 11.5.0 20240719 (Red Hat 11.5.0-2) Alpine Linux 3.22.0 Kernel: 5.15 Compiler: gcc gcc (Alpine 14.2.0) 14.2.0 FreeBSD 14.2 Kernel: 14.2-RELEASE Compiler: clang 18.1.6 Windows Server 2022 Kernel: 10.0.20348.2031 Compiler: clang 15.0.7, gcc 14.1.0 (MinGW), and MSVC VS 19.39.33521 To view detailed results, visit: https://lab.dpdk.org/results/dashboard/patchsets/34540/ UNH-IOL DPDK Community Lab To manage your email subscriptions, visit: https://lab.dpdk.org/results/dashboard/preferences/subscriptions/