From mboxrd@z Thu Jan 1 00:00:00 1970 Return-Path: Received: from mails.dpdk.org (mails.dpdk.org [217.70.189.124]) by inbox.dpdk.org (Postfix) with ESMTP id E7BDB48AFE for ; Fri, 14 Nov 2025 00:34:55 +0100 (CET) Received: from mails.dpdk.org (localhost [127.0.0.1]) by mails.dpdk.org (Postfix) with ESMTP id E0EE840151; Fri, 14 Nov 2025 00:34:55 +0100 (CET) Received: from mail-oa1-f98.google.com (mail-oa1-f98.google.com [209.85.160.98]) by mails.dpdk.org (Postfix) with ESMTP id A7B5640151 for ; Fri, 14 Nov 2025 00:34:54 +0100 (CET) Received: by mail-oa1-f98.google.com with SMTP id 586e51a60fabf-3d1bc63d5f0so677307fac.0 for ; Thu, 13 Nov 2025 15:34:54 -0800 (PST) DKIM-Signature: v=1; a=rsa-sha256; c=relaxed/relaxed; d=iol.unh.edu; s=unh-iol; t=1763076894; x=1763681694; darn=dpdk.org; h=references:in-reply-to:cc:to:from:subject:message-id:date:from:to :cc:subject:date:message-id:reply-to; bh=x9d3ljHvPhoPkyBqeCY4mj9Fydp2VJzWj1ZE2uOhflU=; b=HjStuaGXIjmHygi+Wh1UPDbd6o6MWdm0VxvV6sAye9eUxE0CoJbUctyQUaWHtPxtlM 6JSsEnXBPxRUQupMh6sqKXOedd2KZxhIrzP06a8Vq+doCN0lAOPa5+gkbjNqR4CKZQ/k gNmnFXMleFUl+LWvXQa8hiOnj4gXuhTZ5h6ck= X-Google-DKIM-Signature: v=1; a=rsa-sha256; c=relaxed/relaxed; d=1e100.net; s=20230601; t=1763076894; x=1763681694; h=references:in-reply-to:cc:to:from:subject:message-id:date:x-gm-gg :x-gm-message-state:from:to:cc:subject:date:message-id:reply-to; bh=x9d3ljHvPhoPkyBqeCY4mj9Fydp2VJzWj1ZE2uOhflU=; b=YWfW9Ea+9OElXmJUBm4c7vvdrNw9evmF/OUEd9CgNUAd2E+ym5H7qVd2MJxeWZXGP/ NJX2zhPBMoJeDo9F/hhbB9dzBBiREa6spu3t0GQyuGOhHGv9QCQc01JUEcEskLt50efX +buJzwtVCHTR/0AUJqZSqyDmYxu9xXX92ey2rzkvwqZQAe/IjQMmoDBWir9hbveTZWV9 FerEzPvfzYGmkJ24nsqjw1AWRlvRHVh+oZZlB9q5CwVB8K0wE1lAPa72oGn60Icf1C99 p0dszfQo9Uz4h/GLdx6nZqZVvxVx7sFOdXJ13o/F1yOnGfvZ9MMhC/mncCM66pRw1Ves yGPQ== X-Gm-Message-State: AOJu0YwvXcKiSEbyPf87qWRLtleoMdoSDA4/A5m0yqJb9wqebSH2K/uc tPUXOZrADcVDvjc372PDrY4SH/qMWjjBJGBiYMpkU0qKmHCoHzipyFrjlpyLaKZGJmrPz728R8a wp2UVL8fceXZfBfazC8huDjc3NkPfUK2Pdt6mi4g3lebacaTH9P4tFudiAeAD X-Gm-Gg: ASbGncuVvB97pEIyhuCUIE36ebSI0t3r7c8Z/e268dfqfkvspws2JpO5/DLu65+wCnl KifhXvXVS+nfJYIl7Ti/Rmz3UVSXW4gxRob4QJ492FNq6I/+p/uOdbcOR7387YBYnik33XgtP1A uBhHHYo/Z957utCPVH+bt7PUIFtuSXRGNduzeKolFQBsNAuTha5JVO5xhqMxe8JqkLl+GvE/+f2 ni5uXmbYLcERNdlxejtueB1nuCrZ/Z8xiRnZ+4k8XPX3nUOYIPAuO7bD5elHOKydz7gsdi3bm6w yL/GySdGWC4e7pqdZWuebHQX/mppj95Nj8n0K5umtJlkzGhmLOcJk42+yQ876b5n3epeQuV0VH4 UuMMDXB0o X-Google-Smtp-Source: AGHT+IE2TDaVFX8GL9r7krDOlYmQrkBh3ivOJ80TIR4zSf2Hv32XkSN1brhm8x0oK/FnAOowsg0MkIntCaB1 X-Received: by 2002:a05:6870:9f09:b0:36c:59db:7559 with SMTP id 586e51a60fabf-3e868ea0d0fmr578336fac.17.1763076893919; Thu, 13 Nov 2025 15:34:53 -0800 (PST) Received: from postal.iol.unh.edu (postal.iol.unh.edu. [2606:4100:3880:1234::84]) by smtp-relay.gmail.com with ESMTPS id 586e51a60fabf-3e8522779ddsm259616fac.16.2025.11.13.15.34.53 (version=TLS1_2 cipher=ECDHE-ECDSA-AES128-GCM-SHA256 bits=128/128); Thu, 13 Nov 2025 15:34:53 -0800 (PST) X-Relaying-Domain: iol.unh.edu Date: Thu, 13 Nov 2025 15:34:53 -0800 (PST) Message-ID: <69166b1d.050a0220.2f1759.c015SMTPIN_ADDED_MISSING@mx.google.com> Received: from [172.21.0.2] (unknown [172.18.0.240]) by postal.iol.unh.edu (Postfix) with ESMTP id 48C826051830; Thu, 13 Nov 2025 18:34:53 -0500 (EST) Subject: |SUCCESS| pw158706 [PATCH] net/mlx5: fix send to kernel resources re From: dpdklab@iol.unh.edu To: Test Report Cc: dpdk-test-reports@iol.unh.edu In-Reply-To: <20251112162440.425611-1-getelson@nvidia.com> References: <20251112162440.425611-1-getelson@nvidia.com> Content-Type: text/plain X-BeenThere: test-report@dpdk.org X-Mailman-Version: 2.1.29 Precedence: list List-Id: automatic DPDK test reports List-Unsubscribe: , List-Archive: List-Post: List-Help: List-Subscribe: , Errors-To: test-report-bounces@dpdk.org Test-Label: iol-unit-amd64-testing Test-Status: SUCCESS http://dpdk.org/patch/158706 _Testing PASS_ Submitter: Gregory Etelson Date: Wednesday, November 12 2025 16:24:40 DPDK git baseline: Repo:dpdk-next-net-mlx Branch: master CommitID:ae657d56b1f0ea979b3f611edf28d773efc2ddcf 158706 --> testing pass Upstream job id: Generic-VM-Unit-Test-DPDK#32502 Test environment and result as below: +-------------------------------+----------------+ | Environment | dpdk_unit_test | +===============================+================+ | Debian GNU/Linux 12 | PASS | +-------------------------------+----------------+ | CentOS Stream 10 | PASS | +-------------------------------+----------------+ | Fedora Linux 41 | PASS | +-------------------------------+----------------+ | Fedora Linux 40 | PASS | +-------------------------------+----------------+ | CentOS Stream 9 | PASS | +-------------------------------+----------------+ | Red Hat Enterprise Linux 8.10 | PASS | +-------------------------------+----------------+ | Fedora Linux 42 | PASS | +-------------------------------+----------------+ | Ubuntu 22.04 | PASS | +-------------------------------+----------------+ | Ubuntu 24.04 | PASS | +-------------------------------+----------------+ | Red Hat Enterprise Linux 9.5 | PASS | +-------------------------------+----------------+ | Ubuntu 20.04 | PASS | +-------------------------------+----------------+ | Windows Server 2022 | PASS | +-------------------------------+----------------+ Debian GNU/Linux 12 Kernel: 5.15 Compiler: gcc gcc (Debian 12.2.0-14+deb12u1) 12.2.0 CentOS Stream 10 Kernel: 5.15 Compiler: gcc gcc (GCC) 14.2.1 20250110 (Red Hat 14.2.1-8) Fedora Linux 41 Kernel: 5.15 Compiler: gcc gcc (GCC) 14.3.1 20250523 (Red Hat 14.3.1-1) Fedora Linux 40 Kernel: 5.15 Compiler: gcc gcc (GCC) 14.2.1 20240912 (Red Hat 14.2.1-3) CentOS Stream 9 Kernel: 5.15 Compiler: gcc gcc (GCC) 11.5.0 20240719 (Red Hat 11.5.0-11) Red Hat Enterprise Linux 8.10 Kernel: 5.15 Compiler: gcc gcc (GCC) 8.5.0 20210514 (Red Hat 8.5.0-22) Fedora Linux 42 Kernel: 5.15 Compiler: gcc gcc (GCC) 15.2.1 20250808 (Red Hat 15.2.1-1) Ubuntu 22.04 Kernel: 5.15 Compiler: gcc gcc (Ubuntu 11.4.0-1ubuntu1~22.04) 11.4.0 Ubuntu 24.04 Kernel: 5.15 Compiler: gcc gcc (Ubuntu 13.3.0-6ubuntu2~24.04) 13.3.0 Red Hat Enterprise Linux 9.5 Kernel: 5.15 Compiler: gcc gcc (GCC) 11.5.0 20240719 (Red Hat 11.5.0-2) Ubuntu 20.04 Kernel: 5.15 Compiler: gcc gcc (Ubuntu 9.4.0-1ubuntu1~20.04.2) 9.4.0 Windows Server 2022 Kernel: 10.0.20348.2031 Compiler: clang 15.0.7, gcc 14.1.0 (MinGW), and MSVC VS 19.39.33521 To view detailed results, visit: https://lab.dpdk.org/results/dashboard/patchsets/34558/ UNH-IOL DPDK Community Lab To manage your email subscriptions, visit: https://lab.dpdk.org/results/dashboard/preferences/subscriptions/