From mboxrd@z Thu Jan 1 00:00:00 1970 Return-Path: Received: from mails.dpdk.org (mails.dpdk.org [217.70.189.124]) by inbox.dpdk.org (Postfix) with ESMTP id A9EF848AFE for ; Fri, 14 Nov 2025 01:01:57 +0100 (CET) Received: from mails.dpdk.org (localhost [127.0.0.1]) by mails.dpdk.org (Postfix) with ESMTP id 8FC0D40151; Fri, 14 Nov 2025 01:01:57 +0100 (CET) Received: from mail-oa1-f100.google.com (mail-oa1-f100.google.com [209.85.160.100]) by mails.dpdk.org (Postfix) with ESMTP id 3656B40151 for ; Fri, 14 Nov 2025 01:01:56 +0100 (CET) Received: by mail-oa1-f100.google.com with SMTP id 586e51a60fabf-3e2eeb85822so683761fac.2 for ; Thu, 13 Nov 2025 16:01:56 -0800 (PST) DKIM-Signature: v=1; a=rsa-sha256; c=relaxed/relaxed; d=iol.unh.edu; s=unh-iol; t=1763078515; x=1763683315; darn=dpdk.org; h=references:in-reply-to:cc:to:from:subject:message-id:date:from:to :cc:subject:date:message-id:reply-to; bh=Xn165wzof0dS952X0XgaFFAa4rMbjveLbTt28ana3aI=; b=Rmkl1yokU+CTTGhQpjVJ6x0sSruwNOntTFU3nt4e8tiysXl+M1huXRGdXDImo9Nfxo FHTii+4k9/VWZOPBq/9jub9uNGtJcTGE1A4qb90stF9g+0IulzViPuablsiJgqTEj6nx JqIEOREMQ1xOtpALZALoMgwHFjv5qf1Fiy6dE= X-Google-DKIM-Signature: v=1; a=rsa-sha256; c=relaxed/relaxed; d=1e100.net; s=20230601; t=1763078515; x=1763683315; h=references:in-reply-to:cc:to:from:subject:message-id:date:x-gm-gg :x-gm-message-state:from:to:cc:subject:date:message-id:reply-to; bh=Xn165wzof0dS952X0XgaFFAa4rMbjveLbTt28ana3aI=; b=Knaz6DeIerUphDN4BjZYETjfHyTwmoOm7/oFui/O6eiAAq/X9vI7y+MvHjqHUKQPJ4 LG9fXD6dc9WrCyp22ZHswOkoFSTmwBmQAXfGK7QkP9p/a/78RuXNyC+bWUW2/S1Ces7c sxRBD7TuvSdoInGG7YPB2y66JsZTRcu3Aokg78oo+a2RGpQFzKvTn4FiayCfP0N7eB0s Ds+ZFYXEoJudy6+zcph6DRPBIZbdY56Q9BQ5BkTM6sBUw1wKezcaGRtnk/jstKr7k22G xQUhGOJhjb42VHj17KM8Fz5zYnZAezQ9iOAFZ5/gj8ex5D8P9+yvwtE8iHN3554OIb8p gkew== X-Gm-Message-State: AOJu0Yyu3AcMzKyGueEadJbDi0LDsB1s3ZT4GhnQRacJKQqm+Wqs6xhN hXJJPGKCZuOO1a+61cDh5E0gqjxE7xIeMW9oqCA+ny9UphE4Z3LQKtsYh/Adr+yATKDPEvEtl3o dvbLZE1d5UxdbMLNsRbDHTqM2Qqpzl7A4JRo9JYJ6bn4Qg8788jddxEvR+G4y X-Gm-Gg: ASbGnctERfdClX8eWSYtCrX7kizlA8+QmcrUoJtFGEkNo5gYisqu5iFPsuudcymM+MU eguoNhVrlPpsSt1GT1QFZYbc4gAyXk3dS+Ktp2t+DEFTaqA131Cd9AZJSljdWMozWWVGRXlMUcb OGZPfwQROMNWuba/ITSmGwZxKUK/RCPAYsAKz/e4T99biJ9MKOEcdX0rC0xiqiVvUwjtUcmbc2R tITZbbxpbBH0iwmstvdOlET1UrZwKHelYjJ6nGoI54wrIywnapFGN9oxhIR0neDZK4pTEJaXgEQ LQOL4K2O3sM91Fwhfzy47DzHObxFnKEEAzUjOcrAHW9MowxlkY3oGqhydtVhNP7UXiMWfER4tue hKAHZGuwa X-Google-Smtp-Source: AGHT+IGVxFriocgTH7K/Y6TV9jL4aR7810hngd1sTOAqSVlVkVOj+cAmbZ98QLtsj9QgXDx1hQMCvPMMSEUp X-Received: by 2002:a05:6871:c9:b0:3e1:3d50:9c0f with SMTP id 586e51a60fabf-3e869195ea0mr737501fac.51.1763078515245; Thu, 13 Nov 2025 16:01:55 -0800 (PST) Received: from postal.iol.unh.edu (postal.iol.unh.edu. [2606:4100:3880:1234::84]) by smtp-relay.gmail.com with ESMTPS id 586e51a60fabf-3e8522baa57sm309312fac.18.2025.11.13.16.01.55 (version=TLS1_2 cipher=ECDHE-ECDSA-AES128-GCM-SHA256 bits=128/128); Thu, 13 Nov 2025 16:01:55 -0800 (PST) X-Relaying-Domain: iol.unh.edu Date: Thu, 13 Nov 2025 16:01:55 -0800 (PST) Message-ID: <69167173.050a0220.a3c31.e71cSMTPIN_ADDED_MISSING@mx.google.com> Received: from [172.21.0.3] (unknown [172.18.0.240]) by postal.iol.unh.edu (Postfix) with ESMTP id B88146051830; Thu, 13 Nov 2025 19:01:54 -0500 (EST) Subject: |SUCCESS| pw158716-158738 [PATCH] [v5,23/23] net/cnxk: check for inv From: dpdklab@iol.unh.edu To: Test Report Cc: dpdk-test-reports@iol.unh.edu In-Reply-To: <20251113043808.1180851-23-ndabilpuram@marvell.com> References: <20251113043808.1180851-23-ndabilpuram@marvell.com> Content-Type: text/plain X-BeenThere: test-report@dpdk.org X-Mailman-Version: 2.1.29 Precedence: list List-Id: automatic DPDK test reports List-Unsubscribe: , List-Archive: List-Post: List-Help: List-Subscribe: , Errors-To: test-report-bounces@dpdk.org Test-Label: iol-compile-amd64-testing Test-Status: SUCCESS http://dpdk.org/patch/158738 _Testing PASS_ Submitter: Nithin Dabilpuram Date: Thursday, November 13 2025 04:38:08 DPDK git baseline: Repo:dpdk-next-net-mrvl Branch: master CommitID:be0112878b4fc3a1b918370ed2fe615c52039d77 158716-158738 --> testing pass Upstream job id: Windows-Compile-DPDK-VS#7526 Test environment and result as below: +-------------------------------+--------------------+------------------+-------------------+ | Environment | dpdk_meson_compile | dpdk_compile_ovs | dpdk_msvc_compile | +===============================+====================+==================+===================+ | Ubuntu 20.04 | PASS | SKIPPED | SKIPPED | +-------------------------------+--------------------+------------------+-------------------+ | FreeBSD 14.2 | PASS | SKIPPED | SKIPPED | +-------------------------------+--------------------+------------------+-------------------+ | CentOS Stream 9 | PASS | SKIPPED | SKIPPED | +-------------------------------+--------------------+------------------+-------------------+ | CentOS Stream 10 | PASS | SKIPPED | SKIPPED | +-------------------------------+--------------------+------------------+-------------------+ | Debian GNU/Linux 12 | PASS | SKIPPED | SKIPPED | +-------------------------------+--------------------+------------------+-------------------+ | Fedora Linux 42 | PASS | PASS | SKIPPED | +-------------------------------+--------------------+------------------+-------------------+ | openSUSE Leap 15.6 | PASS | SKIPPED | SKIPPED | +-------------------------------+--------------------+------------------+-------------------+ | Red Hat Enterprise Linux 8.10 | PASS | SKIPPED | SKIPPED | +-------------------------------+--------------------+------------------+-------------------+ | Red Hat Enterprise Linux 9.5 | PASS | SKIPPED | SKIPPED | +-------------------------------+--------------------+------------------+-------------------+ | Ubuntu 22.04 | PASS | SKIPPED | SKIPPED | +-------------------------------+--------------------+------------------+-------------------+ | Ubuntu 24.04 | PASS | PASS | SKIPPED | +-------------------------------+--------------------+------------------+-------------------+ | Alpine Linux 3.22.0 | PASS | SKIPPED | SKIPPED | +-------------------------------+--------------------+------------------+-------------------+ | Windows Server 2022 | SKIPPED | SKIPPED | PASS | +-------------------------------+--------------------+------------------+-------------------+ Ubuntu 20.04 Kernel: 4.19 Compiler: gcc gcc (Ubuntu 9.4.0-1ubuntu1~20.04.2) 9.4.0 FreeBSD 14.2 Kernel: 14.2-RELEASE Compiler: clang 18.1.6 CentOS Stream 9 Kernel: 5.15 Compiler: gcc gcc (GCC) 11.5.0 20240719 (Red Hat 11.5.0-11) CentOS Stream 10 Kernel: 5.15 Compiler: gcc gcc (GCC) 14.2.1 20250110 (Red Hat 14.2.1-8) Debian GNU/Linux 12 Kernel: 5.15 Compiler: gcc gcc (Debian 12.2.0-14+deb12u1) 12.2.0 Fedora Linux 42 Kernel: 5.15 Compiler: clang gcc (GCC) 15.2.1 20250808 (Red Hat 15.2.1-1) openSUSE Leap 15.6 Kernel: 5.15 Compiler: gcc gcc (SUSE Linux) 7.5.0 Red Hat Enterprise Linux 8.10 Kernel: 5.15 Compiler: gcc gcc (GCC) 8.5.0 20210514 (Red Hat 8.5.0-22) Red Hat Enterprise Linux 9.5 Kernel: 5.15 Compiler: gcc gcc (GCC) 11.5.0 20240719 (Red Hat 11.5.0-2) Ubuntu 22.04 Kernel: 5.15 Compiler: gcc gcc (Ubuntu 11.4.0-1ubuntu1~22.04) 11.4.0 Ubuntu 24.04 Kernel: 5.15 Compiler: gcc gcc (Ubuntu 13.3.0-6ubuntu2~24.04) 13.3.0 Alpine Linux 3.22.0 Kernel: 5.15 Compiler: gcc gcc (Alpine 14.2.0) 14.2.0 Windows Server 2022 Kernel: 10.0.20348.2031 Compiler: clang 15.0.7, gcc 14.1.0 (MinGW), and MSVC VS 19.39.33521 To view detailed results, visit: https://lab.dpdk.org/results/dashboard/patchsets/34562/ UNH-IOL DPDK Community Lab To manage your email subscriptions, visit: https://lab.dpdk.org/results/dashboard/preferences/subscriptions/