From mboxrd@z Thu Jan 1 00:00:00 1970 Return-Path: Received: from mails.dpdk.org (mails.dpdk.org [217.70.189.124]) by inbox.dpdk.org (Postfix) with ESMTP id 225EA48AFE for ; Fri, 14 Nov 2025 01:06:47 +0100 (CET) Received: from mails.dpdk.org (localhost [127.0.0.1]) by mails.dpdk.org (Postfix) with ESMTP id 1D41640151; Fri, 14 Nov 2025 01:06:47 +0100 (CET) Received: from mail-pj1-f100.google.com (mail-pj1-f100.google.com [209.85.216.100]) by mails.dpdk.org (Postfix) with ESMTP id 664BD40151 for ; Fri, 14 Nov 2025 01:06:45 +0100 (CET) Received: by mail-pj1-f100.google.com with SMTP id 98e67ed59e1d1-343dd5aa6e7so1587442a91.0 for ; Thu, 13 Nov 2025 16:06:45 -0800 (PST) DKIM-Signature: v=1; a=rsa-sha256; c=relaxed/relaxed; d=iol.unh.edu; s=unh-iol; t=1763078804; x=1763683604; darn=dpdk.org; h=references:in-reply-to:cc:to:from:subject:message-id:date:from:to :cc:subject:date:message-id:reply-to; bh=Vf8u8jBtMXNMwXKC0BZc4ceK8vfTKL2IpLXsbix/Rwo=; b=GeVU5b5IEpqaY73htxmOXQ8Z1ZNSjm8qU7C4ZsQtJHFgxg2UnnvNRFgBk+KQN1+dHm WrO1ooxegkt6HrZ1A+/mEhSXDXnmX/ZDo9BJD/rK/moTFyVIwuvJ12ZloYQ/k/GQ759S oV5EfQa9QGjre8Qx9eP/rnBO3eSFYjdJxL0QA= X-Google-DKIM-Signature: v=1; a=rsa-sha256; c=relaxed/relaxed; d=1e100.net; s=20230601; t=1763078804; x=1763683604; h=references:in-reply-to:cc:to:from:subject:message-id:date:x-gm-gg :x-gm-message-state:from:to:cc:subject:date:message-id:reply-to; bh=Vf8u8jBtMXNMwXKC0BZc4ceK8vfTKL2IpLXsbix/Rwo=; b=GtkEHeTNCN6dPHn0n460Pl0gkEXAZt5ZtfwKnXqtnUQ3Z/GDA1wD0HxvnhIlRlefzC PtFZB5q5/VyA5QIx0ggunEWzKOhxvvFXQDEOjFVhg+WV2tIK1HCu0h4HslOtLj5gNWDr T2jtKyFz9Zmy45XHu5BOoNb5CIFYZDLuWwWiy2NcTqENZa+5p1+WVeiBRKs9hKeKeyAT LdxwppI98Fe/kZovp+T73nr1KLWZf2ok6fhUUE/YJO4w2HkhHa302DrbZ37hd1j03zVP yUOiFHMFwrbAKGwSyFCojpoLq7pj3TIIqGdQCvRZoenHew1mjrjdoZZsgOPjAdp9jwj9 b1aw== X-Gm-Message-State: AOJu0Yz1zN46+ztksm4s5zoGv1Jx9vDX0DGN2SV8McJhlpOerAlxmlMP GaHIlf/1EuS6gVYvE8bvkJia9/lgTEF69VG6FJYBqw65XK4jnIl19VE5/6YPT2Gw9+Z73faYw44 IyzUd2mUT1ERFB2/oZ3vZT8rBGwvy28CFp4Uu71nLt6ug4uQPRLg0Lw/Er3Hh X-Gm-Gg: ASbGncv3bjNfv89cpmk6lyRSAt9pMwQZNZRudPFDspss+0SwGM80rbKJv3Mi3prsWD+ 2Nf9XMUN1/6b5I9ueMhifKv2FFVah3WKQfesEcbBhKsXyrrOWo8atzw+k9O9nNBDDASZkfvQu7X HuXhfhYJbxsqMkp7C0MtgPPvvuf9In2Aw4JTy1O6UmGIr3v0W/NMQPa3d0KqTqUoGSAIPdXPWbM UoyGkgsK0fqOTDgP84LtM9suA2n0sVJpx1C6ubvlIRWNkS8EQxCNUV96YHmXqEvFVwDIpYCrHfb QgntBPMjcHRs8sWExUM2R8Lrbr6+V9aSo8WXjOYZAsaafg2r11oAKnLqQ2PS+bB88/6JmqX++sV 8eap5JFTZ X-Google-Smtp-Source: AGHT+IH0FuDeaamTChFdzYfi0ph6TFp9pB1ZjImFLlwccOYGCx/qsi32Nqm2ygB5FWRw4CtrJXc0uximdyEa X-Received: by 2002:a17:903:3b8e:b0:295:32ea:4ce5 with SMTP id d9443c01a7336-2986a6bd29emr9126715ad.6.1763078804654; Thu, 13 Nov 2025 16:06:44 -0800 (PST) Received: from postal.iol.unh.edu (postal.iol.unh.edu. [2606:4100:3880:1234::84]) by smtp-relay.gmail.com with ESMTPS id d9443c01a7336-2985c234f47sm3663005ad.7.2025.11.13.16.06.44 (version=TLS1_2 cipher=ECDHE-ECDSA-AES128-GCM-SHA256 bits=128/128); Thu, 13 Nov 2025 16:06:44 -0800 (PST) X-Relaying-Domain: iol.unh.edu Date: Thu, 13 Nov 2025 16:06:44 -0800 (PST) Message-ID: <69167294.170a0220.9fb76.15bdSMTPIN_ADDED_MISSING@mx.google.com> Received: from [172.21.0.6] (unknown [172.18.0.240]) by postal.iol.unh.edu (Postfix) with ESMTP id 2920C6051830; Thu, 13 Nov 2025 19:06:44 -0500 (EST) Subject: |SUCCESS| pw158739-158743 [PATCH] [v2,5/5] bus/fslmc: add support fo From: dpdklab@iol.unh.edu To: Test Report Cc: dpdk-test-reports@iol.unh.edu, Stephen Hemminger In-Reply-To: <20251113052931.1784953-5-hemant.agrawal@nxp.com> References: <20251113052931.1784953-5-hemant.agrawal@nxp.com> Content-Type: text/plain X-BeenThere: test-report@dpdk.org X-Mailman-Version: 2.1.29 Precedence: list List-Id: automatic DPDK test reports List-Unsubscribe: , List-Archive: List-Post: List-Help: List-Subscribe: , Errors-To: test-report-bounces@dpdk.org Test-Label: iol-compile-arm64-testing Test-Status: SUCCESS http://dpdk.org/patch/158743 _Testing PASS_ Submitter: Hemant Agrawal Date: Thursday, November 13 2025 05:29:31 DPDK git baseline: Repo:dpdk-next-net Branch: master CommitID:29807269854f9bfc72f1323273de8e23adc724d4 158739-158743 --> testing pass Upstream job id: Generic-DPDK-Compile-Meson#443752 Test environment and result as below: +------------------------------+--------------------+ | Environment | dpdk_meson_compile | +==============================+====================+ | Red Hat Enterprise Linux 9.5 | PASS | +------------------------------+--------------------+ | Ubuntu 20.04 | PASS | +------------------------------+--------------------+ | Debian GNU/Linux 12 | PASS | +------------------------------+--------------------+ | Fedora Linux 42 | PASS | +------------------------------+--------------------+ | Ubuntu 22.04 | PASS | +------------------------------+--------------------+ | Ubuntu 24.04 | PASS | +------------------------------+--------------------+ | CentOS Stream 9 | PASS | +------------------------------+--------------------+ | CentOS Stream 10 | PASS | +------------------------------+--------------------+ Red Hat Enterprise Linux 9.5 Kernel: 5.4 Compiler: gcc gcc (GCC) 11.5.0 20240719 (Red Hat 11.5.0-2) Ubuntu 20.04 Kernel: 5.15 Compiler: aarch64-linux-gnu-gcc gcc (Ubuntu 9.4.0-1ubuntu1~20.04.2) 9.4.0 Debian GNU/Linux 12 Kernel: 5.4 Compiler: gcc gcc (Debian 12.2.0-14+deb12u1) 12.2.0 Fedora Linux 42 Kernel: 5.4 Compiler: gcc gcc (GCC) 15.2.1 20250808 (Red Hat 15.2.1-1) Ubuntu 22.04 Kernel: 5.4 Compiler: gcc gcc (Ubuntu 11.4.0-1ubuntu1~22.04) 11.4.0 Ubuntu 24.04 Kernel: 5.4 Compiler: gcc gcc (Ubuntu 13.3.0-6ubuntu2~24.04) 13.3.0 CentOS Stream 9 Kernel: 5.4 Compiler: gcc gcc (GCC) 11.5.0 20240719 (Red Hat 11.5.0-11) CentOS Stream 10 Kernel: 5.4 Compiler: gcc gcc (GCC) 14.2.1 20250110 (Red Hat 14.2.1-8) To view detailed results, visit: https://lab.dpdk.org/results/dashboard/patchsets/34563/ UNH-IOL DPDK Community Lab To manage your email subscriptions, visit: https://lab.dpdk.org/results/dashboard/preferences/subscriptions/