From mboxrd@z Thu Jan 1 00:00:00 1970 Return-Path: Received: from mails.dpdk.org (mails.dpdk.org [217.70.189.124]) by inbox.dpdk.org (Postfix) with ESMTP id 6847248AFE for ; Fri, 14 Nov 2025 01:08:54 +0100 (CET) Received: from mails.dpdk.org (localhost [127.0.0.1]) by mails.dpdk.org (Postfix) with ESMTP id 483F740151; Fri, 14 Nov 2025 01:08:54 +0100 (CET) Received: from mail-pj1-f97.google.com (mail-pj1-f97.google.com [209.85.216.97]) by mails.dpdk.org (Postfix) with ESMTP id C67F840151 for ; Fri, 14 Nov 2025 01:08:52 +0100 (CET) Received: by mail-pj1-f97.google.com with SMTP id 98e67ed59e1d1-3418ac74bffso1075798a91.1 for ; Thu, 13 Nov 2025 16:08:52 -0800 (PST) DKIM-Signature: v=1; a=rsa-sha256; c=relaxed/relaxed; d=iol.unh.edu; s=unh-iol; t=1763078932; x=1763683732; darn=dpdk.org; h=references:in-reply-to:cc:to:from:subject:message-id:date:from:to :cc:subject:date:message-id:reply-to; bh=B5SN3S9YwXWMY0XypKM53//W3BaPNXUutAd4/WTC/xQ=; b=buwzare4PTQlbJfAlmJ9U51CVjjyNLOvJQWdHsAiZZbUTjMdPxQeXIU8mx9f4/HA/k jIQtvai1WcFGorawCoYHCsAJCduEBG4AyTRvucpVgYdPC/yzPfgICco/1euLlDBIFyyn vkt7Xrvp1fOEx16IZR49+eOWjdGa4oz81GfzY= X-Google-DKIM-Signature: v=1; a=rsa-sha256; c=relaxed/relaxed; d=1e100.net; s=20230601; t=1763078932; x=1763683732; h=references:in-reply-to:cc:to:from:subject:message-id:date:x-gm-gg :x-gm-message-state:from:to:cc:subject:date:message-id:reply-to; bh=B5SN3S9YwXWMY0XypKM53//W3BaPNXUutAd4/WTC/xQ=; b=kyk2zt4iq+8P/LrWhg8/jDSxJsbRy99LhjuJv0lQoztQdU3yOUSNru6gj3rcVCLfvo PEx4omq55fupvLLZ+it4kj6Jdzl7JwOqhbncCPtTm3BFzayzJlhu+yvvDOxt6UZlLJIO sjSct+zXelScSGXtHRJbugz7wk6nKM4S2kKYm4WDiktwHW+vddDzpx+IDptF9O5pv0B5 BPYar1Qea5QumePbhGCUPx3mH8NK8D777DwcioZwGomhdoBYcIHtjlDvb5xLQvz6FcKX hZASMe7J93HL4bC7B3vj7jjCcwefva4Pb9BGJxlp73dVquRMKb1lzTpb4BWBAPSNMZ52 tA7w== X-Gm-Message-State: AOJu0YwnmpHCirVx87pjQj+Sq7ue5SZ9kU7xh+asjh0XdnWyw8Ss1F8k K+bA1ktEYJ1wXGQlhXoleRXhEQuKi4ZSoVyDdtfpJrHTkY74FhiDhFi4gz/g8HyEUwReVCsuBg7 GuUYhVPIbJWgw1KkVxGbNZW8anhUeIOKKrWjaJ/yiux8G X-Gm-Gg: ASbGncvSe72wtRdBT1ELmYw2JYvpyxnn7iKIOR1eeaMaxMiY6F01rYf1eiMvJNnk/A4 gN1mWUpIVEqVe9EVsjSaeVqy2EwtXgQW7SZW8fcPYvTmg8hDnfERwjCGLaPu0TcYJogXkeA/8jp 6q6XKuYfYvYuY3rGidf3ZcjmuVfb6jCP6Ur1HGh8xvCX5GSwPfvEmIZYy0/RyMVPZrMYH02/el4 Keg2v/aUcO/BkEfm8qTKmDkquHKc7A2hOBpGKLkFAKGU6J76Xon44xyWpc7eqn+Up2Xt21+FPye piWO9QlafxpAuXO9aQ2MXPWrOrkEnIm3k0OSgMWj6+/897/LJlpBnuwPDVuIvzSX7JHvzJaT9DY h+ONmMCBmqgdE/Jst3Y+ietoVZJlRUn0= X-Google-Smtp-Source: AGHT+IGicrABcQoIUP365mOlqkhkc916aCz85rWU3beiPH6Y/wD0MvNAQzIP2QGcgg7e8vk2elCxqNfElNtY X-Received: by 2002:a17:90b:2f88:b0:33d:a0fd:257b with SMTP id 98e67ed59e1d1-343fa76159cmr1138480a91.36.1763078931873; Thu, 13 Nov 2025 16:08:51 -0800 (PST) Received: from postal.iol.unh.edu (postal.iol.unh.edu. [132.177.123.84]) by smtp-relay.gmail.com with ESMTPS id 98e67ed59e1d1-343ed58c5absm401845a91.7.2025.11.13.16.08.51 (version=TLS1_2 cipher=ECDHE-ECDSA-AES128-GCM-SHA256 bits=128/128); Thu, 13 Nov 2025 16:08:51 -0800 (PST) X-Relaying-Domain: iol.unh.edu Date: Thu, 13 Nov 2025 16:08:51 -0800 (PST) Message-ID: <69167313.170a0220.2c42d3.2e13SMTPIN_ADDED_MISSING@mx.google.com> Received: from [172.21.0.4] (unknown [172.18.0.240]) by postal.iol.unh.edu (Postfix) with ESMTP id 839E66051830; Thu, 13 Nov 2025 19:08:50 -0500 (EST) Subject: |SUCCESS| pw158745 [PATCH] [v3] net/ice: fix statistics read error From: dpdklab@iol.unh.edu To: Test Report Cc: dpdk-test-reports@iol.unh.edu, Bruce Richardson In-Reply-To: <20251113074710.8251-1-zhichaox.zeng@intel.com> References: <20251113074710.8251-1-zhichaox.zeng@intel.com> Content-Type: text/plain X-BeenThere: test-report@dpdk.org X-Mailman-Version: 2.1.29 Precedence: list List-Id: automatic DPDK test reports List-Unsubscribe: , List-Archive: List-Post: List-Help: List-Subscribe: , Errors-To: test-report-bounces@dpdk.org Test-Label: iol-compile-arm64-testing Test-Status: SUCCESS http://dpdk.org/patch/158745 _Testing PASS_ Submitter: Zhichao Zeng Date: Thursday, November 13 2025 07:47:10 DPDK git baseline: Repo:dpdk-next-net-intel Branch: master CommitID:c63646d076330fb2ef3282cbd413aaf93f0509e6 158745 --> testing pass Upstream job id: Generic-DPDK-Compile-Meson#443812 Test environment and result as below: +------------------------------+--------------------+ | Environment | dpdk_meson_compile | +==============================+====================+ | Red Hat Enterprise Linux 9.5 | PASS | +------------------------------+--------------------+ | Ubuntu 20.04 | PASS | +------------------------------+--------------------+ | Debian GNU/Linux 12 | PASS | +------------------------------+--------------------+ | Fedora Linux 42 | PASS | +------------------------------+--------------------+ | Ubuntu 22.04 | PASS | +------------------------------+--------------------+ | Ubuntu 24.04 | PASS | +------------------------------+--------------------+ | CentOS Stream 9 | PASS | +------------------------------+--------------------+ | CentOS Stream 10 | PASS | +------------------------------+--------------------+ Red Hat Enterprise Linux 9.5 Kernel: 5.4 Compiler: gcc gcc (GCC) 11.5.0 20240719 (Red Hat 11.5.0-2) Ubuntu 20.04 Kernel: 5.15 Compiler: aarch64-linux-gnu-gcc gcc (Ubuntu 9.4.0-1ubuntu1~20.04.2) 9.4.0 Debian GNU/Linux 12 Kernel: 5.4 Compiler: gcc gcc (Debian 12.2.0-14+deb12u1) 12.2.0 Fedora Linux 42 Kernel: 5.4 Compiler: gcc gcc (GCC) 15.2.1 20250808 (Red Hat 15.2.1-1) Ubuntu 22.04 Kernel: 5.4 Compiler: gcc gcc (Ubuntu 11.4.0-1ubuntu1~22.04) 11.4.0 Ubuntu 24.04 Kernel: 5.4 Compiler: gcc gcc (Ubuntu 13.3.0-6ubuntu2~24.04) 13.3.0 CentOS Stream 9 Kernel: 5.4 Compiler: gcc gcc (GCC) 11.5.0 20240719 (Red Hat 11.5.0-11) CentOS Stream 10 Kernel: 5.4 Compiler: gcc gcc (GCC) 14.2.1 20250110 (Red Hat 14.2.1-8) To view detailed results, visit: https://lab.dpdk.org/results/dashboard/patchsets/34565/ UNH-IOL DPDK Community Lab To manage your email subscriptions, visit: https://lab.dpdk.org/results/dashboard/preferences/subscriptions/