From mboxrd@z Thu Jan 1 00:00:00 1970 Return-Path: Received: from mails.dpdk.org (mails.dpdk.org [217.70.189.124]) by inbox.dpdk.org (Postfix) with ESMTP id 598FF48AFE for ; Fri, 14 Nov 2025 01:09:05 +0100 (CET) Received: from mails.dpdk.org (localhost [127.0.0.1]) by mails.dpdk.org (Postfix) with ESMTP id 54AE140151; Fri, 14 Nov 2025 01:09:05 +0100 (CET) Received: from mail-yx1-f100.google.com (mail-yx1-f100.google.com [74.125.224.100]) by mails.dpdk.org (Postfix) with ESMTP id 7A9F040151 for ; Fri, 14 Nov 2025 01:09:04 +0100 (CET) Received: by mail-yx1-f100.google.com with SMTP id 956f58d0204a3-64107188baeso1318368d50.3 for ; Thu, 13 Nov 2025 16:09:04 -0800 (PST) DKIM-Signature: v=1; a=rsa-sha256; c=relaxed/relaxed; d=iol.unh.edu; s=unh-iol; t=1763078944; x=1763683744; darn=dpdk.org; h=references:in-reply-to:cc:to:from:subject:message-id:date:from:to :cc:subject:date:message-id:reply-to; bh=xmod82tuXJORNwfSINQNv7YE+P8ItKX6C7pe0WC6DRA=; b=EHR3PtHsXg489ufk3HP567jc3b6jHfOSPgg1G0hQm/G5T8VvEEindoN6QT4UXFyhiY mGoyBQHbZADVXWG9eUlXPblhWFt2V9OcJt5JBFUchwmeHg4jcUn0uBG8+JG1RdRcrAxq UUsdrRAyRggALTv+sxx4GZLHDvpMlZ/GxCdeY= X-Google-DKIM-Signature: v=1; a=rsa-sha256; c=relaxed/relaxed; d=1e100.net; s=20230601; t=1763078944; x=1763683744; h=references:in-reply-to:cc:to:from:subject:message-id:date:x-gm-gg :x-gm-message-state:from:to:cc:subject:date:message-id:reply-to; bh=xmod82tuXJORNwfSINQNv7YE+P8ItKX6C7pe0WC6DRA=; b=AqSU/bEIsEA+/TTUaAMU7zRQTFtyOtANqWiztOIqjNQMuQOEkVs6Af5qB3evS8nH8h hytQ76+dFzlfB4zC12vf92gd9T68GAObCM0CDKPaBDYwWoko1fyp0P6Gqn5vIffiArjr s8K968RUYen+JjNJ51yKZk/lFcX640I7sAnhFX0SVRk2TVgojPe9V2Ir45Ra1GHeIx3M toyvyS1IvW3eYG8Y9JL6yczShZihfxv1TIhy2lGWktMFH51MrWeTJPi0LMsnfKxrkkCh scRtV8vRvTUN+IuDG+7wNWwrUCowUWMsQsQDl8rIA/uZKp/EQ3hUa2j4Gm85w/34XymO M+ug== X-Gm-Message-State: AOJu0YyfV5wCi6U1YR+iWEGmaOIADf2je/Ej+pgSjOSyw7MJmLSVHzt/ cHv4UGO4FEDhXYSWI2BonIiow2Xa1ENg3MK2SUoHoDMmIykfREFoiHgygwhEDPQ2zB+I08wGyG1 o88F0gEUWQQvRpEgGIfOns3Rc4w4EvvYchdRXygR5wsEt X-Gm-Gg: ASbGnctIg2Li+49bwtBGvjONA8UqjhCACeJ7+/ta0q78BSv/o8USGh3OtGeY1iDYbH1 VrwX11PCGc8M3LGVTsJpLoDRNE105aQ9+y7NHLNy+nuh8l+0W91oNJslJIB+uxdpk3Xj6dN5QJY ykJ+34mHCBS9jIpwsT5DTgn2oobw3DK62wdDbUaslNhw8NlGPh1GEeHefnHT/2ckyD5RwKn6C9P Xw46Ul+3Fsg+CcxfLQOOrneL3ScM3MVg/hVDDfuD3jryUlBk/1oPis7k87hG2P/DX5HCl/kPMaY UDvgCF16f1Q7qUgkcP6fKR3Wp8/Tpwni47N+7df7UR//hGPlTfkusBKrtgsQ57NSborbw9mCp4V NpANPA4BrJFfhwN99YwarOfO8rtTw4ds= X-Google-Smtp-Source: AGHT+IEDd0ZzuDgG7Svsiy1bvg4VqX/xydvKDTio1w1rDmqznGU//Uag4tOXhv0qTf+K3Jo88Bv+8unD4MGC X-Received: by 2002:a05:690e:1586:10b0:640:d092:6489 with SMTP id 956f58d0204a3-641e7646c85mr973608d50.45.1763078943811; Thu, 13 Nov 2025 16:09:03 -0800 (PST) Received: from postal.iol.unh.edu (postal.iol.unh.edu. [132.177.123.84]) by smtp-relay.gmail.com with ESMTPS id 00721157ae682-78821fe84a6sm2195627b3.31.2025.11.13.16.09.03 (version=TLS1_2 cipher=ECDHE-ECDSA-AES128-GCM-SHA256 bits=128/128); Thu, 13 Nov 2025 16:09:03 -0800 (PST) X-Relaying-Domain: iol.unh.edu Date: Thu, 13 Nov 2025 16:09:03 -0800 (PST) Message-ID: <6916731f.050a0220.12ebdc.ab12SMTPIN_ADDED_MISSING@mx.google.com> Received: from [172.21.0.2] (unknown [172.18.0.240]) by postal.iol.unh.edu (Postfix) with ESMTP id 7E97C6051830; Thu, 13 Nov 2025 19:09:03 -0500 (EST) Subject: |SUCCESS| pw158746 [PATCH] app/proc-info: allow overriding defaults From: dpdklab@iol.unh.edu To: Test Report Cc: dpdk-test-reports@iol.unh.edu In-Reply-To: <20251112130326.2674728-1-mprajapat@marvell.com> References: <20251112130326.2674728-1-mprajapat@marvell.com> Content-Type: text/plain X-BeenThere: test-report@dpdk.org X-Mailman-Version: 2.1.29 Precedence: list List-Id: automatic DPDK test reports List-Unsubscribe: , List-Archive: List-Post: List-Help: List-Subscribe: , Errors-To: test-report-bounces@dpdk.org Test-Label: iol-compile-arm64-testing Test-Status: SUCCESS http://dpdk.org/patch/158746 _Testing PASS_ Submitter: Mohit Kumar Parjapat Date: Wednesday, November 12 2025 13:03:13 DPDK git baseline: Repo:dpdk Branch: master CommitID:be0112878b4fc3a1b918370ed2fe615c52039d77 158746 --> testing pass Upstream job id: Generic-DPDK-Compile-Meson#443842 Test environment and result as below: +------------------------------+--------------------+ | Environment | dpdk_meson_compile | +==============================+====================+ | Red Hat Enterprise Linux 9.5 | PASS | +------------------------------+--------------------+ | Ubuntu 20.04 | PASS | +------------------------------+--------------------+ | Debian GNU/Linux 12 | PASS | +------------------------------+--------------------+ | Fedora Linux 42 | PASS | +------------------------------+--------------------+ | Ubuntu 22.04 | PASS | +------------------------------+--------------------+ | Ubuntu 24.04 | PASS | +------------------------------+--------------------+ | CentOS Stream 9 | PASS | +------------------------------+--------------------+ | CentOS Stream 10 | PASS | +------------------------------+--------------------+ Red Hat Enterprise Linux 9.5 Kernel: 5.4 Compiler: gcc gcc (GCC) 11.5.0 20240719 (Red Hat 11.5.0-2) Ubuntu 20.04 Kernel: 5.15 Compiler: aarch64-linux-gnu-gcc gcc (Ubuntu 9.4.0-1ubuntu1~20.04.2) 9.4.0 Debian GNU/Linux 12 Kernel: 5.4 Compiler: gcc gcc (Debian 12.2.0-14+deb12u1) 12.2.0 Fedora Linux 42 Kernel: 5.4 Compiler: gcc gcc (GCC) 15.2.1 20250808 (Red Hat 15.2.1-1) Ubuntu 22.04 Kernel: 5.4 Compiler: gcc gcc (Ubuntu 11.4.0-1ubuntu1~22.04) 11.4.0 Ubuntu 24.04 Kernel: 5.4 Compiler: gcc gcc (Ubuntu 13.3.0-6ubuntu2~24.04) 13.3.0 CentOS Stream 9 Kernel: 5.4 Compiler: gcc gcc (GCC) 11.5.0 20240719 (Red Hat 11.5.0-11) CentOS Stream 10 Kernel: 5.4 Compiler: gcc gcc (GCC) 14.2.1 20250110 (Red Hat 14.2.1-8) To view detailed results, visit: https://lab.dpdk.org/results/dashboard/patchsets/34566/ UNH-IOL DPDK Community Lab To manage your email subscriptions, visit: https://lab.dpdk.org/results/dashboard/preferences/subscriptions/