From mboxrd@z Thu Jan 1 00:00:00 1970 Return-Path: Received: from mails.dpdk.org (mails.dpdk.org [217.70.189.124]) by inbox.dpdk.org (Postfix) with ESMTP id 1A59E48AFE for ; Fri, 14 Nov 2025 01:16:04 +0100 (CET) Received: from mails.dpdk.org (localhost [127.0.0.1]) by mails.dpdk.org (Postfix) with ESMTP id E2B1E40151; Fri, 14 Nov 2025 01:16:03 +0100 (CET) Received: from mail-qv1-f99.google.com (mail-qv1-f99.google.com [209.85.219.99]) by mails.dpdk.org (Postfix) with ESMTP id 57C1340151 for ; Fri, 14 Nov 2025 01:16:03 +0100 (CET) Received: by mail-qv1-f99.google.com with SMTP id 6a1803df08f44-880576ebe38so13924566d6.2 for ; Thu, 13 Nov 2025 16:16:03 -0800 (PST) DKIM-Signature: v=1; a=rsa-sha256; c=relaxed/relaxed; d=iol.unh.edu; s=unh-iol; t=1763079362; x=1763684162; darn=dpdk.org; h=references:in-reply-to:cc:to:from:subject:message-id:date:from:to :cc:subject:date:message-id:reply-to; bh=/upOJ9XmE+OdF4o2I/pBwnmSxA+EdwNJgQwRjKhp7N8=; b=NYy0IQUdrL/wG1EZa+2QwY9ddotCBkTBT28aV8ec8CXIx+1OPnYzDRt0d3iUWEkswB KAMIfZstVrGizK7OWUhiXDP/yh3gbRBN7KqMLabMoWvra+ezFYshU8d+Ej0qAt81lXwC YReBnBQ4nBvWk23g6TOS00QdzIu6o5p0VCh94= X-Google-DKIM-Signature: v=1; a=rsa-sha256; c=relaxed/relaxed; d=1e100.net; s=20230601; t=1763079362; x=1763684162; h=references:in-reply-to:cc:to:from:subject:message-id:date:x-gm-gg :x-gm-message-state:from:to:cc:subject:date:message-id:reply-to; bh=/upOJ9XmE+OdF4o2I/pBwnmSxA+EdwNJgQwRjKhp7N8=; b=K+KPLkCC4D493emuMEISLBza5P+tiAq0wjDM6wkuFbePGovxHx2cesxcsNqoTgyPHV EM+vinEAtlJoAGwi/fCV3IDS0MEKohkQnShLIj9RVOmUZ7X9wT76hYxM1SRzo0vKUvmg n8Fpx26T68NLKbqYt/s8+kAMWsmW/Gnu3/BYaMDB5QSMJu6KK3E5wMp8PrFUNgLg0KYd Hjvp/l2P4xRkYzNXVJzDBh1sBxPTElAMNzpKo2Hfx3htDNp0aZE7gDSd2HjrXJIZ1c0B kFa7yte6dJHKup1j9jqEypqPs/k6uFqJh2kN820qDWA2oJePorvDG8e2eRw6S2UmRJ2y t2FA== X-Gm-Message-State: AOJu0YytaZI3chsCx6SyegrAV98ma5PaRTJjYRlMJNdEbbbs9jjsky3/ jOUEp0yV9ABsE0yIF2hVT8HqcQyZreWDajCuKNpzPzL7CPhsfWgPkQMzWaTzuBDhnmE+Fci2Xy8 Yfvi3p9Dvc+2NR8bEW7fqOQacqehL3ZkEk7AXm5ygUB78Q62ZSh1EFG+EATD9 X-Gm-Gg: ASbGncs/irlwNVT8iT1k7LdPhH8Yx1E8i+ERanJAA/6cDqUlA3DES9PAhCHi4fYumcK TsF0MshuZpV6E8Si+9d/vSk7Od08o7Q+qiXUgGVtELEjk4VNdyuw2mPmXcwJsCyzpX1S/iUkM6Y hxXGQqw3P8pl8SUxhrVtoZqDstzEn58z5t87j3b0xxwo8xJp4LuKHTqe10HQGQzqcuRFIx0VnzB 1My+d32ej+c5W/Dbx3V3G1GFHCTv3ngaXfl5RRYZxTF1Q8kZTgNopCv3DFY+0kw/gJeRj+eHLtT jri4VQqwdiyrWZDeZM8KG4/DVOVZQlJdvlcy3vxyIUi/7Tiwg9MK6h//2lqIr2jUhc4uMTTn/kj ol65Vf51z X-Google-Smtp-Source: AGHT+IEJ3Az82tKQ31SUq0Kl/U+sFIwo91KBxHH481jR05rBq6RwryuEBvVkda5aa4Z+lvg3i7khBPMaUoyM X-Received: by 2002:a05:6214:e48:b0:882:3781:e29d with SMTP id 6a1803df08f44-8829258ed06mr16053256d6.10.1763079362663; Thu, 13 Nov 2025 16:16:02 -0800 (PST) Received: from postal.iol.unh.edu (postal.iol.unh.edu. [2606:4100:3880:1234::84]) by smtp-relay.gmail.com with ESMTPS id 6a1803df08f44-882862feb39sm3737986d6.12.2025.11.13.16.16.02 (version=TLS1_2 cipher=ECDHE-ECDSA-AES128-GCM-SHA256 bits=128/128); Thu, 13 Nov 2025 16:16:02 -0800 (PST) X-Relaying-Domain: iol.unh.edu Date: Thu, 13 Nov 2025 16:16:02 -0800 (PST) Message-ID: <691674c2.050a0220.26000d.14c5SMTPIN_ADDED_MISSING@mx.google.com> Received: from [172.21.0.2] (unknown [172.18.0.240]) by postal.iol.unh.edu (Postfix) with ESMTP id 5954B6051830; Thu, 13 Nov 2025 19:16:02 -0500 (EST) Subject: |SUCCESS| pw158707-158710 [PATCH] [v2,4/4] test: vary size of packet From: dpdklab@iol.unh.edu To: Test Report Cc: dpdk-test-reports@iol.unh.edu In-Reply-To: <20251112181421.285119-5-stephen@networkplumber.org> References: <20251112181421.285119-5-stephen@networkplumber.org> Content-Type: text/plain X-BeenThere: test-report@dpdk.org X-Mailman-Version: 2.1.29 Precedence: list List-Id: automatic DPDK test reports List-Unsubscribe: , List-Archive: List-Post: List-Help: List-Subscribe: , Errors-To: test-report-bounces@dpdk.org Test-Label: iol-unit-amd64-testing Test-Status: SUCCESS http://dpdk.org/patch/158710 _Testing PASS_ Submitter: Stephen Hemminger Date: Wednesday, November 12 2025 18:12:50 DPDK git baseline: Repo:dpdk Branch: master CommitID:be0112878b4fc3a1b918370ed2fe615c52039d77 158707-158710 --> testing pass Upstream job id: Generic-VM-Unit-Test-DPDK#32503 Test environment and result as below: +-------------------------------+----------------+ | Environment | dpdk_unit_test | +===============================+================+ | Fedora Linux 40 | PASS | +-------------------------------+----------------+ | CentOS Stream 9 | PASS | +-------------------------------+----------------+ | Fedora Linux 41 | PASS | +-------------------------------+----------------+ | CentOS Stream 10 | PASS | +-------------------------------+----------------+ | Debian GNU/Linux 12 | PASS | +-------------------------------+----------------+ | Fedora Linux 42 | PASS | +-------------------------------+----------------+ | Ubuntu 22.04 | PASS | +-------------------------------+----------------+ | Red Hat Enterprise Linux 8.10 | PASS | +-------------------------------+----------------+ | Ubuntu 24.04 | PASS | +-------------------------------+----------------+ | Ubuntu 20.04 | PASS | +-------------------------------+----------------+ | Red Hat Enterprise Linux 9.5 | PASS | +-------------------------------+----------------+ | Windows Server 2022 | PASS | +-------------------------------+----------------+ Fedora Linux 40 Kernel: 5.15 Compiler: clang gcc (GCC) 14.2.1 20240912 (Red Hat 14.2.1-3) CentOS Stream 9 Kernel: 5.15 Compiler: gcc gcc (GCC) 11.5.0 20240719 (Red Hat 11.5.0-11) Fedora Linux 41 Kernel: 5.15 Compiler: clang gcc (GCC) 14.3.1 20250523 (Red Hat 14.3.1-1) CentOS Stream 10 Kernel: 5.15 Compiler: gcc gcc (GCC) 14.2.1 20250110 (Red Hat 14.2.1-8) Debian GNU/Linux 12 Kernel: 5.15 Compiler: gcc gcc (Debian 12.2.0-14+deb12u1) 12.2.0 Fedora Linux 42 Kernel: 5.15 Compiler: gcc gcc (GCC) 15.2.1 20250808 (Red Hat 15.2.1-1) Ubuntu 22.04 Kernel: 5.15 Compiler: gcc gcc (Ubuntu 11.4.0-1ubuntu1~22.04) 11.4.0 Red Hat Enterprise Linux 8.10 Kernel: 5.15 Compiler: gcc gcc (GCC) 8.5.0 20210514 (Red Hat 8.5.0-22) Ubuntu 24.04 Kernel: 5.15 Compiler: gcc gcc (Ubuntu 13.3.0-6ubuntu2~24.04) 13.3.0 Ubuntu 20.04 Kernel: 5.15 Compiler: gcc gcc (Ubuntu 9.4.0-1ubuntu1~20.04.2) 9.4.0 Red Hat Enterprise Linux 9.5 Kernel: 5.15 Compiler: gcc gcc (GCC) 11.5.0 20240719 (Red Hat 11.5.0-2) Windows Server 2022 Kernel: 10.0.20348.2031 Compiler: clang 15.0.7, gcc 14.1.0 (MinGW), and MSVC VS 19.39.33521 To view detailed results, visit: https://lab.dpdk.org/results/dashboard/patchsets/34559/ UNH-IOL DPDK Community Lab To manage your email subscriptions, visit: https://lab.dpdk.org/results/dashboard/preferences/subscriptions/