From mboxrd@z Thu Jan 1 00:00:00 1970 Return-Path: Received: from mails.dpdk.org (mails.dpdk.org [217.70.189.124]) by inbox.dpdk.org (Postfix) with ESMTP id ABC9848AFE for ; Fri, 14 Nov 2025 01:22:51 +0100 (CET) Received: from mails.dpdk.org (localhost [127.0.0.1]) by mails.dpdk.org (Postfix) with ESMTP id A511C40151; Fri, 14 Nov 2025 01:22:51 +0100 (CET) Received: from mail-vk1-f227.google.com (mail-vk1-f227.google.com [209.85.221.227]) by mails.dpdk.org (Postfix) with ESMTP id 267FD40151 for ; Fri, 14 Nov 2025 01:22:51 +0100 (CET) Received: by mail-vk1-f227.google.com with SMTP id 71dfb90a1353d-559748bcf99so1064662e0c.3 for ; Thu, 13 Nov 2025 16:22:51 -0800 (PST) DKIM-Signature: v=1; a=rsa-sha256; c=relaxed/relaxed; d=iol.unh.edu; s=unh-iol; t=1763079770; x=1763684570; darn=dpdk.org; h=references:in-reply-to:cc:to:from:subject:message-id:date:from:to :cc:subject:date:message-id:reply-to; bh=qX+ydZ7PXX11TvJQr/+mPgHRaouOvFMoIf5mDXGY6Cc=; b=FPDfGSgv2+31L/fl/8CgkSNrlUZRHU3U8cwQAUSPf3+ODj50LKEjPENMgPiA44O46X 8t4VIiGqPGM0//LKM6ATzqOgYYv5MVmQxAtRBQ/9yJLkBUxlSts2ibdfQFcC8mgwsmQY p276zMUVRDMFU+uzGz/mwycefV7WSoUbxbiyY= X-Google-DKIM-Signature: v=1; a=rsa-sha256; c=relaxed/relaxed; d=1e100.net; s=20230601; t=1763079770; x=1763684570; h=references:in-reply-to:cc:to:from:subject:message-id:date:x-gm-gg :x-gm-message-state:from:to:cc:subject:date:message-id:reply-to; bh=qX+ydZ7PXX11TvJQr/+mPgHRaouOvFMoIf5mDXGY6Cc=; b=uNz6hSTf+dqYYkHlj5zdA/Zsn0MmGUE5r/cw6qb/3FcP4A2c4A/gf4uLibf+pcAryw 0uWVcs4aQ7HPHq1sRr9J5+Pg73u679LSU7kskbDBzrf9pI/ZTJIawH4Eg0O+3ddfgyMO CEN1nMEY++rfbrrxVSbeQnxROY+2/uap1Ot12FAAqRySkBDhlUxf064HWMmDEKBWBKW9 8+RSWAiayI6MuNvQ6wHFzckAT0xCDxKhSi9Hs+Zz9BVBcgonzT8SVogc7EW0oNvWBW8p g36D0Bmr2NRvlodhGj5zkwLMCOll9OLJ6nnnXWB+3Gx1bLGod/KwUJryhCd5/vpi/M9u IsLg== X-Gm-Message-State: AOJu0YyNdywpHJcmA7nmqYafXm/Vox/21wVKBZWrsSXR9wWAKtmxXuO/ lHzfB2FPVOQbnQccrddpL33kWoBqov9VNhmhbYfCSW0beBLxE1/I+/oiWqonoz8NEuHYzEm2Mq8 QvjK0UQqCbKjgO8tUh0aTMd7YV5eJiXbUI/OmrNpQaOrXDR8ZLqNAZfRkus18 X-Gm-Gg: ASbGncu2/fQONoOjoH7SCtYUAtWchVroHqSuWmr2aWd9QxJc6790IjSSPHWRD+HYbwU 2Ez73JVqtbKYtGqZnY3m7oEXlbmzuiwtqiOBSoAWcYVn1kTjn28c7bbJaFuhAZHnrx/MExkvgCu baDUFgZTRf8QIDhotqn/XJDg4pmOmFfle9q0qH2J8E6Q2kdnzwiY/HZ2MqCs2amrHITmvE1OmN/ we9U51fXqOA0uxA6lTJZX4WZClOiXYuOUcW7CRvuJtaRAYam/LGqpTkZxh2t5T03eY0DdAU/1r6 GR7Un8hR0z0uenvknxUL8tNwBNcBXIIm57446mlyv6EpYFXeo2ppRzT+pCl4wTyTub7r3vXlESA aJWRfg3xg X-Google-Smtp-Source: AGHT+IHdHFc1LvMh8rvul7OvLvhVchI24CcHU9os3VOAy0YCurRWgnyuS8lAQOELOHjHkl3dVeIRvQA/9O4B X-Received: by 2002:a05:6122:a24:b0:559:83be:69c5 with SMTP id 71dfb90a1353d-55b1be653c9mr682808e0c.10.1763079770544; Thu, 13 Nov 2025 16:22:50 -0800 (PST) Received: from postal.iol.unh.edu (postal.iol.unh.edu. [2606:4100:3880:1234::84]) by smtp-relay.gmail.com with ESMTPS id 71dfb90a1353d-55b0f3349e3sm393444e0c.2.2025.11.13.16.22.50 (version=TLS1_2 cipher=ECDHE-ECDSA-AES128-GCM-SHA256 bits=128/128); Thu, 13 Nov 2025 16:22:50 -0800 (PST) X-Relaying-Domain: iol.unh.edu Date: Thu, 13 Nov 2025 16:22:50 -0800 (PST) Message-ID: <6916765a.050a0220.1e32c9.2cc0SMTPIN_ADDED_MISSING@mx.google.com> Received: from [172.21.0.2] (unknown [172.18.0.240]) by postal.iol.unh.edu (Postfix) with ESMTP id 3EF556051830; Thu, 13 Nov 2025 19:22:50 -0500 (EST) Subject: |SUCCESS| pw158777-158778 [PATCH] [2/2] net/iavf: check Rx timestamp From: dpdklab@iol.unh.edu To: Test Report Cc: dpdk-test-reports@iol.unh.edu, Bruce Richardson In-Reply-To: <20251113-jk-dpdk-iavf-rx-timestamping-improvements-v1-2-3d9a0168087b@intel.com> References: <20251113-jk-dpdk-iavf-rx-timestamping-improvements-v1-2-3d9a0168087b@intel.com> Content-Type: text/plain X-BeenThere: test-report@dpdk.org X-Mailman-Version: 2.1.29 Precedence: list List-Id: automatic DPDK test reports List-Unsubscribe: , List-Archive: List-Post: List-Help: List-Subscribe: , Errors-To: test-report-bounces@dpdk.org Test-Label: iol-compile-amd64-testing Test-Status: SUCCESS http://dpdk.org/patch/158778 _Testing PASS_ Submitter: Jacob Keller Date: Thursday, November 13 2025 21:33:45 DPDK git baseline: Repo:dpdk-next-net-intel Branch: master CommitID:e5357d609907d504f4705e4899f3dad43cb4b70f 158777-158778 --> testing pass Upstream job id: Generic-DPDK-Compile-Meson#443932 Test environment and result as below: +-------------------------------+--------------------+ | Environment | dpdk_meson_compile | +===============================+====================+ | Ubuntu 20.04 | PASS | +-------------------------------+--------------------+ | FreeBSD 14.2 | PASS | +-------------------------------+--------------------+ | Red Hat Enterprise Linux 8.10 | PASS | +-------------------------------+--------------------+ Ubuntu 20.04 Kernel: 4.19 Compiler: gcc gcc (Ubuntu 9.4.0-1ubuntu1~20.04.2) 9.4.0 FreeBSD 14.2 Kernel: 14.2-RELEASE Compiler: clang 18.1.6 Red Hat Enterprise Linux 8.10 Kernel: 5.15 Compiler: gcc gcc (GCC) 8.5.0 20210514 (Red Hat 8.5.0-22) To view detailed results, visit: https://lab.dpdk.org/results/dashboard/patchsets/34584/ UNH-IOL DPDK Community Lab To manage your email subscriptions, visit: https://lab.dpdk.org/results/dashboard/preferences/subscriptions/