From mboxrd@z Thu Jan 1 00:00:00 1970 Return-Path: Received: from mails.dpdk.org (mails.dpdk.org [217.70.189.124]) by inbox.dpdk.org (Postfix) with ESMTP id 1B8B948AFE for ; Fri, 14 Nov 2025 01:26:25 +0100 (CET) Received: from mails.dpdk.org (localhost [127.0.0.1]) by mails.dpdk.org (Postfix) with ESMTP id F0FB440151; Fri, 14 Nov 2025 01:26:24 +0100 (CET) Received: from mail-yx1-f98.google.com (mail-yx1-f98.google.com [74.125.224.98]) by mails.dpdk.org (Postfix) with ESMTP id 8518740151 for ; Fri, 14 Nov 2025 01:26:23 +0100 (CET) Received: by mail-yx1-f98.google.com with SMTP id 956f58d0204a3-63f96d5038dso1263066d50.1 for ; Thu, 13 Nov 2025 16:26:23 -0800 (PST) DKIM-Signature: v=1; a=rsa-sha256; c=relaxed/relaxed; d=iol.unh.edu; s=unh-iol; t=1763079983; x=1763684783; darn=dpdk.org; h=references:in-reply-to:cc:to:from:subject:message-id:date:from:to :cc:subject:date:message-id:reply-to; bh=nB9wbPz3RDD5im3D+B2ntTnkrz8qDRWlwhsbFXZezyA=; b=QBcWipApBVy0vAdXnvQoN9H4U5Jv9kOzB/H5ClBgbmr3nNTLO/xWfIq8PSMsInVJet ukRDu1o8M+NroRJayQFPb0d2LSZ8rf1yfrkvQL7bD4NvPF9cf3qZihk1X8wKyfxM56jj By/kNkXSEnqmJ7zCgI4AZHrcYxKCtn2O5LGFc= X-Google-DKIM-Signature: v=1; a=rsa-sha256; c=relaxed/relaxed; d=1e100.net; s=20230601; t=1763079983; x=1763684783; h=references:in-reply-to:cc:to:from:subject:message-id:date:x-gm-gg :x-gm-message-state:from:to:cc:subject:date:message-id:reply-to; bh=nB9wbPz3RDD5im3D+B2ntTnkrz8qDRWlwhsbFXZezyA=; b=uDLhJmI6ZLx4iOdQWDloajJo1mm64cZJLvFo2UFm28MrSZiTJrQm0NwHjhVEokbtFq GJsuC4FM+dic9QUrZXbDocm+TFzAf/coDZQtKpg7ludwuIrxlMX70VcypsoNbc0e9B/N eYvqbDO3x6OFxQtwx9FWpTALpUqpkJ9kHhbX7IVTqWoF/qvfOH0zHbsXboCB0ZM7/I7f 1ucnwAYr6kT3QLbpP86eVhxbTGOD3pGPCWqziMUv2lc8aYUQXdITXM1ubZ8c2g14Jq2k SvmH8tnJiQU5CVBJkicZ9r1e767K7tjP8u+2hK4Yl/LiYncJlvt03ElaH8FaYPbpY3my xjPA== X-Gm-Message-State: AOJu0Yyz3/UTFt0oZqlJX4kxV6OKZKHklcJQfOQFVUNfVCr0Q7jbiEG9 DjIGCkAlF/1elCWYdZqsu7aPz+5pw5kJSNU73OQfM3kryuP6ZvYGzTM0WFX9W/0y39Okr+ohhvn Pyt9bRSPOyZTNq7fRAkB7jA5WuWTUx/0CAm7AMPwP7mU9 X-Gm-Gg: ASbGncujFgxjdpOX/u/kUN4uJMfqmraOD58bhf+xnpIYgyxCpa0ob/pfbqpWVkf5Zri J2li0xwiQ5U6DCwTkFX7HXIj+VGqHoqWJGbNvAMZ8JctOAKfEqZRgePApX204abh98QnzxVOPoW 7j6x9D4FsAKNeHSRamqnZBjp5/LkbYDfQoXrJBKsWql1RT3OwAqp/yhwUMgXmpqxXDIrve/MZ4P BOi90KPyk+QDvTu/DfiAAO+ZKTfI/byTm381hHbGjWqRPpx4gvPFBm0znqYtJiZtmaG70hs/gTm 4e/0tHIx6SegKI3TE7f8qkeWZyEYG74h4xDR+CXVl+ce65RV15rZdukLC0BVwyMYGfI9G4VwzEW dZo1D/818Qad0lUo0sv7zudd7C5TyB5M= X-Google-Smtp-Source: AGHT+IFgKOjAM0ZMNIHSnAzJT0JhNPjipPxu8X3Geh6h0cgW3OjUQrSfoQcGHbMRLFgseSSaymnvZRiD25Ka X-Received: by 2002:a05:690e:248f:b0:63f:a524:1f93 with SMTP id 956f58d0204a3-641e76b0a67mr956751d50.68.1763079982825; Thu, 13 Nov 2025 16:26:22 -0800 (PST) Received: from postal.iol.unh.edu (postal.iol.unh.edu. [132.177.123.84]) by smtp-relay.gmail.com with ESMTPS id 956f58d0204a3-6410eacd1d5sm228940d50.10.2025.11.13.16.26.22 (version=TLS1_2 cipher=ECDHE-ECDSA-AES128-GCM-SHA256 bits=128/128); Thu, 13 Nov 2025 16:26:22 -0800 (PST) X-Relaying-Domain: iol.unh.edu Date: Thu, 13 Nov 2025 16:26:22 -0800 (PST) Message-ID: <6916772e.050a0220.174277.ad5aSMTPIN_ADDED_MISSING@mx.google.com> Received: from [172.21.0.2] (unknown [172.18.0.240]) by postal.iol.unh.edu (Postfix) with ESMTP id 5FE0E60003E8; Thu, 13 Nov 2025 19:26:22 -0500 (EST) Subject: |SUCCESS| pw158707-158710 [PATCH] [v2,4/4] test: vary size of packet From: dpdklab@iol.unh.edu To: Test Report Cc: dpdk-test-reports@iol.unh.edu In-Reply-To: <20251112181421.285119-5-stephen@networkplumber.org> References: <20251112181421.285119-5-stephen@networkplumber.org> Content-Type: text/plain X-BeenThere: test-report@dpdk.org X-Mailman-Version: 2.1.29 Precedence: list List-Id: automatic DPDK test reports List-Unsubscribe: , List-Archive: List-Post: List-Help: List-Subscribe: , Errors-To: test-report-bounces@dpdk.org Test-Label: iol-unit-amd64-testing Test-Status: SUCCESS http://dpdk.org/patch/158710 _Testing PASS_ Submitter: Stephen Hemminger Date: Wednesday, November 12 2025 18:12:50 DPDK git baseline: Repo:dpdk Branch: master CommitID:be0112878b4fc3a1b918370ed2fe615c52039d77 158707-158710 --> testing pass Upstream job id: Generic-VM-Unit-Test-DPDK#32504 Test environment and result as below: +-------------------------------+----------------+ | Environment | dpdk_unit_test | +===============================+================+ | Fedora Linux 40 | PASS | +-------------------------------+----------------+ | CentOS Stream 9 | PASS | +-------------------------------+----------------+ | Fedora Linux 41 | PASS | +-------------------------------+----------------+ | CentOS Stream 10 | PASS | +-------------------------------+----------------+ | Debian GNU/Linux 12 | PASS | +-------------------------------+----------------+ | Fedora Linux 42 | PASS | +-------------------------------+----------------+ | Ubuntu 22.04 | PASS | +-------------------------------+----------------+ | Red Hat Enterprise Linux 8.10 | PASS | +-------------------------------+----------------+ | Ubuntu 24.04 | PASS | +-------------------------------+----------------+ | Ubuntu 20.04 | PASS | +-------------------------------+----------------+ | Red Hat Enterprise Linux 9.5 | PASS | +-------------------------------+----------------+ | Windows Server 2022 | PASS | +-------------------------------+----------------+ Fedora Linux 40 Kernel: 5.15 Compiler: clang gcc (GCC) 14.2.1 20240912 (Red Hat 14.2.1-3) CentOS Stream 9 Kernel: 5.15 Compiler: gcc gcc (GCC) 11.5.0 20240719 (Red Hat 11.5.0-11) Fedora Linux 41 Kernel: 5.15 Compiler: clang gcc (GCC) 14.3.1 20250523 (Red Hat 14.3.1-1) CentOS Stream 10 Kernel: 5.15 Compiler: gcc gcc (GCC) 14.2.1 20250110 (Red Hat 14.2.1-8) Debian GNU/Linux 12 Kernel: 5.15 Compiler: gcc gcc (Debian 12.2.0-14+deb12u1) 12.2.0 Fedora Linux 42 Kernel: 5.15 Compiler: gcc gcc (GCC) 15.2.1 20250808 (Red Hat 15.2.1-1) Ubuntu 22.04 Kernel: 5.15 Compiler: gcc gcc (Ubuntu 11.4.0-1ubuntu1~22.04) 11.4.0 Red Hat Enterprise Linux 8.10 Kernel: 5.15 Compiler: gcc gcc (GCC) 8.5.0 20210514 (Red Hat 8.5.0-22) Ubuntu 24.04 Kernel: 5.15 Compiler: gcc gcc (Ubuntu 13.3.0-6ubuntu2~24.04) 13.3.0 Ubuntu 20.04 Kernel: 5.15 Compiler: gcc gcc (Ubuntu 9.4.0-1ubuntu1~20.04.2) 9.4.0 Red Hat Enterprise Linux 9.5 Kernel: 5.15 Compiler: gcc gcc (GCC) 11.5.0 20240719 (Red Hat 11.5.0-2) Windows Server 2022 Kernel: 10.0.20348.2031 Compiler: clang 15.0.7, gcc 14.1.0 (MinGW), and MSVC VS 19.39.33521 To view detailed results, visit: https://lab.dpdk.org/results/dashboard/patchsets/34559/ UNH-IOL DPDK Community Lab To manage your email subscriptions, visit: https://lab.dpdk.org/results/dashboard/preferences/subscriptions/