From mboxrd@z Thu Jan 1 00:00:00 1970 Return-Path: Received: from mails.dpdk.org (mails.dpdk.org [217.70.189.124]) by inbox.dpdk.org (Postfix) with ESMTP id B112D48AFE for ; Fri, 14 Nov 2025 01:43:26 +0100 (CET) Received: from mails.dpdk.org (localhost [127.0.0.1]) by mails.dpdk.org (Postfix) with ESMTP id 895EE40151; Fri, 14 Nov 2025 01:43:26 +0100 (CET) Received: from mail-il1-f225.google.com (mail-il1-f225.google.com [209.85.166.225]) by mails.dpdk.org (Postfix) with ESMTP id 3B51540151 for ; Fri, 14 Nov 2025 01:43:25 +0100 (CET) Received: by mail-il1-f225.google.com with SMTP id e9e14a558f8ab-43325879139so11448365ab.1 for ; Thu, 13 Nov 2025 16:43:25 -0800 (PST) DKIM-Signature: v=1; a=rsa-sha256; c=relaxed/relaxed; d=iol.unh.edu; s=unh-iol; t=1763081004; x=1763685804; darn=dpdk.org; h=references:in-reply-to:cc:to:from:subject:message-id:date:from:to :cc:subject:date:message-id:reply-to; bh=hDoT0u3OIU0l7EOPKnrYBrhU8pc98K1hKlKROQf0fN4=; b=gD+pbvOFMSbpNjv26z+j1uXBIHgfNTZpqS2oeQ9XoY6af6f7tZ/1ItKeKjI51F2ZXU o19NCjmBx9/6F7lri7ko0r0UNY180SjkX9rVEK9uIOJ5WdShL5NAUDPymPL0esdpqGR/ Z/0MYYqWzppI1+GeveXQ7TUIfEMhAF2lw10xo= X-Google-DKIM-Signature: v=1; a=rsa-sha256; c=relaxed/relaxed; d=1e100.net; s=20230601; t=1763081004; x=1763685804; h=references:in-reply-to:cc:to:from:subject:message-id:date:x-gm-gg :x-gm-message-state:from:to:cc:subject:date:message-id:reply-to; bh=hDoT0u3OIU0l7EOPKnrYBrhU8pc98K1hKlKROQf0fN4=; b=HOgXeybC0yagDZFzwVEZqwaNWK7m7Co1uVHJGA0Rl7ONxN9NraRY6W40EbSu/vCG9k KONTQjrDamJZ/Z4HzAXTt0+SpPyeacbH6kbHmxmU72yYMqBaRo9eG1awAnMTickUiDNU UWhkvtDBFRB7Bsu3Qk1FBwRhz56JAMnnkrFMcLAehvX/6UdSMHWWeGgac77jfQ+ACtX7 IW7Y/SQoJtjlAv/ZtAU+2pgZ/iQt8jXeJ77G+0sayWvj66Ste0il/SAMlRyRAdSUm87i 5SiAf1ex8Q0PVwu3vw8nKcONn/UF90VS7sPz0J4Gns+3swn+m8wPvNUq0qUIjqmyjPyx d+DA== X-Gm-Message-State: AOJu0YxYUuWHazncpTAdzcDFMU0QgK4/g86MZc7ASNWG05/Iff48UA+V kc3HXYQ8CZqPZvkyxgUzhwOu4ri3qrtJMAX95iUzX8I5NNilqYqNnwM3hxtb9Dtj/BhxYfWxNcR hKB15wK8909MvxPOTBR1s4F8taxUkFIoaKC/qQCSAEyzw X-Gm-Gg: ASbGncsthXy2GAGhSeYMTJDfS3qtGI1IKVwXfqbA7n2XU9Z9iN3BrYO83c4eZaaTZTw odfhS9DFi2Pqowgpcu6OdfkheLimI6/sInYOKZt3tEAXnqUcCbIpNgBGTWf84ziaMXHoYw5LEBU jqlCbWTCq0jZ4WVeOs8PLTY2TAFrtFE7tmvhG4kC2SHvnc+ryLFMxFLeR7RS49e5BdhyeO/3MtP NXoCo78vupX0O2c78obMR2TejEvpEAnMZGpIOlY+A0ZkbHVe/Yp0yRZpqqvzWO1nGm8rJPhOyxG 6HRItQ1bfjl1OPQBWnXdwqylNBAUooHlxW6c4YV8I5DDXcKqXaqFRx3bHIZ3sPBOn7nbCa+uTxi 5v5YcqMrs7vK/4yXi9oRSdo3jdCleDDw= X-Google-Smtp-Source: AGHT+IFHuEAt1WX7KEkGdMDThNtLYQUEfuKliRDkuwuSFXs7dWEvcOJyy5AKzNiymo+AN/zBLBhoE39oDBcv X-Received: by 2002:a05:6e02:1a0a:b0:433:7e2f:83c5 with SMTP id e9e14a558f8ab-4348c88f4e9mr26596195ab.3.1763081004569; Thu, 13 Nov 2025 16:43:24 -0800 (PST) Received: from postal.iol.unh.edu (postal.iol.unh.edu. [132.177.123.84]) by smtp-relay.gmail.com with ESMTPS id e9e14a558f8ab-43483991e25sm2743135ab.22.2025.11.13.16.43.24 (version=TLS1_2 cipher=ECDHE-ECDSA-AES128-GCM-SHA256 bits=128/128); Thu, 13 Nov 2025 16:43:24 -0800 (PST) X-Relaying-Domain: iol.unh.edu Date: Thu, 13 Nov 2025 16:43:24 -0800 (PST) Message-ID: <69167b2c.050a0220.3b8c07.c996SMTPIN_ADDED_MISSING@mx.google.com> Received: from [172.21.0.3] (unknown [172.18.0.240]) by postal.iol.unh.edu (Postfix) with ESMTP id 044C76051830; Thu, 13 Nov 2025 19:43:24 -0500 (EST) Subject: |SUCCESS| pw158752 [PATCH] ethdev: add GENEVE encapsulation and deca From: dpdklab@iol.unh.edu To: Test Report Cc: dpdk-test-reports@iol.unh.edu, Stephen Hemminger In-Reply-To: <20251113102158.48040-1-sunyang.wu@jaguarmicro.com> References: <20251113102158.48040-1-sunyang.wu@jaguarmicro.com> Content-Type: text/plain X-BeenThere: test-report@dpdk.org X-Mailman-Version: 2.1.29 Precedence: list List-Id: automatic DPDK test reports List-Unsubscribe: , List-Archive: List-Post: List-Help: List-Subscribe: , Errors-To: test-report-bounces@dpdk.org Test-Label: iol-compile-amd64-testing Test-Status: SUCCESS http://dpdk.org/patch/158752 _Testing PASS_ Submitter: Sunyang Wu Date: Thursday, November 13 2025 10:21:58 DPDK git baseline: Repo:dpdk-next-net Branch: master CommitID:29807269854f9bfc72f1323273de8e23adc724d4 158752 --> testing pass Upstream job id: Generic-DPDK-Compile-Meson#443915 Test environment and result as below: +-------------------------------+--------------------+-------------------+------------------+ | Environment | dpdk_meson_compile | dpdk_msvc_compile | dpdk_compile_ovs | +===============================+====================+===================+==================+ | Ubuntu 20.04 | PASS | SKIPPED | SKIPPED | +-------------------------------+--------------------+-------------------+------------------+ | FreeBSD 14.2 | PASS | SKIPPED | SKIPPED | +-------------------------------+--------------------+-------------------+------------------+ | Ubuntu 22.04 | PASS | SKIPPED | SKIPPED | +-------------------------------+--------------------+-------------------+------------------+ | CentOS Stream 9 | PASS | SKIPPED | SKIPPED | +-------------------------------+--------------------+-------------------+------------------+ | CentOS Stream 10 | PASS | SKIPPED | SKIPPED | +-------------------------------+--------------------+-------------------+------------------+ | Debian GNU/Linux 12 | PASS | SKIPPED | SKIPPED | +-------------------------------+--------------------+-------------------+------------------+ | Fedora Linux 42 | PASS | SKIPPED | PASS | +-------------------------------+--------------------+-------------------+------------------+ | openSUSE Leap 15.6 | PASS | SKIPPED | SKIPPED | +-------------------------------+--------------------+-------------------+------------------+ | Red Hat Enterprise Linux 8.10 | PASS | SKIPPED | SKIPPED | +-------------------------------+--------------------+-------------------+------------------+ | Red Hat Enterprise Linux 9.5 | PASS | SKIPPED | SKIPPED | +-------------------------------+--------------------+-------------------+------------------+ | Ubuntu 24.04 | PASS | SKIPPED | PASS | +-------------------------------+--------------------+-------------------+------------------+ | Alpine Linux 3.22.0 | PASS | SKIPPED | SKIPPED | +-------------------------------+--------------------+-------------------+------------------+ | Windows Server 2022 | SKIPPED | PASS | SKIPPED | +-------------------------------+--------------------+-------------------+------------------+ Ubuntu 20.04 Kernel: 4.19 Compiler: gcc gcc (Ubuntu 9.4.0-1ubuntu1~20.04.2) 9.4.0 FreeBSD 14.2 Kernel: 14.2-RELEASE Compiler: clang 18.1.6 Ubuntu 22.04 Kernel: 5.15 Compiler: gcc gcc (Ubuntu 11.4.0-1ubuntu1~22.04) 11.4.0 CentOS Stream 9 Kernel: 5.15 Compiler: gcc gcc (GCC) 11.5.0 20240719 (Red Hat 11.5.0-11) CentOS Stream 10 Kernel: 5.15 Compiler: gcc gcc (GCC) 14.2.1 20250110 (Red Hat 14.2.1-8) Debian GNU/Linux 12 Kernel: 5.15 Compiler: gcc gcc (Debian 12.2.0-14+deb12u1) 12.2.0 Fedora Linux 42 Kernel: 5.15 Compiler: clang gcc (GCC) 15.2.1 20250808 (Red Hat 15.2.1-1) openSUSE Leap 15.6 Kernel: 5.15 Compiler: gcc gcc (SUSE Linux) 7.5.0 Red Hat Enterprise Linux 8.10 Kernel: 5.15 Compiler: gcc gcc (GCC) 8.5.0 20210514 (Red Hat 8.5.0-22) Red Hat Enterprise Linux 9.5 Kernel: 5.15 Compiler: gcc gcc (GCC) 11.5.0 20240719 (Red Hat 11.5.0-2) Ubuntu 24.04 Kernel: 5.15 Compiler: gcc gcc (Ubuntu 13.3.0-6ubuntu2~24.04) 13.3.0 Alpine Linux 3.22.0 Kernel: 5.15 Compiler: gcc gcc (Alpine 14.2.0) 14.2.0 Windows Server 2022 Kernel: 10.0.20348.2031 Compiler: clang 15.0.7, gcc 14.1.0 (MinGW), and MSVC VS 19.39.33521 To view detailed results, visit: https://lab.dpdk.org/results/dashboard/patchsets/34569/ UNH-IOL DPDK Community Lab To manage your email subscriptions, visit: https://lab.dpdk.org/results/dashboard/preferences/subscriptions/