From mboxrd@z Thu Jan 1 00:00:00 1970 Return-Path: Received: from mails.dpdk.org (mails.dpdk.org [217.70.189.124]) by inbox.dpdk.org (Postfix) with ESMTP id 0627648AFE for ; Fri, 14 Nov 2025 01:45:50 +0100 (CET) Received: from mails.dpdk.org (localhost [127.0.0.1]) by mails.dpdk.org (Postfix) with ESMTP id DAC5340151; Fri, 14 Nov 2025 01:45:49 +0100 (CET) Received: from mail-pl1-f228.google.com (mail-pl1-f228.google.com [209.85.214.228]) by mails.dpdk.org (Postfix) with ESMTP id 8A5DF40151 for ; Fri, 14 Nov 2025 01:45:48 +0100 (CET) Received: by mail-pl1-f228.google.com with SMTP id d9443c01a7336-2953ad5517dso16926525ad.0 for ; Thu, 13 Nov 2025 16:45:48 -0800 (PST) DKIM-Signature: v=1; a=rsa-sha256; c=relaxed/relaxed; d=iol.unh.edu; s=unh-iol; t=1763081147; x=1763685947; darn=dpdk.org; h=references:in-reply-to:cc:to:from:subject:message-id:date:from:to :cc:subject:date:message-id:reply-to; bh=D/5DCgjlg1DKkr3JgLD52ENPojEHJMABgnYh0qm3RvE=; b=RXBdxFcRO/NRJIKKmjw4GSV8sZnw1uSpok0B1CXw9mpUjv2Mrt9CIXD4Uf/kTT6gBG bgKhmVws/zAWv7TlxMab3pnXqEWserU/KOZ7O9fvf/6VesxbspL/E4wuAgeFKLJ9MnQS uavV0eSWU93do9cDU1Fw8pvq0NULlzm/3kGL4= X-Google-DKIM-Signature: v=1; a=rsa-sha256; c=relaxed/relaxed; d=1e100.net; s=20230601; t=1763081147; x=1763685947; h=references:in-reply-to:cc:to:from:subject:message-id:date:x-gm-gg :x-gm-message-state:from:to:cc:subject:date:message-id:reply-to; bh=D/5DCgjlg1DKkr3JgLD52ENPojEHJMABgnYh0qm3RvE=; b=KdrxXDTRO93mzr17Ab/DzbIi6Iuu+dJVmx5AJmsrDxq+d5ozd75qqjBBE1ceBaiVSM KZMFqbRSQ8Fvs9kDdZBdKmLTy+JeUSJtZqZLna86wvsrXcMc2UMo1e2C3msdZJKKSHlS P1bv/yHxKp8HQyRR/UuKQrMm0lCaw6YV5wZjgNA2JWcFxPh53xUM50mqAAzZ1Rq2CsYU iB7PTLyVexdadFNbC2UUCx182t30bmzaSM5yQRIsGxkvedYvMjGKxjRqvh5hzeFL9VrD qfYSZd7UOdrMe2kHbt3Kgbj0BnA/pYAcZefnVPhv56uf5vp8s14lDbk1TJ5T7sC1kiRm O1xQ== X-Gm-Message-State: AOJu0YxQIWf1hODrqPeBixXUFveMwB65CaaX6Xe3EtGEVmH068SRs2+9 RyRl/haiF7p2cnFu7WmRksqKnhlXHtbvLSch8Ti0FW3Dg1KfkO7Dz92t2+eJOM1m0jdnAXtRUV8 8sf9eBzL5AIzLq32VedXZZfwApJIAtvEYTJxTbk/SMEFf X-Gm-Gg: ASbGncslLIfUvuqWD3iUYaXVDPdOaODEgDeXVw8ihmNBjQ64VMMFGsCmRX9901pytok PdTMzaHnxy7K1PaPHMt3tvJdUNnduNCscGZdLxtTcEGlI2IOXMk6zl3708Y0UHs/4PpPbnyvHva 2Oz5uEBw1AOp025fS3DaOIGxSE7+oASa5yNZO/G8jdXg7w83YKOvscFx21lv5KQiXmBB2Q481Nl iJDZbXxVYLQwIxB38e5zod6Oztm/8JI7dSikkfTUeeP6iMCpL67oBoRrS4aD08VkIvR0m1BiOxF 5jaKSoWGjMIiDDDCgWl6Z1TKswfUf1JrwODQjF/RSaGam/SA8p9E5la7awzcHE281eLSajH+MSk gHhJSPLrdqOzcfyyakcJWUtTp4O7eN0w= X-Google-Smtp-Source: AGHT+IFZGermkdoWhmDkXqxC4eFjIFzjGTLanolQBqIwKM3pACif6OpIpBsBdXRUJb6xU+2gVsosvH9Iuu9R X-Received: by 2002:a17:903:f83:b0:246:4077:4563 with SMTP id d9443c01a7336-2986a73b4bfmr9813195ad.34.1763081147538; Thu, 13 Nov 2025 16:45:47 -0800 (PST) Received: from postal.iol.unh.edu (postal.iol.unh.edu. [132.177.123.84]) by smtp-relay.gmail.com with ESMTPS id d9443c01a7336-2986181be8dsm2560845ad.13.2025.11.13.16.45.47 (version=TLS1_2 cipher=ECDHE-ECDSA-AES128-GCM-SHA256 bits=128/128); Thu, 13 Nov 2025 16:45:47 -0800 (PST) X-Relaying-Domain: iol.unh.edu Date: Thu, 13 Nov 2025 16:45:47 -0800 (PST) Message-ID: <69167bbb.170a0220.d5672.b529SMTPIN_ADDED_MISSING@mx.google.com> Received: from [172.21.0.3] (unknown [172.18.0.240]) by postal.iol.unh.edu (Postfix) with ESMTP id E95156051830; Thu, 13 Nov 2025 19:45:46 -0500 (EST) Subject: |SUCCESS| pw158775 [PATCH] net/mlx5: fix state corruption in dev sta From: dpdklab@iol.unh.edu To: Test Report Cc: dpdk-test-reports@iol.unh.edu In-Reply-To: <20251113193711.7883-1-mkashani@nvidia.com> References: <20251113193711.7883-1-mkashani@nvidia.com> Content-Type: text/plain X-BeenThere: test-report@dpdk.org X-Mailman-Version: 2.1.29 Precedence: list List-Id: automatic DPDK test reports List-Unsubscribe: , List-Archive: List-Post: List-Help: List-Subscribe: , Errors-To: test-report-bounces@dpdk.org Test-Label: iol-compile-amd64-testing Test-Status: SUCCESS http://dpdk.org/patch/158775 _Testing PASS_ Submitter: Maayan Kashani Date: Thursday, November 13 2025 19:37:11 DPDK git baseline: Repo:dpdk-next-net-mlx Branch: master CommitID:ae657d56b1f0ea979b3f611edf28d773efc2ddcf 158775 --> testing pass Upstream job id: Generic-DPDK-Compile-Meson#443924 Test environment and result as below: +---------------------+--------------------+ | Environment | dpdk_meson_compile | +=====================+====================+ | Ubuntu 20.04 | PASS | +---------------------+--------------------+ | FreeBSD 14.2 | PASS | +---------------------+--------------------+ | Alpine Linux 3.22.0 | PASS | +---------------------+--------------------+ Ubuntu 20.04 Kernel: 4.19 Compiler: gcc gcc (Ubuntu 9.4.0-1ubuntu1~20.04.2) 9.4.0 FreeBSD 14.2 Kernel: 14.2-RELEASE Compiler: clang 18.1.6 Alpine Linux 3.22.0 Kernel: 5.15 Compiler: gcc gcc (Alpine 14.2.0) 14.2.0 To view detailed results, visit: https://lab.dpdk.org/results/dashboard/patchsets/34582/ UNH-IOL DPDK Community Lab To manage your email subscriptions, visit: https://lab.dpdk.org/results/dashboard/preferences/subscriptions/