From mboxrd@z Thu Jan 1 00:00:00 1970 Return-Path: Received: from mails.dpdk.org (mails.dpdk.org [217.70.189.124]) by inbox.dpdk.org (Postfix) with ESMTP id AE02748AFF for ; Fri, 14 Nov 2025 02:03:15 +0100 (CET) Received: from mails.dpdk.org (localhost [127.0.0.1]) by mails.dpdk.org (Postfix) with ESMTP id 8891140151; Fri, 14 Nov 2025 02:03:15 +0100 (CET) Received: from mail-qv1-f98.google.com (mail-qv1-f98.google.com [209.85.219.98]) by mails.dpdk.org (Postfix) with ESMTP id E3FA540151 for ; Fri, 14 Nov 2025 02:03:13 +0100 (CET) Received: by mail-qv1-f98.google.com with SMTP id 6a1803df08f44-88057f5d041so15055846d6.1 for ; Thu, 13 Nov 2025 17:03:13 -0800 (PST) DKIM-Signature: v=1; a=rsa-sha256; c=relaxed/relaxed; d=iol.unh.edu; s=unh-iol; t=1763082193; x=1763686993; darn=dpdk.org; h=references:in-reply-to:cc:to:from:subject:message-id:date:from:to :cc:subject:date:message-id:reply-to; bh=OnrZ2Sm3+8rsQBXnmQ0KZQ6gF6r+pazd5Bxi83h/d3s=; b=WZFL87KJn74sivBF5RcyG4O1FGF0H8NDjXOLIug7JHBBXISRH6sWCYghSRD/99HQzM 2wPQSNMvs23g06SCInjM7eHR4ZpFmb3Jvin/I1BbLbjxKksi1YCDoa4hhCXSyyKYreFs ecCZ01EWN8/5vJE1lh8QKyjcHGRQn3W06jhq4= X-Google-DKIM-Signature: v=1; a=rsa-sha256; c=relaxed/relaxed; d=1e100.net; s=20230601; t=1763082193; x=1763686993; h=references:in-reply-to:cc:to:from:subject:message-id:date:x-gm-gg :x-gm-message-state:from:to:cc:subject:date:message-id:reply-to; bh=OnrZ2Sm3+8rsQBXnmQ0KZQ6gF6r+pazd5Bxi83h/d3s=; b=Gt23cr21b2FyGFkqV5gVQJZSq4VlQRWWf2hYOnBT8gF3tK/BB5yVjx3R+CWyi8PpjT Fx+mrRJ4INwVJbWuEEH3UrSs9IDCt6dO4hjuRjMh6KZ5FfTmOO9i+Pqkyde7H1B5Qnr6 TepkR1EdAXZ2eafyL2utNyKn/AE0xPuethBFotIj1bKjG3J0vP8ft51Q7ODBvkmh3fLz Aov5snvnz6RsN35W8aaXpviMU1SVxCPvhmPwHUiimKwq2FkK0ePIKR2Uq5tYInLH4ezb /ZTT6eT352lEARRWbJ+AAX0n78N+rwITNEMOJjZmJ1Lmwbo1/6OcqA5iD/LZtD9Y7QTo R8Mw== X-Gm-Message-State: AOJu0YyjdiByhfzR1rbM07DUjUPFuUEJ2N9jmDU/A7MptwRvr4us/P8B 6bv6wWc/Kf1UIBiPHNtfgX7f5nLtlrMxLeoz//s6iXBkLeCgLxh2KDJ1z1n6l2kOhYga6YFcTJj 6xDcP7brirB5mrkLESZkl74DxWyyyWV33gFWK9Gq0uZJv X-Gm-Gg: ASbGncsYDMaTlbaXdJm6dw7AbqzS8O2vK9eDXTiZOQN+lNIboRl3fBI/gPI3U1hTOg2 +kNpYoN0+/TF3KrldmaGV1srV7gO1ZZFZi/7PoxFbL6gTJcClfNg0Wq28H7oWkEu0lvbcCL2V/2 mlU4M53BbuPUwQgF7aMqTBBZr2V/y2841OPv0medYE7FNY7Tqxpufak3hZWa8GKA2YzIKiqIgh0 pRa7NDa24e7PzBBNXUpAx4vPPn3wlFBjrmRF2hppbM2PFjV+6KjUusu9jelqb1RV7JQ2xjl6lSe uXvoAtbv/UEd1UTLqZLm5/ZGYQeLm5Su5HkATcS+cRhx+aBRJpleghZfgqQRDw3XCmrrub0CXxS f0KCOiYGhUSFmY/xfzxE88N25LCyJcrY= X-Google-Smtp-Source: AGHT+IESOOH190RmoNfc9eF2s5brs7MeE7xL0aMlBGwA7PLKpXTBLj+BJqGGDXw2FprItS0HcOm+zNzpF9eJ X-Received: by 2002:a05:6214:19c3:b0:882:37bf:919a with SMTP id 6a1803df08f44-882926e7d2bmr18768876d6.65.1763082193272; Thu, 13 Nov 2025 17:03:13 -0800 (PST) Received: from postal.iol.unh.edu (postal.iol.unh.edu. [132.177.123.84]) by smtp-relay.gmail.com with ESMTPS id 6a1803df08f44-882862fcdf1sm3764336d6.9.2025.11.13.17.03.13 (version=TLS1_2 cipher=ECDHE-ECDSA-AES128-GCM-SHA256 bits=128/128); Thu, 13 Nov 2025 17:03:13 -0800 (PST) X-Relaying-Domain: iol.unh.edu Date: Thu, 13 Nov 2025 17:03:13 -0800 (PST) Message-ID: <69167fd1.050a0220.3dbc62.1a09SMTPIN_ADDED_MISSING@mx.google.com> Received: from [172.21.0.2] (unknown [172.18.0.240]) by postal.iol.unh.edu (Postfix) with ESMTP id F27B86051830; Thu, 13 Nov 2025 20:03:12 -0500 (EST) Subject: |SUCCESS| pw158753 [PATCH] net/intel: rename variable in Rx select t From: dpdklab@iol.unh.edu To: Test Report Cc: dpdk-test-reports@iol.unh.edu, Bruce Richardson In-Reply-To: <20251113103012.3782264-1-ciara.loftus@intel.com> References: <20251113103012.3782264-1-ciara.loftus@intel.com> Content-Type: text/plain X-BeenThere: test-report@dpdk.org X-Mailman-Version: 2.1.29 Precedence: list List-Id: automatic DPDK test reports List-Unsubscribe: , List-Archive: List-Post: List-Help: List-Subscribe: , Errors-To: test-report-bounces@dpdk.org Test-Label: iol-compile-amd64-testing Test-Status: SUCCESS http://dpdk.org/patch/158753 _Testing PASS_ Submitter: Ciara Loftus Date: Thursday, November 13 2025 10:30:12 DPDK git baseline: Repo:dpdk-next-net-intel Branch: master CommitID:123703be5bdd0fa45e4fda14f36a0d941d1f7e63 158753 --> testing pass Upstream job id: Generic-DPDK-Compile-Meson#443950 Test environment and result as below: +-------------------------------+--------------------+------------------+ | Environment | dpdk_meson_compile | dpdk_compile_ovs | +===============================+====================+==================+ | Ubuntu 20.04 | PASS | SKIPPED | +-------------------------------+--------------------+------------------+ | FreeBSD 14.2 | PASS | SKIPPED | +-------------------------------+--------------------+------------------+ | CentOS Stream 9 | PASS | SKIPPED | +-------------------------------+--------------------+------------------+ | CentOS Stream 10 | PASS | SKIPPED | +-------------------------------+--------------------+------------------+ | Debian GNU/Linux 12 | PASS | SKIPPED | +-------------------------------+--------------------+------------------+ | Fedora Linux 42 | PASS | PASS | +-------------------------------+--------------------+------------------+ | openSUSE Leap 15.6 | PASS | SKIPPED | +-------------------------------+--------------------+------------------+ | Red Hat Enterprise Linux 8.10 | PASS | SKIPPED | +-------------------------------+--------------------+------------------+ | Red Hat Enterprise Linux 9.5 | PASS | SKIPPED | +-------------------------------+--------------------+------------------+ | Ubuntu 22.04 | PASS | SKIPPED | +-------------------------------+--------------------+------------------+ | Ubuntu 24.04 | PASS | PASS | +-------------------------------+--------------------+------------------+ | Alpine Linux 3.22.0 | PASS | SKIPPED | +-------------------------------+--------------------+------------------+ Ubuntu 20.04 Kernel: 4.19 Compiler: gcc gcc (Ubuntu 9.4.0-1ubuntu1~20.04.2) 9.4.0 FreeBSD 14.2 Kernel: 14.2-RELEASE Compiler: clang 18.1.6 CentOS Stream 9 Kernel: 5.15 Compiler: gcc gcc (GCC) 11.5.0 20240719 (Red Hat 11.5.0-11) CentOS Stream 10 Kernel: 5.15 Compiler: gcc gcc (GCC) 14.2.1 20250110 (Red Hat 14.2.1-8) Debian GNU/Linux 12 Kernel: 5.15 Compiler: gcc gcc (Debian 12.2.0-14+deb12u1) 12.2.0 Fedora Linux 42 Kernel: 5.15 Compiler: clang gcc (GCC) 15.2.1 20250808 (Red Hat 15.2.1-1) openSUSE Leap 15.6 Kernel: 5.15 Compiler: gcc gcc (SUSE Linux) 7.5.0 Red Hat Enterprise Linux 8.10 Kernel: 5.15 Compiler: gcc gcc (GCC) 8.5.0 20210514 (Red Hat 8.5.0-22) Red Hat Enterprise Linux 9.5 Kernel: 5.15 Compiler: gcc gcc (GCC) 11.5.0 20240719 (Red Hat 11.5.0-2) Ubuntu 22.04 Kernel: 5.15 Compiler: gcc gcc (Ubuntu 11.4.0-1ubuntu1~22.04) 11.4.0 Ubuntu 24.04 Kernel: 5.15 Compiler: gcc gcc (Ubuntu 13.3.0-6ubuntu2~24.04) 13.3.0 Alpine Linux 3.22.0 Kernel: 5.15 Compiler: gcc gcc (Alpine 14.2.0) 14.2.0 To view detailed results, visit: https://lab.dpdk.org/results/dashboard/patchsets/34570/ UNH-IOL DPDK Community Lab To manage your email subscriptions, visit: https://lab.dpdk.org/results/dashboard/preferences/subscriptions/