From mboxrd@z Thu Jan 1 00:00:00 1970 Return-Path: Received: from mails.dpdk.org (mails.dpdk.org [217.70.189.124]) by inbox.dpdk.org (Postfix) with ESMTP id B475348AFF for ; Fri, 14 Nov 2025 02:13:23 +0100 (CET) Received: from mails.dpdk.org (localhost [127.0.0.1]) by mails.dpdk.org (Postfix) with ESMTP id 8CFAE40151; Fri, 14 Nov 2025 02:13:23 +0100 (CET) Received: from mail-oo1-f98.google.com (mail-oo1-f98.google.com [209.85.161.98]) by mails.dpdk.org (Postfix) with ESMTP id 78A9340151 for ; Fri, 14 Nov 2025 02:13:21 +0100 (CET) Received: by mail-oo1-f98.google.com with SMTP id 006d021491bc7-65727896f35so671161eaf.2 for ; Thu, 13 Nov 2025 17:13:21 -0800 (PST) DKIM-Signature: v=1; a=rsa-sha256; c=relaxed/relaxed; d=iol.unh.edu; s=unh-iol; t=1763082800; x=1763687600; darn=dpdk.org; h=references:in-reply-to:cc:to:from:subject:message-id:date:from:to :cc:subject:date:message-id:reply-to; bh=pdZp1vqqhBPPS2srUaFoPUESsZBAI14gZPGV/zbakSE=; b=U9M567kfUP+UnfD2f8bl8l0ig61FlAUO3xDoM8CxmK6qkfWK7sjEEe+DJOogwgROFC p3a5cqVygz4e21zKWyIbKffGsCTsMkHzflCbPkD6TCRCms8wai5qkCmZmwGm+QWJ/iPy ECoF0Y7PXBzeerymQK1uikyYwcbkgZlHbrsu4= X-Google-DKIM-Signature: v=1; a=rsa-sha256; c=relaxed/relaxed; d=1e100.net; s=20230601; t=1763082800; x=1763687600; h=references:in-reply-to:cc:to:from:subject:message-id:date:x-gm-gg :x-gm-message-state:from:to:cc:subject:date:message-id:reply-to; bh=pdZp1vqqhBPPS2srUaFoPUESsZBAI14gZPGV/zbakSE=; b=BZdFwQ5zm+5J7KCrdloA1obReXhVSb45B7xraIrwOxxJmBCSZooH6eW/LSeXwh/e/o 5qu+mTCen0QoIBaHRMVR5mgbmm1i8+V9f5VPXyBFifGkuT0/vOd4m37nF6f6jJrI6XcS vb5txs0Shi8lmqJ76AZV/SgYWYj2YL19P+5ZfXN+AoCebbxswz1q131I9jCPrxSeYVqS SmszWnoZ2IM6Kc5XnFdVO1RRlzLegaW52zykTKqnLSJxCY0Eg1vFteIReiNL4G90MiI0 ji4x73BSXhrZhV7JWC9gE2wXbSShLs5AvYFEryZA10z7UHI9RgRZUDtF/xo10qdKKPCm hLbQ== X-Gm-Message-State: AOJu0YzBgP1Ti78REHNoCfXjNufLhe2QDGUMNBBeOZxKKOKjFNe1Law+ TUfPnbSac+5JaIBWMR5XYLqdmcr4sm+71wy2+OuueEGaFloqyBKSD7HyuWd7lQhhDUul4v45q26 VK0lWgHZskaINDC3Z0aNxwdoJ3dVg7iMoRZ17wmjDvfae X-Gm-Gg: ASbGnctqMrYTHf0NztwkQN0Whk9XlmWBfaYFTPbfug2U3vSav4zfddPf6A4Bb+itwiY FiCwBv8IlyY4CIcT8eWYY8USzht0G9JSJzTKioJ8h7UMHHYkUOIT+I3McJiHNqm2ozu6PIyaEVv IM+9oiEUQN3TDSQ7uW9ad9JS6h1KK6NAJrndQPYCwVXEF40i2IKVRYQjEFLCWkgXJXEPuotqDkr gyUQMC9cFjqLrve26svoipy/iGStsMVJoH/6e4VQxmnndvsSx16b1t2qulqPlCvRmQL/+ir3E5e n8gbSnPtPYAgBKD78MQhxPMZ+fLfySPp3BXkieqQz0Zq+UCoivYsDjwo0CC1w1scpRIfKMvM0+x PmbDgjMo5d/o3GNn9ETeVz9auYkhwoOY= X-Google-Smtp-Source: AGHT+IESXCl4xXOs3VBvXP/dIA2ufT7cKmfzXf+SEinMmlkIf7s6uYs1LBqJlEk6Oeuk1v/F59TURWuD38dU X-Received: by 2002:a05:6638:4d20:b0:5b7:12b4:475e with SMTP id 8926c6da1cb9f-5b7c9d5accamr69103173.11.1763082461193; Thu, 13 Nov 2025 17:07:41 -0800 (PST) Received: from postal.iol.unh.edu (postal.iol.unh.edu. [132.177.123.84]) by smtp-relay.gmail.com with ESMTPS id 8926c6da1cb9f-5b7bd246a4esm286297173.8.2025.11.13.17.07.41 (version=TLS1_2 cipher=ECDHE-ECDSA-AES128-GCM-SHA256 bits=128/128); Thu, 13 Nov 2025 17:07:41 -0800 (PST) X-Relaying-Domain: iol.unh.edu Date: Thu, 13 Nov 2025 17:07:41 -0800 (PST) Message-ID: <691680dd.050a0220.1f4fac.da98SMTPIN_ADDED_MISSING@mx.google.com> Received: from [172.21.0.2] (unknown [172.18.0.240]) by postal.iol.unh.edu (Postfix) with ESMTP id BFA366051830; Thu, 13 Nov 2025 20:07:40 -0500 (EST) Subject: |SUCCESS| pw158711-158712 [PATCH] [2/2] pdump: fix race in pdump dis From: dpdklab@iol.unh.edu To: Test Report Cc: dpdk-test-reports@iol.unh.edu In-Reply-To: <20251112200510.332651-2-stephen@networkplumber.org> References: <20251112200510.332651-2-stephen@networkplumber.org> Content-Type: text/plain X-BeenThere: test-report@dpdk.org X-Mailman-Version: 2.1.29 Precedence: list List-Id: automatic DPDK test reports List-Unsubscribe: , List-Archive: List-Post: List-Help: List-Subscribe: , Errors-To: test-report-bounces@dpdk.org Test-Label: iol-unit-amd64-testing Test-Status: SUCCESS http://dpdk.org/patch/158712 _Testing PASS_ Submitter: Stephen Hemminger Date: Wednesday, November 12 2025 20:05:10 DPDK git baseline: Repo:dpdk Branch: master CommitID:be0112878b4fc3a1b918370ed2fe615c52039d77 158711-158712 --> testing pass Upstream job id: Generic-VM-Unit-Test-DPDK#32505 Test environment and result as below: +-------------------------------+----------------+ | Environment | dpdk_unit_test | +===============================+================+ | Debian GNU/Linux 12 | PASS | +-------------------------------+----------------+ | Fedora Linux 40 | PASS | +-------------------------------+----------------+ | CentOS Stream 10 | PASS | +-------------------------------+----------------+ | Fedora Linux 41 | PASS | +-------------------------------+----------------+ | CentOS Stream 9 | PASS | +-------------------------------+----------------+ | Fedora Linux 42 | PASS | +-------------------------------+----------------+ | Ubuntu 20.04 | PASS | +-------------------------------+----------------+ | Red Hat Enterprise Linux 8.10 | PASS | +-------------------------------+----------------+ | Red Hat Enterprise Linux 9.5 | PASS | +-------------------------------+----------------+ | Ubuntu 22.04 | PASS | +-------------------------------+----------------+ | Ubuntu 24.04 | PASS | +-------------------------------+----------------+ | Windows Server 2022 | PASS | +-------------------------------+----------------+ Debian GNU/Linux 12 Kernel: 5.15 Compiler: gcc gcc (Debian 12.2.0-14+deb12u1) 12.2.0 Fedora Linux 40 Kernel: 5.15 Compiler: gcc gcc (GCC) 14.2.1 20240912 (Red Hat 14.2.1-3) CentOS Stream 10 Kernel: 5.15 Compiler: gcc gcc (GCC) 14.2.1 20250110 (Red Hat 14.2.1-8) Fedora Linux 41 Kernel: 5.15 Compiler: gcc gcc (GCC) 14.3.1 20250523 (Red Hat 14.3.1-1) CentOS Stream 9 Kernel: 5.15 Compiler: gcc gcc (GCC) 11.5.0 20240719 (Red Hat 11.5.0-11) Fedora Linux 42 Kernel: 5.15 Compiler: gcc gcc (GCC) 15.2.1 20250808 (Red Hat 15.2.1-1) Ubuntu 20.04 Kernel: 5.15 Compiler: gcc gcc (Ubuntu 9.4.0-1ubuntu1~20.04.2) 9.4.0 Red Hat Enterprise Linux 8.10 Kernel: 5.15 Compiler: gcc gcc (GCC) 8.5.0 20210514 (Red Hat 8.5.0-22) Red Hat Enterprise Linux 9.5 Kernel: 5.15 Compiler: gcc gcc (GCC) 11.5.0 20240719 (Red Hat 11.5.0-2) Ubuntu 22.04 Kernel: 5.15 Compiler: gcc gcc (Ubuntu 11.4.0-1ubuntu1~22.04) 11.4.0 Ubuntu 24.04 Kernel: 5.15 Compiler: gcc gcc (Ubuntu 13.3.0-6ubuntu2~24.04) 13.3.0 Windows Server 2022 Kernel: 10.0.20348.2031 Compiler: clang 15.0.7, gcc 14.1.0 (MinGW), and MSVC VS 19.39.33521 To view detailed results, visit: https://lab.dpdk.org/results/dashboard/patchsets/34560/ UNH-IOL DPDK Community Lab To manage your email subscriptions, visit: https://lab.dpdk.org/results/dashboard/preferences/subscriptions/