From mboxrd@z Thu Jan 1 00:00:00 1970 Return-Path: Received: from mails.dpdk.org (mails.dpdk.org [217.70.189.124]) by inbox.dpdk.org (Postfix) with ESMTP id 094A048AFF for ; Fri, 14 Nov 2025 02:16:54 +0100 (CET) Received: from mails.dpdk.org (localhost [127.0.0.1]) by mails.dpdk.org (Postfix) with ESMTP id DE25940151; Fri, 14 Nov 2025 02:16:53 +0100 (CET) Received: from mail-pg1-f226.google.com (mail-pg1-f226.google.com [209.85.215.226]) by mails.dpdk.org (Postfix) with ESMTP id A717340151 for ; Fri, 14 Nov 2025 02:16:52 +0100 (CET) Received: by mail-pg1-f226.google.com with SMTP id 41be03b00d2f7-b9a5b5b47bfso844450a12.1 for ; Thu, 13 Nov 2025 17:16:52 -0800 (PST) DKIM-Signature: v=1; a=rsa-sha256; c=relaxed/relaxed; d=iol.unh.edu; s=unh-iol; t=1763083012; x=1763687812; darn=dpdk.org; h=references:in-reply-to:cc:to:from:subject:message-id:date:from:to :cc:subject:date:message-id:reply-to; bh=HAucsq+O9DegYMBt/KJrQVgT8qD1eaC/PNvnirF6lQM=; b=bTV6Pa9+5Pma1bS9CfZ0KHO7jRGIGAfQ9aY1/nI7WmaYBF/GmD5TuUTV0Y3EXmiiJT Ol4BqxQlwRNy4dz5X8g+AWwagzYGfzsAHTdc8nsG6oMiEPJfxYqAJea37fnFw4ZPknKt wBdEG2zsaxUit8FbxES105Enw9Wl+uYv+wfCI= X-Google-DKIM-Signature: v=1; a=rsa-sha256; c=relaxed/relaxed; d=1e100.net; s=20230601; t=1763083012; x=1763687812; h=references:in-reply-to:cc:to:from:subject:message-id:date:x-gm-gg :x-gm-message-state:from:to:cc:subject:date:message-id:reply-to; bh=HAucsq+O9DegYMBt/KJrQVgT8qD1eaC/PNvnirF6lQM=; b=dAt2gJleRZGu8QpRCa7PKhecMps5Y83Nuxmvd0qcdf/FyFLYEgMnHr2+RT5LzsskrE ++WPw25OfcR/BLno8PL+1J5M6sifEhWG1YlUirk+gZRf+eXOX1dfX2DC8zuVNmrhC10m A2/BNjnfb1aTDwhUV1USS84dGZnlchhXctmooloM2UIJcPN+fs1IRx0hFZzeUffm4jxH X3J7waElgrzO28bN6cTmENf6l77XLglsDDXmdl23l51SOOmlOUy/BkC9LmHk99lKKLis F1tl6vXzomlox31JDAOPnKHTmuIZAoTjy441R2tkwPoupSzwRlMB1WqjvwEv4ptAo+pw bVUg== X-Gm-Message-State: AOJu0YxCufAfBLK1W+I4SN5TcHc+Ekkh3CGwc0bZtDDUV6QHND9rgNF0 jd9o/swaKsNZg6lThNvDbLZLbUASyLpPGJ+654lMgm24meGUdXh/AXUMXOZGc3q2ys2Dz+xOe6o QcAQD0qcA9e+Vx6yJDR4vmnMtsdT+3ehsFajjiWeZ7eNVLPCrwietrJwJvVpd X-Gm-Gg: ASbGncsKTvPrrCpv5DtYBm4oH7x/jWCmHHe+xwhKGHpOhpX/HMc/qmO9dMhFod1Kwn5 pY8ajrV2jkzm+4KpOFt250F2oT95L62ipnLxL/iS9Qa6VUNZShD34s7XX7Df8ffbs44t4ldB32h xaB8iNN01jcRwLxOHcbZuEjzzqENiD4nO3vTArb6ZW4WSVcdRnZC2Nf6JOXFctezauOPOwsQOBB PjYfk6xky0+p7yxeF38q3QZhSDvC2E1dhtYdpv5MRY9yMN7eelYILt5bAf0vW9mJyClclwaZpiZ 6gb2ba33bEy3QWFw4iX0Lfec+KVf5EkyIao41/oBF3yDK2TZCkHsysuFE3XbRWY2BlOwMrK9ElA Z/jgQR6MC X-Google-Smtp-Source: AGHT+IGUQpVg8yQrpjkVR9k1N94oZXfDP+V+hCPH0N0gzXXkPcQCKbJJ3lGLEgsY/GVwCXEoKjxial1+AW1o X-Received: by 2002:a05:7022:7e06:b0:11a:3815:ed9c with SMTP id a92af1059eb24-11b410f544emr315456c88.19.1763083011592; Thu, 13 Nov 2025 17:16:51 -0800 (PST) Received: from postal.iol.unh.edu (postal.iol.unh.edu. [2606:4100:3880:1234::84]) by smtp-relay.gmail.com with ESMTPS id a92af1059eb24-11b06091247sm105988c88.1.2025.11.13.17.16.50 (version=TLS1_2 cipher=ECDHE-ECDSA-AES128-GCM-SHA256 bits=128/128); Thu, 13 Nov 2025 17:16:51 -0800 (PST) X-Relaying-Domain: iol.unh.edu Date: Thu, 13 Nov 2025 17:16:51 -0800 (PST) Message-ID: <69168303.050a0220.fda54.530eSMTPIN_ADDED_MISSING@mx.google.com> Received: from [172.21.0.2] (unknown [172.18.0.240]) by postal.iol.unh.edu (Postfix) with ESMTP id 986A76051830; Thu, 13 Nov 2025 20:16:49 -0500 (EST) Subject: |SUCCESS| pw158711-158712 [PATCH] [2/2] pdump: fix race in pdump dis From: dpdklab@iol.unh.edu To: Test Report Cc: dpdk-test-reports@iol.unh.edu In-Reply-To: <20251112200510.332651-2-stephen@networkplumber.org> References: <20251112200510.332651-2-stephen@networkplumber.org> Content-Type: text/plain X-BeenThere: test-report@dpdk.org X-Mailman-Version: 2.1.29 Precedence: list List-Id: automatic DPDK test reports List-Unsubscribe: , List-Archive: List-Post: List-Help: List-Subscribe: , Errors-To: test-report-bounces@dpdk.org Test-Label: iol-unit-amd64-testing Test-Status: SUCCESS http://dpdk.org/patch/158712 _Testing PASS_ Submitter: Stephen Hemminger Date: Wednesday, November 12 2025 20:05:10 DPDK git baseline: Repo:dpdk Branch: master CommitID:be0112878b4fc3a1b918370ed2fe615c52039d77 158711-158712 --> testing pass Upstream job id: Generic-VM-Unit-Test-DPDK#32506 Test environment and result as below: +-------------------------------+----------------+ | Environment | dpdk_unit_test | +===============================+================+ | Debian GNU/Linux 12 | PASS | +-------------------------------+----------------+ | Fedora Linux 40 | PASS | +-------------------------------+----------------+ | CentOS Stream 10 | PASS | +-------------------------------+----------------+ | Fedora Linux 41 | PASS | +-------------------------------+----------------+ | CentOS Stream 9 | PASS | +-------------------------------+----------------+ | Fedora Linux 42 | PASS | +-------------------------------+----------------+ | Ubuntu 20.04 | PASS | +-------------------------------+----------------+ | Red Hat Enterprise Linux 8.10 | PASS | +-------------------------------+----------------+ | Red Hat Enterprise Linux 9.5 | PASS | +-------------------------------+----------------+ | Ubuntu 22.04 | PASS | +-------------------------------+----------------+ | Ubuntu 24.04 | PASS | +-------------------------------+----------------+ | Windows Server 2022 | PASS | +-------------------------------+----------------+ Debian GNU/Linux 12 Kernel: 5.15 Compiler: gcc gcc (Debian 12.2.0-14+deb12u1) 12.2.0 Fedora Linux 40 Kernel: 5.15 Compiler: gcc gcc (GCC) 14.2.1 20240912 (Red Hat 14.2.1-3) CentOS Stream 10 Kernel: 5.15 Compiler: gcc gcc (GCC) 14.2.1 20250110 (Red Hat 14.2.1-8) Fedora Linux 41 Kernel: 5.15 Compiler: gcc gcc (GCC) 14.3.1 20250523 (Red Hat 14.3.1-1) CentOS Stream 9 Kernel: 5.15 Compiler: gcc gcc (GCC) 11.5.0 20240719 (Red Hat 11.5.0-11) Fedora Linux 42 Kernel: 5.15 Compiler: gcc gcc (GCC) 15.2.1 20250808 (Red Hat 15.2.1-1) Ubuntu 20.04 Kernel: 5.15 Compiler: gcc gcc (Ubuntu 9.4.0-1ubuntu1~20.04.2) 9.4.0 Red Hat Enterprise Linux 8.10 Kernel: 5.15 Compiler: gcc gcc (GCC) 8.5.0 20210514 (Red Hat 8.5.0-22) Red Hat Enterprise Linux 9.5 Kernel: 5.15 Compiler: gcc gcc (GCC) 11.5.0 20240719 (Red Hat 11.5.0-2) Ubuntu 22.04 Kernel: 5.15 Compiler: gcc gcc (Ubuntu 11.4.0-1ubuntu1~22.04) 11.4.0 Ubuntu 24.04 Kernel: 5.15 Compiler: gcc gcc (Ubuntu 13.3.0-6ubuntu2~24.04) 13.3.0 Windows Server 2022 Kernel: 10.0.20348.2031 Compiler: clang 15.0.7, gcc 14.1.0 (MinGW), and MSVC VS 19.39.33521 To view detailed results, visit: https://lab.dpdk.org/results/dashboard/patchsets/34560/ UNH-IOL DPDK Community Lab To manage your email subscriptions, visit: https://lab.dpdk.org/results/dashboard/preferences/subscriptions/