From mboxrd@z Thu Jan 1 00:00:00 1970 Return-Path: Received: from mails.dpdk.org (mails.dpdk.org [217.70.189.124]) by inbox.dpdk.org (Postfix) with ESMTP id 7EC0F48AFF for ; Fri, 14 Nov 2025 02:31:50 +0100 (CET) Received: from mails.dpdk.org (localhost [127.0.0.1]) by mails.dpdk.org (Postfix) with ESMTP id 5CEA840151; Fri, 14 Nov 2025 02:31:50 +0100 (CET) Received: from mail-yw1-f226.google.com (mail-yw1-f226.google.com [209.85.128.226]) by mails.dpdk.org (Postfix) with ESMTP id 52F5640151 for ; Fri, 14 Nov 2025 02:31:49 +0100 (CET) Received: by mail-yw1-f226.google.com with SMTP id 00721157ae682-786a822e73aso16826357b3.3 for ; Thu, 13 Nov 2025 17:31:49 -0800 (PST) DKIM-Signature: v=1; a=rsa-sha256; c=relaxed/relaxed; d=iol.unh.edu; s=unh-iol; t=1763083908; x=1763688708; darn=dpdk.org; h=references:in-reply-to:cc:to:from:subject:message-id:date:from:to :cc:subject:date:message-id:reply-to; bh=JN4A7dOFFj5LW12sfPlHGhE7hDZkE8yJ3SbwVZAkYcU=; b=YFP9Br+TiEtVGdJ0lc+3+A8NrvfHBvrKLcZAXCU3MsLfpiTouEXWh62irA6U4IOlzl HwE8nLVRZd+GGECqFs5etvCPFCGU33b0tgMWly5txfkHQtNMJZ21lMEUljpM5bD0e/Aw eEtlZCppyeg9o7yP1stdTFlgHik17ir2BwfSI= X-Google-DKIM-Signature: v=1; a=rsa-sha256; c=relaxed/relaxed; d=1e100.net; s=20230601; t=1763083908; x=1763688708; h=references:in-reply-to:cc:to:from:subject:message-id:date:x-gm-gg :x-gm-message-state:from:to:cc:subject:date:message-id:reply-to; bh=JN4A7dOFFj5LW12sfPlHGhE7hDZkE8yJ3SbwVZAkYcU=; b=bmpX9AcMHA6z3OtDefOjjTTBnXLMjk+C3NiKTHyq7idezEzZfnRP5yXx0T9Ps+Xn0Z oo6Ol/+d+hlDVTRRRvjUu/qKJBOINpsO0RQZ2DWiCVCfxsrc8e5AbOgoQNinQNhCktCh s/NBVeLHPrXISI4xKOdVK9+1am0DF0fNNeQH8ahriJp6fv0ymsh+dlMFhuz5uy4G47i2 UCnjOvA1Q2/KJ9WxCxIy6nyMtWZ1pr+rz9jgHchQVc5/CfvX4E2Naip5Iy4KWyYiOyaZ 6zO7dNygT/2H8iLutasb2Mh0uxhoIQ0VyXCGpbnB6yjkVQ0JvaEOu0snpjMFOLyKkitr DBuA== X-Gm-Message-State: AOJu0YxLFic93UfMr2S50uiEH1dwtOWURLcO+PTq5/6PA1jvDn7/vYDx 5zGqTa7XhQHQj2j+qRDs6dlwSHRas+7pRdiicvoR1fxDwLQnxJ49RhYcfmBYm8ER7Sl1YtkUwDH NepWdEL81tpAWYNEUtaVnWUaZ2pmRz4yIxA2M4yKwfGZG X-Gm-Gg: ASbGnctu9/5CZ9wclPOe8GXIT+NTYWRymCAwmtvDmjJhFbjAw2PDJvc4PgYXGxn2w6N dHMFqbdG8KjYFxERxufHqOiLQLKCJ9cRP6FTxFmiVvzMy9fTZ2zzZm8US1moyxNKDJVyTuTkV6i t7d0L+1O/BWPCLGGKSNTtQnp00hSGQmDJowMsu95kws9A+IhB3LPn0PrfR/vzIcRcBVoQtCfFAH IoMPSogeC7+G7gK2e4Idwoepzdx/xcCws4yJXM/YiX2sPwlGN1ci81z1q3EmoQrnw8LhnxCM+DN KXhC4fkp9sWxRMa3mCXwwGHZBCjY0uPqdjPp3xrpyoiD70HGPRdnKhFdAJHQ0kVoEyWhPkGoAaj VKiY+8e/132Dlc3F6uv4VsOn1TKt8u2k= X-Google-Smtp-Source: AGHT+IGjmLSY1lSOUKEleisWEHTMmOey2Cdqw51vjlcxRbILZ70s1r2GJ290QvDzTK9LIeHCbWF1VoRMO2hW X-Received: by 2002:a05:690c:48c8:b0:787:f72d:2a5d with SMTP id 00721157ae682-78929e3eaf0mr11791327b3.2.1763083908659; Thu, 13 Nov 2025 17:31:48 -0800 (PST) Received: from postal.iol.unh.edu (postal.iol.unh.edu. [132.177.123.84]) by smtp-relay.gmail.com with ESMTPS id 00721157ae682-78821e4f8aesm1991337b3.15.2025.11.13.17.31.48 (version=TLS1_2 cipher=ECDHE-ECDSA-AES128-GCM-SHA256 bits=128/128); Thu, 13 Nov 2025 17:31:48 -0800 (PST) X-Relaying-Domain: iol.unh.edu Date: Thu, 13 Nov 2025 17:31:48 -0800 (PST) Message-ID: <69168684.050a0220.1e5a7b.9ec8SMTPIN_ADDED_MISSING@mx.google.com> Received: from [172.21.0.2] (unknown [172.18.0.240]) by postal.iol.unh.edu (Postfix) with ESMTP id 46AA860003E8; Thu, 13 Nov 2025 20:31:48 -0500 (EST) Subject: |SUCCESS| pw158754 [PATCH] net/ice: add MAC anti-spoof disable optio From: dpdklab@iol.unh.edu To: Test Report Cc: dpdk-test-reports@iol.unh.edu, Bruce Richardson In-Reply-To: <20251113105914.34949-1-anurag.mandal@intel.com> References: <20251113105914.34949-1-anurag.mandal@intel.com> Content-Type: text/plain X-BeenThere: test-report@dpdk.org X-Mailman-Version: 2.1.29 Precedence: list List-Id: automatic DPDK test reports List-Unsubscribe: , List-Archive: List-Post: List-Help: List-Subscribe: , Errors-To: test-report-bounces@dpdk.org Test-Label: iol-compile-amd64-testing Test-Status: SUCCESS http://dpdk.org/patch/158754 _Testing PASS_ Submitter: Anurag Mandal Date: Thursday, November 13 2025 10:59:14 DPDK git baseline: Repo:dpdk-next-net-intel Branch: master CommitID:123703be5bdd0fa45e4fda14f36a0d941d1f7e63 158754 --> testing pass Upstream job id: Generic-DPDK-Compile-Meson#443965 Test environment and result as below: +-------------------------------+--------------------+-------------------------+------------------+ | Environment | dpdk_meson_compile | dpdk_llvm_clang_compile | dpdk_compile_ovs | +===============================+====================+=========================+==================+ | Ubuntu 20.04 | PASS | SKIPPED | SKIPPED | +-------------------------------+--------------------+-------------------------+------------------+ | FreeBSD 14.2 | PASS | SKIPPED | SKIPPED | +-------------------------------+--------------------+-------------------------+------------------+ | CentOS Stream 9 | PASS | SKIPPED | SKIPPED | +-------------------------------+--------------------+-------------------------+------------------+ | CentOS Stream 10 | PASS | SKIPPED | SKIPPED | +-------------------------------+--------------------+-------------------------+------------------+ | Debian GNU/Linux 12 | PASS | SKIPPED | SKIPPED | +-------------------------------+--------------------+-------------------------+------------------+ | Fedora Linux 42 | PASS | SKIPPED | PASS | +-------------------------------+--------------------+-------------------------+------------------+ | openSUSE Leap 15.6 | PASS | SKIPPED | SKIPPED | +-------------------------------+--------------------+-------------------------+------------------+ | Red Hat Enterprise Linux 8.10 | PASS | SKIPPED | SKIPPED | +-------------------------------+--------------------+-------------------------+------------------+ | Red Hat Enterprise Linux 9.5 | PASS | SKIPPED | SKIPPED | +-------------------------------+--------------------+-------------------------+------------------+ | Ubuntu 22.04 | PASS | SKIPPED | SKIPPED | +-------------------------------+--------------------+-------------------------+------------------+ | Ubuntu 24.04 | PASS | SKIPPED | PASS | +-------------------------------+--------------------+-------------------------+------------------+ | Windows Server 2022 | SKIPPED | PASS | SKIPPED | +-------------------------------+--------------------+-------------------------+------------------+ Ubuntu 20.04 Kernel: 4.19 Compiler: gcc gcc (Ubuntu 9.4.0-1ubuntu1~20.04.2) 9.4.0 FreeBSD 14.2 Kernel: 14.2-RELEASE Compiler: clang 18.1.6 CentOS Stream 9 Kernel: 5.15 Compiler: gcc gcc (GCC) 11.5.0 20240719 (Red Hat 11.5.0-11) CentOS Stream 10 Kernel: 5.15 Compiler: gcc gcc (GCC) 14.2.1 20250110 (Red Hat 14.2.1-8) Debian GNU/Linux 12 Kernel: 5.15 Compiler: gcc gcc (Debian 12.2.0-14+deb12u1) 12.2.0 Fedora Linux 42 Kernel: 5.15 Compiler: clang gcc (GCC) 15.2.1 20250808 (Red Hat 15.2.1-1) openSUSE Leap 15.6 Kernel: 5.15 Compiler: gcc gcc (SUSE Linux) 7.5.0 Red Hat Enterprise Linux 8.10 Kernel: 5.15 Compiler: gcc gcc (GCC) 8.5.0 20210514 (Red Hat 8.5.0-22) Red Hat Enterprise Linux 9.5 Kernel: 5.15 Compiler: gcc gcc (GCC) 11.5.0 20240719 (Red Hat 11.5.0-2) Ubuntu 22.04 Kernel: 5.15 Compiler: gcc gcc (Ubuntu 11.4.0-1ubuntu1~22.04) 11.4.0 Ubuntu 24.04 Kernel: 5.15 Compiler: gcc gcc (Ubuntu 13.3.0-6ubuntu2~24.04) 13.3.0 Windows Server 2022 Kernel: 10.0.20348.2031 Compiler: clang 15.0.7, gcc 14.1.0 (MinGW), and MSVC VS 19.39.33521 To view detailed results, visit: https://lab.dpdk.org/results/dashboard/patchsets/34571/ UNH-IOL DPDK Community Lab To manage your email subscriptions, visit: https://lab.dpdk.org/results/dashboard/preferences/subscriptions/