From mboxrd@z Thu Jan 1 00:00:00 1970 Return-Path: Received: from mails.dpdk.org (mails.dpdk.org [217.70.189.124]) by inbox.dpdk.org (Postfix) with ESMTP id D943C48AFF for ; Fri, 14 Nov 2025 02:36:22 +0100 (CET) Received: from mails.dpdk.org (localhost [127.0.0.1]) by mails.dpdk.org (Postfix) with ESMTP id D471F40151; Fri, 14 Nov 2025 02:36:22 +0100 (CET) Received: from mail-oa1-f97.google.com (mail-oa1-f97.google.com [209.85.160.97]) by mails.dpdk.org (Postfix) with ESMTP id 0171140151 for ; Fri, 14 Nov 2025 02:36:22 +0100 (CET) Received: by mail-oa1-f97.google.com with SMTP id 586e51a60fabf-3de7e765439so760071fac.1 for ; Thu, 13 Nov 2025 17:36:21 -0800 (PST) DKIM-Signature: v=1; a=rsa-sha256; c=relaxed/relaxed; d=iol.unh.edu; s=unh-iol; t=1763084181; x=1763688981; darn=dpdk.org; h=references:in-reply-to:cc:to:from:subject:message-id:date:from:to :cc:subject:date:message-id:reply-to; bh=iA4vNsPSHlzygUI9rMgMP09eNEPNwMY9cLZ3fr1gb6o=; b=diFzEWg2R6VyUF4z2gXQo7HsE33b+UpRQIWuzhWgOH1A4ZJMVwyU0+h0OsiGX2AjIH SnVkmt8qTGVIP8nXFE3EFuQXMpZIRBzxk65air1GYl8HEITLz+6wVTTGg2vHvdWi/o/i 5eAF2XH+Km3do4XoFYFddJEwGMETvhcWIAWjw= X-Google-DKIM-Signature: v=1; a=rsa-sha256; c=relaxed/relaxed; d=1e100.net; s=20230601; t=1763084181; x=1763688981; h=references:in-reply-to:cc:to:from:subject:message-id:date:x-gm-gg :x-gm-message-state:from:to:cc:subject:date:message-id:reply-to; bh=iA4vNsPSHlzygUI9rMgMP09eNEPNwMY9cLZ3fr1gb6o=; b=WSSmt0+1i1DU0PjHyMlc34A6jxElC0kD4hogR72XtuVwriCi9jOCxcjftHV9YdVtGd wxdBSf0gOKUXJest0ywcI8BnkkgvTfglkb6n1QSHwgl8mrv1MLS4emnvvk4Wq0vA/AXF mXYumyBLi7R/yCisVTeY1DRQO8l4fmrddVT7FfU+t3Ibj6ruiPQSXraudim55QnaYPpR 4Dh302nJttv0t1UUVPiAqsT8DKULo5w++rKgVbIHxEcCDr6SKj+A+YHzLwq42OrGp8Uy s2TcUlJ1CyjGZ9vuErA+SmShv4JnopdUDWVRf84t3zESoun69vt9HnlKWOrfOeRBm2GV XC5Q== X-Gm-Message-State: AOJu0YzOXpmIN7abwAVINk+KGUSXLNLm7tHLJ3c5WehVyG0oOU1eRFzK cgmiauX2kdqNP2F0f1EJrEK1zY+iY5ILGRqrXEu7X/F/8AHLvFMjaalTHP2Og+qL5fNMXg/sdtX /XNrf/o4Rl346tRAH4mXAWVMmcEEKb/87U46f1VN6ESf/8TV4JGKv6SPEXHs4 X-Gm-Gg: ASbGncuLxjoji/Vkxph82lE4+YWTP+ulf7ssllAy8R4xfjFmTNXNxBHC4WiHL16dX4w y15o/28YguKN1Yw38QddGrYGxxrigxBfwVOeapW1NF/EnQVjHeoT6ZEOghg+2klYxhH69rm28DJ k48+wHFoX+64q7WE+MAnEk8UJhleIALuIefyHx2yuBsQE6Ym9KWAQjLgR5qtzSV4PMBhIhuuofF T6LKdPUTdCoh7dnMZuzZjMY02WBBzFOSwvLvwlR4EyjfhekxTRqb3mECqTKXrIMbJimepIqZF+u 98yLaodgwoJfCISgBFdCOBkX1PCq6htQqZbLekjyTRbaGulJeOE++bDAipHplBRDOIvHJ21E9aL QKP5pORO/ X-Google-Smtp-Source: AGHT+IHlEzYKfgAYsgW8vl/bu+x5Lwsstg+N94RNPMujm1uzVyGz0bYin81QnbG27NE50miWmaswGZwZ2xqZ X-Received: by 2002:a05:6870:318b:b0:3d4:7d3d:be84 with SMTP id 586e51a60fabf-3e869075a4dmr910127fac.23.1763084181324; Thu, 13 Nov 2025 17:36:21 -0800 (PST) Received: from postal.iol.unh.edu (postal.iol.unh.edu. [2606:4100:3880:1234::84]) by smtp-relay.gmail.com with ESMTPS id 586e51a60fabf-3e8522207d3sm331208fac.12.2025.11.13.17.36.21 (version=TLS1_2 cipher=ECDHE-ECDSA-AES128-GCM-SHA256 bits=128/128); Thu, 13 Nov 2025 17:36:21 -0800 (PST) X-Relaying-Domain: iol.unh.edu Date: Thu, 13 Nov 2025 17:36:21 -0800 (PST) Message-ID: <69168795.050a0220.dc9cb.facfSMTPIN_ADDED_MISSING@mx.google.com> Received: from [172.21.0.3] (unknown [172.18.0.240]) by postal.iol.unh.edu (Postfix) with ESMTP id 938316051830; Thu, 13 Nov 2025 20:36:20 -0500 (EST) Subject: |SUCCESS| pw158754 [PATCH] net/ice: add MAC anti-spoof disable optio From: dpdklab@iol.unh.edu To: Test Report Cc: dpdk-test-reports@iol.unh.edu, Bruce Richardson In-Reply-To: <20251113105914.34949-1-anurag.mandal@intel.com> References: <20251113105914.34949-1-anurag.mandal@intel.com> Content-Type: text/plain X-BeenThere: test-report@dpdk.org X-Mailman-Version: 2.1.29 Precedence: list List-Id: automatic DPDK test reports List-Unsubscribe: , List-Archive: List-Post: List-Help: List-Subscribe: , Errors-To: test-report-bounces@dpdk.org Test-Label: iol-compile-amd64-testing Test-Status: SUCCESS http://dpdk.org/patch/158754 _Testing PASS_ Submitter: Anurag Mandal Date: Thursday, November 13 2025 10:59:14 DPDK git baseline: Repo:dpdk-next-net-intel Branch: master CommitID:123703be5bdd0fa45e4fda14f36a0d941d1f7e63 158754 --> testing pass Upstream job id: Generic-DPDK-Compile-Meson#443982 Test environment and result as below: +-------------------------------+--------------------+-------------------------+------------------+ | Environment | dpdk_meson_compile | dpdk_llvm_clang_compile | dpdk_compile_ovs | +===============================+====================+=========================+==================+ | Ubuntu 20.04 | PASS | SKIPPED | SKIPPED | +-------------------------------+--------------------+-------------------------+------------------+ | FreeBSD 14.2 | PASS | SKIPPED | SKIPPED | +-------------------------------+--------------------+-------------------------+------------------+ | CentOS Stream 9 | PASS | SKIPPED | SKIPPED | +-------------------------------+--------------------+-------------------------+------------------+ | CentOS Stream 10 | PASS | SKIPPED | SKIPPED | +-------------------------------+--------------------+-------------------------+------------------+ | Debian GNU/Linux 12 | PASS | SKIPPED | SKIPPED | +-------------------------------+--------------------+-------------------------+------------------+ | Fedora Linux 42 | PASS | SKIPPED | PASS | +-------------------------------+--------------------+-------------------------+------------------+ | openSUSE Leap 15.6 | PASS | SKIPPED | SKIPPED | +-------------------------------+--------------------+-------------------------+------------------+ | Red Hat Enterprise Linux 8.10 | PASS | SKIPPED | SKIPPED | +-------------------------------+--------------------+-------------------------+------------------+ | Red Hat Enterprise Linux 9.5 | PASS | SKIPPED | SKIPPED | +-------------------------------+--------------------+-------------------------+------------------+ | Ubuntu 22.04 | PASS | SKIPPED | SKIPPED | +-------------------------------+--------------------+-------------------------+------------------+ | Ubuntu 24.04 | PASS | SKIPPED | PASS | +-------------------------------+--------------------+-------------------------+------------------+ | Alpine Linux 3.22.0 | PASS | SKIPPED | SKIPPED | +-------------------------------+--------------------+-------------------------+------------------+ | Windows Server 2022 | SKIPPED | PASS | SKIPPED | +-------------------------------+--------------------+-------------------------+------------------+ Ubuntu 20.04 Kernel: 4.19 Compiler: gcc gcc (Ubuntu 9.4.0-1ubuntu1~20.04.2) 9.4.0 FreeBSD 14.2 Kernel: 14.2-RELEASE Compiler: clang 18.1.6 CentOS Stream 9 Kernel: 5.15 Compiler: gcc gcc (GCC) 11.5.0 20240719 (Red Hat 11.5.0-11) CentOS Stream 10 Kernel: 5.15 Compiler: gcc gcc (GCC) 14.2.1 20250110 (Red Hat 14.2.1-8) Debian GNU/Linux 12 Kernel: 5.15 Compiler: gcc gcc (Debian 12.2.0-14+deb12u1) 12.2.0 Fedora Linux 42 Kernel: 5.15 Compiler: clang gcc (GCC) 15.2.1 20250808 (Red Hat 15.2.1-1) openSUSE Leap 15.6 Kernel: 5.15 Compiler: gcc gcc (SUSE Linux) 7.5.0 Red Hat Enterprise Linux 8.10 Kernel: 5.15 Compiler: gcc gcc (GCC) 8.5.0 20210514 (Red Hat 8.5.0-22) Red Hat Enterprise Linux 9.5 Kernel: 5.15 Compiler: gcc gcc (GCC) 11.5.0 20240719 (Red Hat 11.5.0-2) Ubuntu 22.04 Kernel: 5.15 Compiler: gcc gcc (Ubuntu 11.4.0-1ubuntu1~22.04) 11.4.0 Ubuntu 24.04 Kernel: 5.15 Compiler: gcc gcc (Ubuntu 13.3.0-6ubuntu2~24.04) 13.3.0 Alpine Linux 3.22.0 Kernel: 5.15 Compiler: gcc gcc (Alpine 14.2.0) 14.2.0 Windows Server 2022 Kernel: 10.0.20348.2031 Compiler: clang 15.0.7, gcc 14.1.0 (MinGW), and MSVC VS 19.39.33521 To view detailed results, visit: https://lab.dpdk.org/results/dashboard/patchsets/34571/ UNH-IOL DPDK Community Lab To manage your email subscriptions, visit: https://lab.dpdk.org/results/dashboard/preferences/subscriptions/