From mboxrd@z Thu Jan 1 00:00:00 1970 Return-Path: Received: from mails.dpdk.org (mails.dpdk.org [217.70.189.124]) by inbox.dpdk.org (Postfix) with ESMTP id C58FF48AFF for ; Fri, 14 Nov 2025 02:44:42 +0100 (CET) Received: from mails.dpdk.org (localhost [127.0.0.1]) by mails.dpdk.org (Postfix) with ESMTP id A194840151; Fri, 14 Nov 2025 02:44:42 +0100 (CET) Received: from mail-qt1-f227.google.com (mail-qt1-f227.google.com [209.85.160.227]) by mails.dpdk.org (Postfix) with ESMTP id 18E8440151 for ; Fri, 14 Nov 2025 02:44:41 +0100 (CET) Received: by mail-qt1-f227.google.com with SMTP id d75a77b69052e-4ed86157911so15290321cf.3 for ; Thu, 13 Nov 2025 17:44:40 -0800 (PST) DKIM-Signature: v=1; a=rsa-sha256; c=relaxed/relaxed; d=iol.unh.edu; s=unh-iol; t=1763084680; x=1763689480; darn=dpdk.org; h=cc:to:from:subject:message-id:date:from:to:cc:subject:date :message-id:reply-to; bh=OW64yJ/0IBIci0a1MvIZHzU2W7U8pWDGDjZieTe6f0Y=; b=DD+edy8CSLHKqCf3GGGSdvq+4D+QN/MwULLgeAIVmP1wxC9JvajvnKGoPiWKfAS//3 kz6EnSO1+Hj1bUGM1HoWzQKHyZtaaOGHXvyvNTyNZmGuXP16jVyjZj99cAKvP507SG9V ijWOaIGNdll8DR0TW1MYN0nKABfu+4MLfTPq4= X-Google-DKIM-Signature: v=1; a=rsa-sha256; c=relaxed/relaxed; d=1e100.net; s=20230601; t=1763084680; x=1763689480; h=cc:to:from:subject:message-id:date:x-gm-gg:x-gm-message-state:from :to:cc:subject:date:message-id:reply-to; bh=OW64yJ/0IBIci0a1MvIZHzU2W7U8pWDGDjZieTe6f0Y=; b=ITIyDgdXuQ6BGFw8hr7r1KLW9tweKvlOYcRdAhh23RkpS0TiWDlVczfzOaoJUadkOd Teb3ywr+htxrXfclKzJ6Yzg826NySSr8wjIsOSXsHVbxyLxwnh/Ks34fdLKl5QwEgDYT YgApX44zC8NrAYz7ltMIksb5StsTfjVL5sdR/mgCVlCeyrr/v0/TNrV/NYuBsaOBv29I hUO7N/NjkDSc5UlPvHuj+BBbjavqD5/+B0vpErolCz7zUwTm7N2R5qJVc7hPAXFNtSv9 fLTw8GW3c53Ctvd54G319TeuR7q8fl/2cst8C9d+ou4G082DM35TpS8BfsG/2/Kv+PQi q8sw== X-Gm-Message-State: AOJu0Yzgjawxvm+/nDddrJ0U/nL5PewED9jk/uXO6o8/sc1gDS1sOVYs WtzBeIGUAiq4bMdrg+SozrENs82qhvXODTsoZOCTIZvOdLj+l6IO/B1utowpuBA72GWHVjPWdlz 8KMcYdOwM8aM2OS4bxblIKvnmdt9KnJPhXszYS/iG4uCC X-Gm-Gg: ASbGncv2P6ByhMg5ff4Ht4lVpK1DeQUhhb0YyHISLkY3INJx00FO2i24P1ntVan0aDK +aJzDt3qxNiwB2et7h20I5UIg7bJr+5CNTlmGEt8RAoofmYNwbttZP/wMyqYaV1bOznS26lU4tG fBkTnU9ZHUzVL27yLeCIDYVBcxtxXAmDatR9TS/ljLncHySqjMCNm8rf81cCDoOBi2EauMvtOsj XoyVg8yj+gMD+P0NXQZ975ip0Kz6blHRS9HmAsGuOXyYfldLwUiNhu3fi1+mPsJg+6sA7Q1uBuC vZfJqeJkWShcYyGGhwXCCUMAkMBGqIk0Ne4+yscweOwofWxk1OM8YfL5j9vWyvvB9dYD3FepmeL 6IDj4Bjg6SRSFmsw8j73R/xfQ+/AYLdo= X-Google-Smtp-Source: AGHT+IHVqVOKVJxqy3/iSzJWQXxq9jLCFmoWmHhQ8VLV6USqxXGEIT/l3DgmeQAsZTX2jh/U9PJoRgkcaPAX X-Received: by 2002:ac8:7fcc:0:b0:4ec:f577:c5b4 with SMTP id d75a77b69052e-4edf2060184mr30702951cf.16.1763084680416; Thu, 13 Nov 2025 17:44:40 -0800 (PST) Received: from postal.iol.unh.edu (postal.iol.unh.edu. [132.177.123.84]) by smtp-relay.gmail.com with ESMTPS id 6a1803df08f44-88286139639sm4023616d6.0.2025.11.13.17.44.40 (version=TLS1_2 cipher=ECDHE-ECDSA-AES128-GCM-SHA256 bits=128/128); Thu, 13 Nov 2025 17:44:40 -0800 (PST) X-Relaying-Domain: iol.unh.edu Date: Thu, 13 Nov 2025 17:44:40 -0800 (PST) Message-ID: <69168988.050a0220.391baa.2addSMTPIN_ADDED_MISSING@mx.google.com> Received: from [172.21.0.2] (unknown [172.18.0.240]) by postal.iol.unh.edu (Postfix) with ESMTP id 2D7EA6051830; Thu, 13 Nov 2025 20:44:40 -0500 (EST) Subject: |SUCCESS| [GIT MASTER] be0112878b4fc3a1b918370ed2fe615c52039d77 From: dpdklab@iol.unh.edu To: Test Report Cc: dpdk-test-reports@iol.unh.edu Content-Type: text/plain X-BeenThere: test-report@dpdk.org X-Mailman-Version: 2.1.29 Precedence: list List-Id: automatic DPDK test reports List-Unsubscribe: , List-Archive: List-Post: List-Help: List-Subscribe: , Errors-To: test-report-bounces@dpdk.org _Testing PASS_ Branch: dpdk be0112878b4fc3a1b918370ed2fe615c52039d77 --> testing pass Upstream job id: Generic-Unit-Test-DPDK#392537 Test environment and result as below: +-------------------------------+----------------+ | Environment | dpdk_unit_test | +===============================+================+ | CentOS Stream 10 | PASS | +-------------------------------+----------------+ | Arch Linux 20250613.0.365270 | PASS | +-------------------------------+----------------+ | Debian GNU/Linux 12 | PASS | +-------------------------------+----------------+ | Fedora Linux 41 | PASS | +-------------------------------+----------------+ | Fedora Linux 40 | PASS | +-------------------------------+----------------+ | CentOS Stream 9 | PASS | +-------------------------------+----------------+ | Red Hat Enterprise Linux 9.5 | PASS | +-------------------------------+----------------+ | Fedora Linux 42 | PASS | +-------------------------------+----------------+ | Red Hat Enterprise Linux 8.10 | PASS | +-------------------------------+----------------+ | Ubuntu 22.04 | PASS | +-------------------------------+----------------+ | Ubuntu 24.04 | PASS | +-------------------------------+----------------+ | Ubuntu 20.04 | PASS | +-------------------------------+----------------+ CentOS Stream 10 Kernel: 5.15 Compiler: gcc gcc (GCC) 14.2.1 20250110 (Red Hat 14.2.1-8) Arch Linux 20250613.0.365270 Kernel: 5.15 Compiler: gcc gcc (GCC) 15.1.1 20250425 Debian GNU/Linux 12 Kernel: 5.15 Compiler: gcc gcc (Debian 12.2.0-14+deb12u1) 12.2.0 Fedora Linux 41 Kernel: 5.15 Compiler: gcc gcc (GCC) 14.3.1 20250523 (Red Hat 14.3.1-1) Fedora Linux 40 Kernel: 5.15 Compiler: gcc gcc (GCC) 14.2.1 20240912 (Red Hat 14.2.1-3) CentOS Stream 9 Kernel: 5.15 Compiler: gcc gcc (GCC) 11.5.0 20240719 (Red Hat 11.5.0-11) Red Hat Enterprise Linux 9.5 Kernel: 5.15 Compiler: gcc gcc (GCC) 11.5.0 20240719 (Red Hat 11.5.0-2) Fedora Linux 42 Kernel: 5.15 Compiler: gcc gcc (GCC) 15.2.1 20250808 (Red Hat 15.2.1-1) Red Hat Enterprise Linux 8.10 Kernel: 5.15 Compiler: gcc gcc (GCC) 8.5.0 20210514 (Red Hat 8.5.0-22) Ubuntu 22.04 Kernel: 5.15 Compiler: gcc gcc (Ubuntu 11.4.0-1ubuntu1~22.04) 11.4.0 Ubuntu 24.04 Kernel: 5.15 Compiler: gcc gcc (Ubuntu 13.3.0-6ubuntu2~24.04) 13.3.0 Ubuntu 20.04 Kernel: 5.15 Compiler: gcc gcc (Ubuntu 9.4.0-1ubuntu1~20.04.2) 9.4.0 To view detailed results, visit: https://lab.dpdk.org/results/dashboard/tarballs/35590/ UNH-IOL DPDK Community Lab To manage your email subscriptions, visit: https://lab.dpdk.org/results/dashboard/preferences/subscriptions/